BEGIN:VCALENDAR
PRODID:-//eluceo/ical//2.0/EN
VERSION:2.0
CALSCALE:GREGORIAN
BEGIN:VEVENT
UID:https://hbb.rivio.dev/jeugd/2023/wedstrijd/30942
DTSTAMP:20260420T150828Z
SUMMARY:Mierlo 4 - Veldhoven 1
DESCRIPTION:Baan 4\, Wedstrijdnummer 4\, Afdeling G-klasse 
DTSTART:20230910T093000
DTEND:20230910T111500
LOCATION:City Resort Helmond
ATTACH;FMTTYPE=text/plain:https://hbb.rivio.dev/jeugd/2023/wedstrijd/30942
END:VEVENT
BEGIN:VEVENT
UID:https://hbb.rivio.dev/jeugd/2023/wedstrijd/30950
DTSTAMP:20260420T150828Z
SUMMARY:Veldhoven 1 - Phoenix 2
DESCRIPTION:Baan 1\, Wedstrijdnummer 12\, Afdeling F-klasse 
DTSTART:20230917T093000
DTEND:20230917T111500
LOCATION:City Resort Helmond
ATTACH;FMTTYPE=text/plain:https://hbb.rivio.dev/jeugd/2023/wedstrijd/30950
END:VEVENT
BEGIN:VEVENT
UID:https://hbb.rivio.dev/jeugd/2023/wedstrijd/30975
DTSTAMP:20260420T150828Z
SUMMARY:Veldhoven 1 - Geldrop 1
DESCRIPTION:Baan 4\, Wedstrijdnummer 37\, Afdeling F-klasse 
DTSTART:20230924T093000
DTEND:20230924T111500
LOCATION:City Resort Helmond
ATTACH;FMTTYPE=text/plain:https://hbb.rivio.dev/jeugd/2023/wedstrijd/30975
END:VEVENT
BEGIN:VEVENT
UID:https://hbb.rivio.dev/jeugd/2023/wedstrijd/30961
DTSTAMP:20260420T150828Z
SUMMARY:'t Veertje 1 - Veldhoven 1
DESCRIPTION:Baan 1\, Wedstrijdnummer 23\, Afdeling G-klasse 
DTSTART:20231001T093000
DTEND:20231001T111500
LOCATION:City Resort Helmond
ATTACH;FMTTYPE=text/plain:https://hbb.rivio.dev/jeugd/2023/wedstrijd/30961
END:VEVENT
BEGIN:VEVENT
UID:https://hbb.rivio.dev/jeugd/2023/wedstrijd/30989
DTSTAMP:20260420T150828Z
SUMMARY:Gemert 3 - Veldhoven 1
DESCRIPTION:Baan 11\, Wedstrijdnummer 51\, Afdeling F-klasse 
DTSTART:20231008T093000
DTEND:20231008T111500
LOCATION:City Resort Helmond
ATTACH;FMTTYPE=text/plain:https://hbb.rivio.dev/jeugd/2023/wedstrijd/30989
END:VEVENT
BEGIN:VEVENT
UID:https://hbb.rivio.dev/jeugd/2023/wedstrijd/31004
DTSTAMP:20260420T150828Z
SUMMARY:Phoenix 1 - Veldhoven 1
DESCRIPTION:Baan 15\, Wedstrijdnummer 66\, Afdeling F-klasse 
DTSTART:20231029T093000
DTEND:20231029T111500
LOCATION:City Resort Helmond
ATTACH;FMTTYPE=text/plain:https://hbb.rivio.dev/jeugd/2023/wedstrijd/31004
END:VEVENT
BEGIN:VEVENT
UID:https://hbb.rivio.dev/jeugd/2023/wedstrijd/31012
DTSTAMP:20260420T150828Z
SUMMARY:RBC 1 - Veldhoven 1
DESCRIPTION:Baan 12\, Wedstrijdnummer 74\, Afdeling F-klasse 
DTSTART:20231105T093000
DTEND:20231105T111500
LOCATION:City Resort Helmond
ATTACH;FMTTYPE=text/plain:https://hbb.rivio.dev/jeugd/2023/wedstrijd/31012
END:VEVENT
BEGIN:VEVENT
UID:https://hbb.rivio.dev/jeugd/2023/wedstrijd/31025
DTSTAMP:20260420T150828Z
SUMMARY:Veldhoven 1 - Mixed 4
DESCRIPTION:Baan 14\, Wedstrijdnummer 87\, Afdeling F-klasse 
DTSTART:20231112T093000
DTEND:20231112T111500
LOCATION:City Resort Helmond
ATTACH;FMTTYPE=text/plain:https://hbb.rivio.dev/jeugd/2023/wedstrijd/31025
END:VEVENT
BEGIN:VEVENT
UID:https://hbb.rivio.dev/jeugd/2023/wedstrijd/31041
DTSTAMP:20260420T150828Z
SUMMARY:Veldhoven 1 - Mixed 5
DESCRIPTION:Baan 4\, Wedstrijdnummer 103\, Afdeling F-klasse 
DTSTART:20231126T093000
DTEND:20231126T111500
LOCATION:City Resort Helmond
ATTACH;FMTTYPE=text/plain:https://hbb.rivio.dev/jeugd/2023/wedstrijd/31041
END:VEVENT
BEGIN:VEVENT
UID:https://hbb.rivio.dev/jeugd/2023/wedstrijd/31060
DTSTAMP:20260420T150828Z
SUMMARY:Veldhoven 1 - Mixed 3
DESCRIPTION:Baan 3\, Wedstrijdnummer 122\, Afdeling F-klasse 
DTSTART:20231210T093000
DTEND:20231210T111500
LOCATION:City Resort Helmond
ATTACH;FMTTYPE=text/plain:https://hbb.rivio.dev/jeugd/2023/wedstrijd/31060
END:VEVENT
BEGIN:VEVENT
UID:https://hbb.rivio.dev/jeugd/2023/wedstrijd/32577
DTSTAMP:20260420T150828Z
SUMMARY:Veldhoven 1 - Gemert 3
DESCRIPTION:Baan 11\, Wedstrijdnummer 165\, Afdeling F-klasse 
DTSTART:20240204T093000
DTEND:20240204T111500
LOCATION:City Resort Helmond
ATTACH;FMTTYPE=text/plain:https://hbb.rivio.dev/jeugd/2023/wedstrijd/32577
END:VEVENT
BEGIN:VEVENT
UID:https://hbb.rivio.dev/jeugd/2023/wedstrijd/32584
DTSTAMP:20260420T150828Z
SUMMARY:Veldhoven 1 - Phoenix 1
DESCRIPTION:Baan 15\, Wedstrijdnummer 180\, Afdeling F-klasse 
DTSTART:20240225T093000
DTEND:20240225T111500
LOCATION:City Resort Helmond
ATTACH;FMTTYPE=text/plain:https://hbb.rivio.dev/jeugd/2023/wedstrijd/32584
END:VEVENT
BEGIN:VEVENT
UID:https://hbb.rivio.dev/jeugd/2023/wedstrijd/32587
DTSTAMP:20260420T150828Z
SUMMARY:Geldrop 1 - Veldhoven 1
DESCRIPTION:Baan 15\, Wedstrijdnummer 202\, Afdeling F-klasse 
DTSTART:20240310T093000
DTEND:20240310T111500
LOCATION:City Resort Helmond
ATTACH;FMTTYPE=text/plain:https://hbb.rivio.dev/jeugd/2023/wedstrijd/32587
END:VEVENT
BEGIN:VEVENT
UID:https://hbb.rivio.dev/jeugd/2023/wedstrijd/32588
DTSTAMP:20260420T150828Z
SUMMARY:Mixed 3 - Veldhoven 1
DESCRIPTION:Baan 10\, Wedstrijdnummer 208\, Afdeling F-klasse 
DTSTART:20240317T093000
DTEND:20240317T111500
LOCATION:City Resort Helmond
ATTACH;FMTTYPE=text/plain:https://hbb.rivio.dev/jeugd/2023/wedstrijd/32588
END:VEVENT
BEGIN:VEVENT
UID:https://hbb.rivio.dev/jeugd/2023/wedstrijd/32599
DTSTAMP:20260420T150828Z
SUMMARY:RBC 1 - Veldhoven 1
DESCRIPTION:Baan 11\, Wedstrijdnummer 264\, Afdeling F-klasse 
DTSTART:20240602T093000
DTEND:20240602T111500
LOCATION:City Resort Helmond
ATTACH;FMTTYPE=text/plain:https://hbb.rivio.dev/jeugd/2023/wedstrijd/32599
END:VEVENT
BEGIN:VTIMEZONE
TZID:Europe/Amsterdam
BEGIN:STANDARD
DTSTART:20230101T000000
TZNAME:CET
TZOFFSETTO:+0100
TZOFFSETFROM:+0100
END:STANDARD
BEGIN:DAYLIGHT
DTSTART:20230326T030000
TZNAME:CEST
TZOFFSETTO:+0200
TZOFFSETFROM:+0100
END:DAYLIGHT
BEGIN:STANDARD
DTSTART:20231029T020000
TZNAME:CET
TZOFFSETTO:+0100
TZOFFSETFROM:+0200
END:STANDARD
BEGIN:DAYLIGHT
DTSTART:20240331T030000
TZNAME:CEST
TZOFFSETTO:+0200
TZOFFSETFROM:+0100
END:DAYLIGHT
BEGIN:STANDARD
DTSTART:20241027T020000
TZNAME:CET
TZOFFSETTO:+0100
TZOFFSETFROM:+0200
END:STANDARD
END:VTIMEZONE
END:VCALENDAR
