BEGIN:VCALENDAR
PRODID:-//eluceo/ical//2.0/EN
VERSION:2.0
CALSCALE:GREGORIAN
BEGIN:VEVENT
UID:https://hbb.rivio.dev/senioren/2023/wedstrijd/32126
DTSTAMP:20260420T150606Z
SUMMARY:Hanevoet 1 - Scarabee 1
DESCRIPTION:Baan 5\, Wedstrijdnummer 30\, Afdeling Hoofdklasse 
DTSTART:20230914T200000
DTEND:20230914T230000
LOCATION:City Resort Helmond
ATTACH;FMTTYPE=text/plain:https://hbb.rivio.dev/senioren/2023/wedstrijd/321
 26
END:VEVENT
BEGIN:VEVENT
UID:https://hbb.rivio.dev/senioren/2023/wedstrijd/32145
DTSTAMP:20260420T150606Z
SUMMARY:Scarabee 1 - Bakel 2
DESCRIPTION:Baan 4\, Wedstrijdnummer 32\, Afdeling Hoofdklasse 
DTSTART:20230927T200000
DTEND:20230927T230000
LOCATION:City Resort Helmond
ATTACH;FMTTYPE=text/plain:https://hbb.rivio.dev/senioren/2023/wedstrijd/321
 45
END:VEVENT
BEGIN:VEVENT
UID:https://hbb.rivio.dev/senioren/2023/wedstrijd/32173
DTSTAMP:20260420T150606Z
SUMMARY:Scarabee 1 - Mierlo 2
DESCRIPTION:Baan 2\, Wedstrijdnummer 36\, Afdeling Hoofdklasse 
DTSTART:20231011T200000
DTEND:20231011T230000
LOCATION:City Resort Helmond
ATTACH;FMTTYPE=text/plain:https://hbb.rivio.dev/senioren/2023/wedstrijd/321
 73
END:VEVENT
BEGIN:VEVENT
UID:https://hbb.rivio.dev/senioren/2023/wedstrijd/32195
DTSTAMP:20260420T150606Z
SUMMARY:Scarabee 1 - Someren 1
DESCRIPTION:Baan 4\, Wedstrijdnummer 40\, Afdeling Hoofdklasse 
DTSTART:20231025T200000
DTEND:20231025T230000
LOCATION:City Resort Helmond
ATTACH;FMTTYPE=text/plain:https://hbb.rivio.dev/senioren/2023/wedstrijd/321
 95
END:VEVENT
BEGIN:VEVENT
UID:https://hbb.rivio.dev/senioren/2023/wedstrijd/32249
DTSTAMP:20260420T150606Z
SUMMARY:RBC 1 - Scarabee 1
DESCRIPTION:Baan 13\, Wedstrijdnummer 43\, Afdeling Hoofdklasse 
DTSTART:20231116T200000
DTEND:20231116T230000
LOCATION:City Resort Helmond
ATTACH;FMTTYPE=text/plain:https://hbb.rivio.dev/senioren/2023/wedstrijd/322
 49
END:VEVENT
BEGIN:VEVENT
UID:https://hbb.rivio.dev/senioren/2023/wedstrijd/32280
DTSTAMP:20260420T150606Z
SUMMARY:Scarabee 1 - Hanevoet 1
DESCRIPTION:Baan 14\, Wedstrijdnummer 1030\, Afdeling Hoofdklasse 
DTSTART:20231206T200000
DTEND:20231206T230000
LOCATION:City Resort Helmond
ATTACH;FMTTYPE=text/plain:https://hbb.rivio.dev/senioren/2023/wedstrijd/322
 80
END:VEVENT
BEGIN:VEVENT
UID:https://hbb.rivio.dev/senioren/2023/wedstrijd/32300
DTSTAMP:20260420T150607Z
SUMMARY:Bakel 2 - Scarabee 1
DESCRIPTION:Baan 14\, Wedstrijdnummer 1032\, Afdeling Hoofdklasse 
DTSTART:20231214T200000
DTEND:20231214T230000
LOCATION:City Resort Helmond
ATTACH;FMTTYPE=text/plain:https://hbb.rivio.dev/senioren/2023/wedstrijd/323
 00
END:VEVENT
BEGIN:VEVENT
UID:https://hbb.rivio.dev/senioren/2023/wedstrijd/32355
DTSTAMP:20260420T150607Z
SUMMARY:Mierlo 2 - Scarabee 1
DESCRIPTION:Baan 4\, Wedstrijdnummer 1036\, Afdeling Hoofdklasse 
DTSTART:20240124T200000
DTEND:20240124T230000
LOCATION:City Resort Helmond
ATTACH;FMTTYPE=text/plain:https://hbb.rivio.dev/senioren/2023/wedstrijd/323
 55
END:VEVENT
BEGIN:VEVENT
UID:https://hbb.rivio.dev/senioren/2023/wedstrijd/32376
DTSTAMP:20260420T150607Z
SUMMARY:Someren 1 - Scarabee 1
DESCRIPTION:Baan 5\, Wedstrijdnummer 1040\, Afdeling Hoofdklasse 
DTSTART:20240201T200000
DTEND:20240201T230000
LOCATION:City Resort Helmond
ATTACH;FMTTYPE=text/plain:https://hbb.rivio.dev/senioren/2023/wedstrijd/323
 76
END:VEVENT
BEGIN:VEVENT
UID:https://hbb.rivio.dev/senioren/2023/wedstrijd/32407
DTSTAMP:20260420T150607Z
SUMMARY:Scarabee 1 - RBC 1
DESCRIPTION:Baan 15\, Wedstrijdnummer 1043\, Afdeling Hoofdklasse 
DTSTART:20240207T200000
DTEND:20240207T230000
LOCATION:City Resort Helmond
ATTACH;FMTTYPE=text/plain:https://hbb.rivio.dev/senioren/2023/wedstrijd/324
 07
END:VEVENT
BEGIN:VEVENT
UID:https://hbb.rivio.dev/senioren/2023/wedstrijd/32442
DTSTAMP:20260420T150607Z
SUMMARY:Hanevoet 1 - Scarabee 1
DESCRIPTION:Baan 1\, Wedstrijdnummer 2030\, Afdeling Hoofdklasse 
DTSTART:20240307T200000
DTEND:20240307T230000
LOCATION:City Resort Helmond
ATTACH;FMTTYPE=text/plain:https://hbb.rivio.dev/senioren/2023/wedstrijd/324
 42
END:VEVENT
BEGIN:VEVENT
UID:https://hbb.rivio.dev/senioren/2023/wedstrijd/32484
DTSTAMP:20260420T150607Z
SUMMARY:Scarabee 1 - Bakel 2
DESCRIPTION:Baan 3\, Wedstrijdnummer 2032\, Afdeling Hoofdklasse 
DTSTART:20240403T200000
DTEND:20240403T230000
LOCATION:City Resort Helmond
ATTACH;FMTTYPE=text/plain:https://hbb.rivio.dev/senioren/2023/wedstrijd/324
 84
END:VEVENT
BEGIN:VEVENT
UID:https://hbb.rivio.dev/senioren/2023/wedstrijd/32506
DTSTAMP:20260420T150607Z
SUMMARY:Scarabee 1 - Mierlo 2
DESCRIPTION:Baan 5\, Wedstrijdnummer 2036\, Afdeling Hoofdklasse 
DTSTART:20240417T200000
DTEND:20240417T230000
LOCATION:City Resort Helmond
ATTACH;FMTTYPE=text/plain:https://hbb.rivio.dev/senioren/2023/wedstrijd/325
 06
END:VEVENT
BEGIN:VEVENT
UID:https://hbb.rivio.dev/senioren/2023/wedstrijd/32538
DTSTAMP:20260420T150607Z
SUMMARY:Scarabee 1 - Someren 1
DESCRIPTION:Baan 12\, Wedstrijdnummer 2040\, Afdeling Hoofdklasse 
DTSTART:20240515T200000
DTEND:20240515T230000
LOCATION:City Resort Helmond
ATTACH;FMTTYPE=text/plain:https://hbb.rivio.dev/senioren/2023/wedstrijd/325
 38
END:VEVENT
BEGIN:VEVENT
UID:https://hbb.rivio.dev/senioren/2023/wedstrijd/32576
DTSTAMP:20260420T150607Z
SUMMARY:RBC 1 - Scarabee 1
DESCRIPTION:Baan 13\, Wedstrijdnummer 2043\, Afdeling Hoofdklasse 
DTSTART:20240530T200000
DTEND:20240530T230000
LOCATION:City Resort Helmond
ATTACH;FMTTYPE=text/plain:https://hbb.rivio.dev/senioren/2023/wedstrijd/325
 76
END:VEVENT
BEGIN:VTIMEZONE
TZID:Europe/Amsterdam
BEGIN:STANDARD
DTSTART:20230101T000000
TZNAME:CET
TZOFFSETTO:+0100
TZOFFSETFROM:+0100
END:STANDARD
BEGIN:DAYLIGHT
DTSTART:20230326T030000
TZNAME:CEST
TZOFFSETTO:+0200
TZOFFSETFROM:+0100
END:DAYLIGHT
BEGIN:STANDARD
DTSTART:20231029T020000
TZNAME:CET
TZOFFSETTO:+0100
TZOFFSETFROM:+0200
END:STANDARD
BEGIN:DAYLIGHT
DTSTART:20240331T030000
TZNAME:CEST
TZOFFSETTO:+0200
TZOFFSETFROM:+0100
END:DAYLIGHT
BEGIN:STANDARD
DTSTART:20241027T020000
TZNAME:CET
TZOFFSETTO:+0100
TZOFFSETFROM:+0200
END:STANDARD
END:VTIMEZONE
END:VCALENDAR
