BEGIN:VCALENDAR
PRODID:-//eluceo/ical//2.0/EN
VERSION:2.0
CALSCALE:GREGORIAN
BEGIN:VEVENT
UID:https://hbb.rivio.dev/senioren/2023/wedstrijd/32131
DTSTAMP:20260420T203120Z
SUMMARY:Eindhoven 1 - Phoenix 3
DESCRIPTION:Baan 15\, Wedstrijdnummer 66\, Afdeling 1e klasse 
DTSTART:20230914T200000
DTEND:20230914T230000
LOCATION:City Resort Helmond
ATTACH;FMTTYPE=text/plain:https://hbb.rivio.dev/senioren/2023/wedstrijd/321
 31
END:VEVENT
BEGIN:VEVENT
UID:https://hbb.rivio.dev/senioren/2023/wedstrijd/32158
DTSTAMP:20260420T203120Z
SUMMARY:Eindhoven 1 - Geldrop 1
DESCRIPTION:Baan 12\, Wedstrijdnummer 70\, Afdeling 1e klasse 
DTSTART:20230928T200000
DTEND:20230928T230000
LOCATION:City Resort Helmond
ATTACH;FMTTYPE=text/plain:https://hbb.rivio.dev/senioren/2023/wedstrijd/321
 58
END:VEVENT
BEGIN:VEVENT
UID:https://hbb.rivio.dev/senioren/2023/wedstrijd/32202
DTSTAMP:20260420T203120Z
SUMMARY:De Valken 3 - Eindhoven 1
DESCRIPTION:Baan 1\, Wedstrijdnummer 73\, Afdeling 1e klasse 
DTSTART:20231026T200000
DTEND:20231026T230000
LOCATION:City Resort Helmond
ATTACH;FMTTYPE=text/plain:https://hbb.rivio.dev/senioren/2023/wedstrijd/322
 02
END:VEVENT
BEGIN:VEVENT
UID:https://hbb.rivio.dev/senioren/2023/wedstrijd/32233
DTSTAMP:20260420T203120Z
SUMMARY:Someren 2 - Eindhoven 1
DESCRIPTION:Baan 2\, Wedstrijdnummer 76\, Afdeling 1e klasse 
DTSTART:20231109T200000
DTEND:20231109T230000
LOCATION:City Resort Helmond
ATTACH;FMTTYPE=text/plain:https://hbb.rivio.dev/senioren/2023/wedstrijd/322
 33
END:VEVENT
BEGIN:VEVENT
UID:https://hbb.rivio.dev/senioren/2023/wedstrijd/32252
DTSTAMP:20260420T203120Z
SUMMARY:Hanevoet 2 - Eindhoven 1
DESCRIPTION:Baan 1\, Wedstrijdnummer 78\, Afdeling 1e klasse 
DTSTART:20231123T200000
DTEND:20231123T230000
LOCATION:City Resort Helmond
ATTACH;FMTTYPE=text/plain:https://hbb.rivio.dev/senioren/2023/wedstrijd/322
 52
END:VEVENT
BEGIN:VEVENT
UID:https://hbb.rivio.dev/senioren/2023/wedstrijd/32283
DTSTAMP:20260420T203120Z
SUMMARY:Eindhoven 1 - ASML 1
DESCRIPTION:Baan 2\, Wedstrijdnummer 80\, Afdeling 1e klasse 
DTSTART:20231207T200000
DTEND:20231207T230000
LOCATION:City Resort Helmond
ATTACH;FMTTYPE=text/plain:https://hbb.rivio.dev/senioren/2023/wedstrijd/322
 83
END:VEVENT
BEGIN:VEVENT
UID:https://hbb.rivio.dev/senioren/2023/wedstrijd/32358
DTSTAMP:20260420T203120Z
SUMMARY:Phoenix 3 - Eindhoven 1
DESCRIPTION:Baan 12\, Wedstrijdnummer 1066\, Afdeling 1e klasse 
DTSTART:20240124T200000
DTEND:20240124T230000
LOCATION:City Resort Helmond
ATTACH;FMTTYPE=text/plain:https://hbb.rivio.dev/senioren/2023/wedstrijd/323
 58
END:VEVENT
BEGIN:VEVENT
UID:https://hbb.rivio.dev/senioren/2023/wedstrijd/32389
DTSTAMP:20260420T203120Z
SUMMARY:Geldrop 1 - Eindhoven 1
DESCRIPTION:Baan 13\, Wedstrijdnummer 1070\, Afdeling 1e klasse 
DTSTART:20240207T200000
DTEND:20240207T230000
LOCATION:City Resort Helmond
ATTACH;FMTTYPE=text/plain:https://hbb.rivio.dev/senioren/2023/wedstrijd/323
 89
END:VEVENT
BEGIN:VEVENT
UID:https://hbb.rivio.dev/senioren/2023/wedstrijd/32419
DTSTAMP:20260420T203120Z
SUMMARY:Eindhoven 1 - De Valken 3
DESCRIPTION:Baan 13\, Wedstrijdnummer 1073\, Afdeling 1e klasse 
DTSTART:20240222T200000
DTEND:20240222T230000
LOCATION:City Resort Helmond
ATTACH;FMTTYPE=text/plain:https://hbb.rivio.dev/senioren/2023/wedstrijd/324
 19
END:VEVENT
BEGIN:VEVENT
UID:https://hbb.rivio.dev/senioren/2023/wedstrijd/32448
DTSTAMP:20260420T203120Z
SUMMARY:Eindhoven 1 - Someren 2
DESCRIPTION:Baan 12\, Wedstrijdnummer 1076\, Afdeling 1e klasse 
DTSTART:20240307T200000
DTEND:20240307T230000
LOCATION:City Resort Helmond
ATTACH;FMTTYPE=text/plain:https://hbb.rivio.dev/senioren/2023/wedstrijd/324
 48
END:VEVENT
BEGIN:VEVENT
UID:https://hbb.rivio.dev/senioren/2023/wedstrijd/32478
DTSTAMP:20260420T203120Z
SUMMARY:Eindhoven 1 - Hanevoet 2
DESCRIPTION:Baan 12\, Wedstrijdnummer 1078\, Afdeling 1e klasse 
DTSTART:20240328T200000
DTEND:20240328T230000
LOCATION:City Resort Helmond
ATTACH;FMTTYPE=text/plain:https://hbb.rivio.dev/senioren/2023/wedstrijd/324
 78
END:VEVENT
BEGIN:VEVENT
UID:https://hbb.rivio.dev/senioren/2023/wedstrijd/32519
DTSTAMP:20260420T203120Z
SUMMARY:ASML 1 - Eindhoven 1
DESCRIPTION:Baan 13\, Wedstrijdnummer 1080\, Afdeling 1e klasse 
DTSTART:20240418T200000
DTEND:20240418T230000
LOCATION:City Resort Helmond
ATTACH;FMTTYPE=text/plain:https://hbb.rivio.dev/senioren/2023/wedstrijd/325
 19
END:VEVENT
BEGIN:VTIMEZONE
TZID:Europe/Amsterdam
BEGIN:STANDARD
DTSTART:20230101T000000
TZNAME:CET
TZOFFSETTO:+0100
TZOFFSETFROM:+0100
END:STANDARD
BEGIN:DAYLIGHT
DTSTART:20230326T030000
TZNAME:CEST
TZOFFSETTO:+0200
TZOFFSETFROM:+0100
END:DAYLIGHT
BEGIN:STANDARD
DTSTART:20231029T020000
TZNAME:CET
TZOFFSETTO:+0100
TZOFFSETFROM:+0200
END:STANDARD
BEGIN:DAYLIGHT
DTSTART:20240331T030000
TZNAME:CEST
TZOFFSETTO:+0200
TZOFFSETFROM:+0100
END:DAYLIGHT
BEGIN:STANDARD
DTSTART:20241027T020000
TZNAME:CET
TZOFFSETTO:+0100
TZOFFSETFROM:+0200
END:STANDARD
END:VTIMEZONE
END:VCALENDAR
