BEGIN:VCALENDAR
PRODID:-//eluceo/ical//2.0/EN
VERSION:2.0
CALSCALE:GREGORIAN
BEGIN:VEVENT
UID:https://hbb.rivio.dev/senioren/2023/wedstrijd/32140
DTSTAMP:20260420T151549Z
SUMMARY:Heiakker 1 - Rudra 1
DESCRIPTION:Baan 14\, Wedstrijdnummer 146\, Afdeling 3e klasse II
DTSTART:20230921T200000
DTEND:20230921T230000
LOCATION:City Resort Helmond
ATTACH;FMTTYPE=text/plain:https://hbb.rivio.dev/senioren/2023/wedstrijd/321
 40
END:VEVENT
BEGIN:VEVENT
UID:https://hbb.rivio.dev/senioren/2023/wedstrijd/32184
DTSTAMP:20260420T151549Z
SUMMARY:Someren 4 - Rudra 1
DESCRIPTION:Baan 3\, Wedstrijdnummer 149\, Afdeling 3e klasse II
DTSTART:20231012T200000
DTEND:20231012T230000
LOCATION:City Resort Helmond
ATTACH;FMTTYPE=text/plain:https://hbb.rivio.dev/senioren/2023/wedstrijd/321
 84
END:VEVENT
BEGIN:VEVENT
UID:https://hbb.rivio.dev/senioren/2023/wedstrijd/32194
DTSTAMP:20260420T151549Z
SUMMARY:Gemert 1 - Rudra 1
DESCRIPTION:Baan 3\, Wedstrijdnummer 152\, Afdeling 3e klasse II
DTSTART:20231025T200000
DTEND:20231025T230000
LOCATION:City Resort Helmond
ATTACH;FMTTYPE=text/plain:https://hbb.rivio.dev/senioren/2023/wedstrijd/321
 94
END:VEVENT
BEGIN:VEVENT
UID:https://hbb.rivio.dev/senioren/2023/wedstrijd/32228
DTSTAMP:20260420T151549Z
SUMMARY:Rudra 1 - Mierlo 7
DESCRIPTION:Baan 12\, Wedstrijdnummer 157\, Afdeling 3e klasse II
DTSTART:20231108T200000
DTEND:20231108T230000
LOCATION:City Resort Helmond
ATTACH;FMTTYPE=text/plain:https://hbb.rivio.dev/senioren/2023/wedstrijd/322
 28
END:VEVENT
BEGIN:VEVENT
UID:https://hbb.rivio.dev/senioren/2023/wedstrijd/32279
DTSTAMP:20260420T151549Z
SUMMARY:Rudra 1 - Geldrop 2
DESCRIPTION:Baan 13\, Wedstrijdnummer 162\, Afdeling 3e klasse II
DTSTART:20231206T200000
DTEND:20231206T230000
LOCATION:City Resort Helmond
ATTACH;FMTTYPE=text/plain:https://hbb.rivio.dev/senioren/2023/wedstrijd/322
 79
END:VEVENT
BEGIN:VEVENT
UID:https://hbb.rivio.dev/senioren/2023/wedstrijd/32299
DTSTAMP:20260420T151549Z
SUMMARY:Rudra 1 - Smashing Bruang 2
DESCRIPTION:Baan 13\, Wedstrijdnummer 167\, Afdeling 3e klasse II
DTSTART:20231214T200000
DTEND:20231214T230000
LOCATION:City Resort Helmond
ATTACH;FMTTYPE=text/plain:https://hbb.rivio.dev/senioren/2023/wedstrijd/322
 99
END:VEVENT
BEGIN:VEVENT
UID:https://hbb.rivio.dev/senioren/2023/wedstrijd/32339
DTSTAMP:20260420T151549Z
SUMMARY:Never Down 1 - Rudra 1
DESCRIPTION:Baan 13\, Wedstrijdnummer 171\, Afdeling 3e klasse II
DTSTART:20240111T200000
DTEND:20240111T230000
LOCATION:City Resort Helmond
ATTACH;FMTTYPE=text/plain:https://hbb.rivio.dev/senioren/2023/wedstrijd/323
 39
END:VEVENT
BEGIN:VEVENT
UID:https://hbb.rivio.dev/senioren/2023/wedstrijd/32366
DTSTAMP:20260420T151549Z
SUMMARY:Rudra 1 - Heiakker 1
DESCRIPTION:Baan 5\, Wedstrijdnummer 1146\, Afdeling 3e klasse II
DTSTART:20240125T200000
DTEND:20240125T230000
LOCATION:City Resort Helmond
ATTACH;FMTTYPE=text/plain:https://hbb.rivio.dev/senioren/2023/wedstrijd/323
 66
END:VEVENT
BEGIN:VEVENT
UID:https://hbb.rivio.dev/senioren/2023/wedstrijd/32400
DTSTAMP:20260420T151549Z
SUMMARY:Rudra 1 - Someren 4
DESCRIPTION:Baan 14\, Wedstrijdnummer 1149\, Afdeling 3e klasse II
DTSTART:20240208T200000
DTEND:20240208T230000
LOCATION:City Resort Helmond
ATTACH;FMTTYPE=text/plain:https://hbb.rivio.dev/senioren/2023/wedstrijd/324
 00
END:VEVENT
BEGIN:VEVENT
UID:https://hbb.rivio.dev/senioren/2023/wedstrijd/32452
DTSTAMP:20260420T151549Z
SUMMARY:Rudra 1 - Gemert 1
DESCRIPTION:Baan 1\, Wedstrijdnummer 1152\, Afdeling 3e klasse II
DTSTART:20240320T200000
DTEND:20240320T230000
LOCATION:City Resort Helmond
ATTACH;FMTTYPE=text/plain:https://hbb.rivio.dev/senioren/2023/wedstrijd/324
 52
END:VEVENT
BEGIN:VEVENT
UID:https://hbb.rivio.dev/senioren/2023/wedstrijd/32483
DTSTAMP:20260420T151549Z
SUMMARY:Mierlo 7 - Rudra 1
DESCRIPTION:Baan 2\, Wedstrijdnummer 1157\, Afdeling 3e klasse II
DTSTART:20240403T200000
DTEND:20240403T230000
LOCATION:City Resort Helmond
ATTACH;FMTTYPE=text/plain:https://hbb.rivio.dev/senioren/2023/wedstrijd/324
 83
END:VEVENT
BEGIN:VEVENT
UID:https://hbb.rivio.dev/senioren/2023/wedstrijd/32505
DTSTAMP:20260420T151549Z
SUMMARY:Geldrop 2 - Rudra 1
DESCRIPTION:Baan 4\, Wedstrijdnummer 1162\, Afdeling 3e klasse II
DTSTART:20240417T200000
DTEND:20240417T230000
LOCATION:City Resort Helmond
ATTACH;FMTTYPE=text/plain:https://hbb.rivio.dev/senioren/2023/wedstrijd/325
 05
END:VEVENT
BEGIN:VEVENT
UID:https://hbb.rivio.dev/senioren/2023/wedstrijd/32544
DTSTAMP:20260420T151549Z
SUMMARY:Smashing Bruang 2 - Rudra 1
DESCRIPTION:Baan 3\, Wedstrijdnummer 1167\, Afdeling 3e klasse II
DTSTART:20240516T200000
DTEND:20240516T230000
LOCATION:City Resort Helmond
ATTACH;FMTTYPE=text/plain:https://hbb.rivio.dev/senioren/2023/wedstrijd/325
 44
END:VEVENT
BEGIN:VEVENT
UID:https://hbb.rivio.dev/senioren/2023/wedstrijd/32573
DTSTAMP:20260420T151549Z
SUMMARY:Rudra 1 - Never Down 1
DESCRIPTION:Baan 5\, Wedstrijdnummer 1171\, Afdeling 3e klasse II
DTSTART:20240530T200000
DTEND:20240530T230000
LOCATION:City Resort Helmond
ATTACH;FMTTYPE=text/plain:https://hbb.rivio.dev/senioren/2023/wedstrijd/325
 73
END:VEVENT
BEGIN:VTIMEZONE
TZID:Europe/Amsterdam
BEGIN:STANDARD
DTSTART:20230101T000000
TZNAME:CET
TZOFFSETTO:+0100
TZOFFSETFROM:+0100
END:STANDARD
BEGIN:DAYLIGHT
DTSTART:20230326T030000
TZNAME:CEST
TZOFFSETTO:+0200
TZOFFSETFROM:+0100
END:DAYLIGHT
BEGIN:STANDARD
DTSTART:20231029T020000
TZNAME:CET
TZOFFSETTO:+0100
TZOFFSETFROM:+0200
END:STANDARD
BEGIN:DAYLIGHT
DTSTART:20240331T030000
TZNAME:CEST
TZOFFSETTO:+0200
TZOFFSETFROM:+0100
END:DAYLIGHT
BEGIN:STANDARD
DTSTART:20241027T020000
TZNAME:CET
TZOFFSETTO:+0100
TZOFFSETFROM:+0200
END:STANDARD
END:VTIMEZONE
END:VCALENDAR
