BEGIN:VCALENDAR
PRODID:-//eluceo/ical//2.0/EN
VERSION:2.0
CALSCALE:GREGORIAN
BEGIN:VEVENT
UID:https://hbb.rivio.dev/senioren/2023/wedstrijd/32116
DTSTAMP:20260420T234037Z
SUMMARY:De Valken 5 - Ganzeveer 3
DESCRIPTION:Baan 5\, Wedstrijdnummer 119\, Afdeling 3e klasse I
DTSTART:20230913T200000
DTEND:20230913T230000
LOCATION:City Resort Helmond
ATTACH;FMTTYPE=text/plain:https://hbb.rivio.dev/senioren/2023/wedstrijd/321
 16
END:VEVENT
BEGIN:VEVENT
UID:https://hbb.rivio.dev/senioren/2023/wedstrijd/32155
DTSTAMP:20260420T234037Z
SUMMARY:BCAB 1 - De Valken 5
DESCRIPTION:Baan 4\, Wedstrijdnummer 123\, Afdeling 3e klasse I
DTSTART:20230928T200000
DTEND:20230928T230000
LOCATION:City Resort Helmond
ATTACH;FMTTYPE=text/plain:https://hbb.rivio.dev/senioren/2023/wedstrijd/321
 55
END:VEVENT
BEGIN:VEVENT
UID:https://hbb.rivio.dev/senioren/2023/wedstrijd/32189
DTSTAMP:20260420T234037Z
SUMMARY:RBC 3 - De Valken 5
DESCRIPTION:Baan 13\, Wedstrijdnummer 126\, Afdeling 3e klasse I
DTSTART:20231012T200000
DTEND:20231012T230000
LOCATION:City Resort Helmond
ATTACH;FMTTYPE=text/plain:https://hbb.rivio.dev/senioren/2023/wedstrijd/321
 89
END:VEVENT
BEGIN:VEVENT
UID:https://hbb.rivio.dev/senioren/2023/wedstrijd/32197
DTSTAMP:20260420T234037Z
SUMMARY:Geldrop 3 - De Valken 5
DESCRIPTION:Baan 11\, Wedstrijdnummer 129\, Afdeling 3e klasse I
DTSTART:20231025T200000
DTEND:20231025T230000
LOCATION:City Resort Helmond
ATTACH;FMTTYPE=text/plain:https://hbb.rivio.dev/senioren/2023/wedstrijd/321
 97
END:VEVENT
BEGIN:VEVENT
UID:https://hbb.rivio.dev/senioren/2023/wedstrijd/32250
DTSTAMP:20260420T234037Z
SUMMARY:Mierlo 8 - De Valken 5
DESCRIPTION:Baan 14\, Wedstrijdnummer 132\, Afdeling 3e klasse I
DTSTART:20231116T200000
DTEND:20231116T230000
LOCATION:City Resort Helmond
ATTACH;FMTTYPE=text/plain:https://hbb.rivio.dev/senioren/2023/wedstrijd/322
 50
END:VEVENT
BEGIN:VEVENT
UID:https://hbb.rivio.dev/senioren/2023/wedstrijd/32282
DTSTAMP:20260420T234037Z
SUMMARY:De Valken 5 - ASML 3
DESCRIPTION:Baan 1\, Wedstrijdnummer 137\, Afdeling 3e klasse I
DTSTART:20231207T200000
DTEND:20231207T230000
LOCATION:City Resort Helmond
ATTACH;FMTTYPE=text/plain:https://hbb.rivio.dev/senioren/2023/wedstrijd/322
 82
END:VEVENT
BEGIN:VEVENT
UID:https://hbb.rivio.dev/senioren/2023/wedstrijd/32332
DTSTAMP:20260420T234037Z
SUMMARY:De Valken 5 - Gemert 2
DESCRIPTION:Baan 1\, Wedstrijdnummer 142\, Afdeling 3e klasse I
DTSTART:20240111T200000
DTEND:20240111T230000
LOCATION:City Resort Helmond
ATTACH;FMTTYPE=text/plain:https://hbb.rivio.dev/senioren/2023/wedstrijd/323
 32
END:VEVENT
BEGIN:VEVENT
UID:https://hbb.rivio.dev/senioren/2023/wedstrijd/32357
DTSTAMP:20260420T234037Z
SUMMARY:Ganzeveer 3 - De Valken 5
DESCRIPTION:Baan 11\, Wedstrijdnummer 1119\, Afdeling 3e klasse I
DTSTART:20240124T200000
DTEND:20240124T230000
LOCATION:City Resort Helmond
ATTACH;FMTTYPE=text/plain:https://hbb.rivio.dev/senioren/2023/wedstrijd/323
 57
END:VEVENT
BEGIN:VEVENT
UID:https://hbb.rivio.dev/senioren/2023/wedstrijd/32377
DTSTAMP:20260420T234037Z
SUMMARY:De Valken 5 - BCAB 1
DESCRIPTION:Baan 11\, Wedstrijdnummer 1123\, Afdeling 3e klasse I
DTSTART:20240201T200000
DTEND:20240201T230000
LOCATION:City Resort Helmond
ATTACH;FMTTYPE=text/plain:https://hbb.rivio.dev/senioren/2023/wedstrijd/323
 77
END:VEVENT
BEGIN:VEVENT
UID:https://hbb.rivio.dev/senioren/2023/wedstrijd/32416
DTSTAMP:20260420T234037Z
SUMMARY:De Valken 5 - RBC 3
DESCRIPTION:Baan 5\, Wedstrijdnummer 1126\, Afdeling 3e klasse I
DTSTART:20240222T200000
DTEND:20240222T230000
LOCATION:City Resort Helmond
ATTACH;FMTTYPE=text/plain:https://hbb.rivio.dev/senioren/2023/wedstrijd/324
 16
END:VEVENT
BEGIN:VEVENT
UID:https://hbb.rivio.dev/senioren/2023/wedstrijd/32444
DTSTAMP:20260420T234037Z
SUMMARY:De Valken 5 - Geldrop 3
DESCRIPTION:Baan 3\, Wedstrijdnummer 1129\, Afdeling 3e klasse I
DTSTART:20240307T200000
DTEND:20240307T230000
LOCATION:City Resort Helmond
ATTACH;FMTTYPE=text/plain:https://hbb.rivio.dev/senioren/2023/wedstrijd/324
 44
END:VEVENT
BEGIN:VEVENT
UID:https://hbb.rivio.dev/senioren/2023/wedstrijd/32475
DTSTAMP:20260420T234037Z
SUMMARY:De Valken 5 - Mierlo 8
DESCRIPTION:Baan 4\, Wedstrijdnummer 1132\, Afdeling 3e klasse I
DTSTART:20240328T200000
DTEND:20240328T230000
LOCATION:City Resort Helmond
ATTACH;FMTTYPE=text/plain:https://hbb.rivio.dev/senioren/2023/wedstrijd/324
 75
END:VEVENT
BEGIN:VEVENT
UID:https://hbb.rivio.dev/senioren/2023/wedstrijd/32517
DTSTAMP:20260420T234038Z
SUMMARY:ASML 3 - De Valken 5
DESCRIPTION:Baan 11\, Wedstrijdnummer 1137\, Afdeling 3e klasse I
DTSTART:20240418T200000
DTEND:20240418T230000
LOCATION:City Resort Helmond
ATTACH;FMTTYPE=text/plain:https://hbb.rivio.dev/senioren/2023/wedstrijd/325
 17
END:VEVENT
BEGIN:VEVENT
UID:https://hbb.rivio.dev/senioren/2023/wedstrijd/32540
DTSTAMP:20260420T234038Z
SUMMARY:Gemert 2 - De Valken 5
DESCRIPTION:Baan 14\, Wedstrijdnummer 1142\, Afdeling 3e klasse I
DTSTART:20240515T200000
DTEND:20240515T230000
LOCATION:City Resort Helmond
ATTACH;FMTTYPE=text/plain:https://hbb.rivio.dev/senioren/2023/wedstrijd/325
 40
END:VEVENT
BEGIN:VTIMEZONE
TZID:Europe/Amsterdam
BEGIN:STANDARD
DTSTART:20230101T000000
TZNAME:CET
TZOFFSETTO:+0100
TZOFFSETFROM:+0100
END:STANDARD
BEGIN:DAYLIGHT
DTSTART:20230326T030000
TZNAME:CEST
TZOFFSETTO:+0200
TZOFFSETFROM:+0100
END:DAYLIGHT
BEGIN:STANDARD
DTSTART:20231029T020000
TZNAME:CET
TZOFFSETTO:+0100
TZOFFSETFROM:+0200
END:STANDARD
BEGIN:DAYLIGHT
DTSTART:20240331T030000
TZNAME:CEST
TZOFFSETTO:+0200
TZOFFSETFROM:+0100
END:DAYLIGHT
BEGIN:STANDARD
DTSTART:20241027T020000
TZNAME:CET
TZOFFSETTO:+0100
TZOFFSETFROM:+0200
END:STANDARD
END:VTIMEZONE
END:VCALENDAR
