BEGIN:VCALENDAR
PRODID:-//eluceo/ical//2.0/EN
VERSION:2.0
CALSCALE:GREGORIAN
BEGIN:VEVENT
UID:https://hbb.rivio.dev/senioren/2023/wedstrijd/32160
DTSTAMP:20260420T151444Z
SUMMARY:De Valken 2 - Mixed 1
DESCRIPTION:Baan 14\, Wedstrijdnummer 6\, Afdeling Topklasse 
DTSTART:20230928T200000
DTEND:20230928T230000
LOCATION:City Resort Helmond
ATTACH;FMTTYPE=text/plain:https://hbb.rivio.dev/senioren/2023/wedstrijd/321
 60
END:VEVENT
BEGIN:VEVENT
UID:https://hbb.rivio.dev/senioren/2023/wedstrijd/32204
DTSTAMP:20260420T151444Z
SUMMARY:De Valken 2 - Con Brio 1
DESCRIPTION:Baan 3\, Wedstrijdnummer 11\, Afdeling Topklasse 
DTSTART:20231026T200000
DTEND:20231026T230000
LOCATION:City Resort Helmond
ATTACH;FMTTYPE=text/plain:https://hbb.rivio.dev/senioren/2023/wedstrijd/322
 04
END:VEVENT
BEGIN:VEVENT
UID:https://hbb.rivio.dev/senioren/2023/wedstrijd/32236
DTSTAMP:20260420T151444Z
SUMMARY:De Valken 2 - Bakel 1
DESCRIPTION:Baan 3\, Wedstrijdnummer 16\, Afdeling Topklasse 
DTSTART:20231109T200000
DTEND:20231109T230000
LOCATION:City Resort Helmond
ATTACH;FMTTYPE=text/plain:https://hbb.rivio.dev/senioren/2023/wedstrijd/322
 36
END:VEVENT
BEGIN:VEVENT
UID:https://hbb.rivio.dev/senioren/2023/wedstrijd/32255
DTSTAMP:20260420T151444Z
SUMMARY:Brabantia 1 - De Valken 2
DESCRIPTION:Baan 2\, Wedstrijdnummer 20\, Afdeling Topklasse 
DTSTART:20231123T200000
DTEND:20231123T230000
LOCATION:City Resort Helmond
ATTACH;FMTTYPE=text/plain:https://hbb.rivio.dev/senioren/2023/wedstrijd/322
 55
END:VEVENT
BEGIN:VEVENT
UID:https://hbb.rivio.dev/senioren/2023/wedstrijd/32292
DTSTAMP:20260420T151444Z
SUMMARY:Mierlo 1 - De Valken 2
DESCRIPTION:Baan 1\, Wedstrijdnummer 23\, Afdeling Topklasse 
DTSTART:20231214T200000
DTEND:20231214T230000
LOCATION:City Resort Helmond
ATTACH;FMTTYPE=text/plain:https://hbb.rivio.dev/senioren/2023/wedstrijd/322
 92
END:VEVENT
BEGIN:VEVENT
UID:https://hbb.rivio.dev/senioren/2023/wedstrijd/32325
DTSTAMP:20260420T151444Z
SUMMARY:Phoenix 1 - De Valken 2
DESCRIPTION:Baan 4\, Wedstrijdnummer 26\, Afdeling Topklasse 
DTSTART:20240110T200000
DTEND:20240110T230000
LOCATION:City Resort Helmond
ATTACH;FMTTYPE=text/plain:https://hbb.rivio.dev/senioren/2023/wedstrijd/323
 25
END:VEVENT
BEGIN:VEVENT
UID:https://hbb.rivio.dev/senioren/2023/wedstrijd/32379
DTSTAMP:20260420T151444Z
SUMMARY:Mixed 1 - De Valken 2
DESCRIPTION:Baan 13\, Wedstrijdnummer 1006\, Afdeling Topklasse 
DTSTART:20240201T200000
DTEND:20240201T230000
LOCATION:City Resort Helmond
ATTACH;FMTTYPE=text/plain:https://hbb.rivio.dev/senioren/2023/wedstrijd/323
 79
END:VEVENT
BEGIN:VEVENT
UID:https://hbb.rivio.dev/senioren/2023/wedstrijd/32421
DTSTAMP:20260420T151444Z
SUMMARY:Con Brio 1 - De Valken 2
DESCRIPTION:Baan 14\, Wedstrijdnummer 1011\, Afdeling Topklasse 
DTSTART:20240222T200000
DTEND:20240222T230000
LOCATION:City Resort Helmond
ATTACH;FMTTYPE=text/plain:https://hbb.rivio.dev/senioren/2023/wedstrijd/324
 21
END:VEVENT
BEGIN:VEVENT
UID:https://hbb.rivio.dev/senioren/2023/wedstrijd/32462
DTSTAMP:20260420T151444Z
SUMMARY:Bakel 1 - De Valken 2
DESCRIPTION:Baan 1\, Wedstrijdnummer 1016\, Afdeling Topklasse 
DTSTART:20240321T200000
DTEND:20240321T230000
LOCATION:City Resort Helmond
ATTACH;FMTTYPE=text/plain:https://hbb.rivio.dev/senioren/2023/wedstrijd/324
 62
END:VEVENT
BEGIN:VEVENT
UID:https://hbb.rivio.dev/senioren/2023/wedstrijd/32481
DTSTAMP:20260420T151444Z
SUMMARY:De Valken 2 - Brabantia 1
DESCRIPTION:Baan 15\, Wedstrijdnummer 1020\, Afdeling Topklasse 
DTSTART:20240328T200000
DTEND:20240328T230000
LOCATION:City Resort Helmond
ATTACH;FMTTYPE=text/plain:https://hbb.rivio.dev/senioren/2023/wedstrijd/324
 81
END:VEVENT
BEGIN:VEVENT
UID:https://hbb.rivio.dev/senioren/2023/wedstrijd/32522
DTSTAMP:20260420T151444Z
SUMMARY:De Valken 2 - Mierlo 1
DESCRIPTION:Baan 1\, Wedstrijdnummer 1023\, Afdeling Topklasse 
DTSTART:20240411T200000
DTEND:20240411T230000
LOCATION:City Resort Helmond
ATTACH;FMTTYPE=text/plain:https://hbb.rivio.dev/senioren/2023/wedstrijd/325
 22
END:VEVENT
BEGIN:VEVENT
UID:https://hbb.rivio.dev/senioren/2023/wedstrijd/32551
DTSTAMP:20260420T151444Z
SUMMARY:De Valken 2 - Phoenix 1
DESCRIPTION:Baan 14\, Wedstrijdnummer 1026\, Afdeling Topklasse 
DTSTART:20240516T200000
DTEND:20240516T230000
LOCATION:City Resort Helmond
ATTACH;FMTTYPE=text/plain:https://hbb.rivio.dev/senioren/2023/wedstrijd/325
 51
END:VEVENT
BEGIN:VTIMEZONE
TZID:Europe/Amsterdam
BEGIN:STANDARD
DTSTART:20230101T000000
TZNAME:CET
TZOFFSETTO:+0100
TZOFFSETFROM:+0100
END:STANDARD
BEGIN:DAYLIGHT
DTSTART:20230326T030000
TZNAME:CEST
TZOFFSETTO:+0200
TZOFFSETFROM:+0100
END:DAYLIGHT
BEGIN:STANDARD
DTSTART:20231029T020000
TZNAME:CET
TZOFFSETTO:+0100
TZOFFSETFROM:+0200
END:STANDARD
BEGIN:DAYLIGHT
DTSTART:20240331T030000
TZNAME:CEST
TZOFFSETTO:+0200
TZOFFSETFROM:+0100
END:DAYLIGHT
BEGIN:STANDARD
DTSTART:20241027T020000
TZNAME:CET
TZOFFSETTO:+0100
TZOFFSETFROM:+0200
END:STANDARD
END:VTIMEZONE
END:VCALENDAR
