BEGIN:VCALENDAR
PRODID:-//eluceo/ical//2.0/EN
VERSION:2.0
CALSCALE:GREGORIAN
BEGIN:VEVENT
UID:https://hbb.rivio.dev/senioren/2023/wedstrijd/32123
DTSTAMP:20260420T182334Z
SUMMARY:De Valken 4 - RBC 2
DESCRIPTION:Baan 2\, Wedstrijdnummer 102\, Afdeling 2e klasse II
DTSTART:20230914T200000
DTEND:20230914T230000
LOCATION:City Resort Helmond
ATTACH;FMTTYPE=text/plain:https://hbb.rivio.dev/senioren/2023/wedstrijd/321
 23
END:VEVENT
BEGIN:VEVENT
UID:https://hbb.rivio.dev/senioren/2023/wedstrijd/32136
DTSTAMP:20260420T182334Z
SUMMARY:De Valken 4 - Mierlo 6
DESCRIPTION:Baan 5\, Wedstrijdnummer 106\, Afdeling 2e klasse II
DTSTART:20230921T200000
DTEND:20230921T230000
LOCATION:City Resort Helmond
ATTACH;FMTTYPE=text/plain:https://hbb.rivio.dev/senioren/2023/wedstrijd/321
 36
END:VEVENT
BEGIN:VEVENT
UID:https://hbb.rivio.dev/senioren/2023/wedstrijd/32170
DTSTAMP:20260420T182334Z
SUMMARY:Someren 3 - De Valken 4
DESCRIPTION:Baan 14\, Wedstrijdnummer 109\, Afdeling 2e klasse II
DTSTART:20231005T200000
DTEND:20231005T230000
LOCATION:City Resort Helmond
ATTACH;FMTTYPE=text/plain:https://hbb.rivio.dev/senioren/2023/wedstrijd/321
 70
END:VEVENT
BEGIN:VEVENT
UID:https://hbb.rivio.dev/senioren/2023/wedstrijd/32211
DTSTAMP:20260420T182334Z
SUMMARY:Mixed 4 - De Valken 4
DESCRIPTION:Baan 15\, Wedstrijdnummer 111\, Afdeling 2e klasse II
DTSTART:20231026T200000
DTEND:20231026T230000
LOCATION:City Resort Helmond
ATTACH;FMTTYPE=text/plain:https://hbb.rivio.dev/senioren/2023/wedstrijd/322
 11
END:VEVENT
BEGIN:VEVENT
UID:https://hbb.rivio.dev/senioren/2023/wedstrijd/32241
DTSTAMP:20260420T182334Z
SUMMARY:Bakel 4 - De Valken 4
DESCRIPTION:Baan 15\, Wedstrijdnummer 113\, Afdeling 2e klasse II
DTSTART:20231109T200000
DTEND:20231109T230000
LOCATION:City Resort Helmond
ATTACH;FMTTYPE=text/plain:https://hbb.rivio.dev/senioren/2023/wedstrijd/322
 41
END:VEVENT
BEGIN:VEVENT
UID:https://hbb.rivio.dev/senioren/2023/wedstrijd/32265
DTSTAMP:20260420T182334Z
SUMMARY:RBC 2 - De Valken 4
DESCRIPTION:Baan 4\, Wedstrijdnummer 1102\, Afdeling 2e klasse II
DTSTART:20231130T200000
DTEND:20231130T230000
LOCATION:City Resort Helmond
ATTACH;FMTTYPE=text/plain:https://hbb.rivio.dev/senioren/2023/wedstrijd/322
 65
END:VEVENT
BEGIN:VEVENT
UID:https://hbb.rivio.dev/senioren/2023/wedstrijd/32295
DTSTAMP:20260420T182334Z
SUMMARY:Mierlo 6 - De Valken 4
DESCRIPTION:Baan 4\, Wedstrijdnummer 1106\, Afdeling 2e klasse II
DTSTART:20231214T200000
DTEND:20231214T230000
LOCATION:City Resort Helmond
ATTACH;FMTTYPE=text/plain:https://hbb.rivio.dev/senioren/2023/wedstrijd/322
 95
END:VEVENT
BEGIN:VEVENT
UID:https://hbb.rivio.dev/senioren/2023/wedstrijd/32321
DTSTAMP:20260420T182334Z
SUMMARY:De Valken 4 - Someren 3
DESCRIPTION:Baan 15\, Wedstrijdnummer 1109\, Afdeling 2e klasse II
DTSTART:20231221T200000
DTEND:20231221T230000
LOCATION:City Resort Helmond
ATTACH;FMTTYPE=text/plain:https://hbb.rivio.dev/senioren/2023/wedstrijd/323
 21
END:VEVENT
BEGIN:VEVENT
UID:https://hbb.rivio.dev/senioren/2023/wedstrijd/32364
DTSTAMP:20260420T182334Z
SUMMARY:De Valken 4 - Mixed 4
DESCRIPTION:Baan 3\, Wedstrijdnummer 1111\, Afdeling 2e klasse II
DTSTART:20240125T200000
DTEND:20240125T230000
LOCATION:City Resort Helmond
ATTACH;FMTTYPE=text/plain:https://hbb.rivio.dev/senioren/2023/wedstrijd/323
 64
END:VEVENT
BEGIN:VEVENT
UID:https://hbb.rivio.dev/senioren/2023/wedstrijd/32396
DTSTAMP:20260420T182335Z
SUMMARY:De Valken 4 - Bakel 4
DESCRIPTION:Baan 5\, Wedstrijdnummer 1113\, Afdeling 2e klasse II
DTSTART:20240208T200000
DTEND:20240208T230000
LOCATION:City Resort Helmond
ATTACH;FMTTYPE=text/plain:https://hbb.rivio.dev/senioren/2023/wedstrijd/323
 96
END:VEVENT
BEGIN:VEVENT
UID:https://hbb.rivio.dev/senioren/2023/wedstrijd/32427
DTSTAMP:20260420T182335Z
SUMMARY:De Valken 4 - RBC 2
DESCRIPTION:Baan 11\, Wedstrijdnummer 2102\, Afdeling 2e klasse II
DTSTART:20240229T200000
DTEND:20240229T230000
LOCATION:City Resort Helmond
ATTACH;FMTTYPE=text/plain:https://hbb.rivio.dev/senioren/2023/wedstrijd/324
 27
END:VEVENT
BEGIN:VEVENT
UID:https://hbb.rivio.dev/senioren/2023/wedstrijd/32469
DTSTAMP:20260420T182335Z
SUMMARY:De Valken 4 - Mierlo 6
DESCRIPTION:Baan 13\, Wedstrijdnummer 2106\, Afdeling 2e klasse II
DTSTART:20240321T200000
DTEND:20240321T230000
LOCATION:City Resort Helmond
ATTACH;FMTTYPE=text/plain:https://hbb.rivio.dev/senioren/2023/wedstrijd/324
 69
END:VEVENT
BEGIN:VEVENT
UID:https://hbb.rivio.dev/senioren/2023/wedstrijd/32500
DTSTAMP:20260420T182335Z
SUMMARY:Someren 3 - De Valken 4
DESCRIPTION:Baan 14\, Wedstrijdnummer 2109\, Afdeling 2e klasse II
DTSTART:20240404T200000
DTEND:20240404T230000
LOCATION:City Resort Helmond
ATTACH;FMTTYPE=text/plain:https://hbb.rivio.dev/senioren/2023/wedstrijd/325
 00
END:VEVENT
BEGIN:VEVENT
UID:https://hbb.rivio.dev/senioren/2023/wedstrijd/32529
DTSTAMP:20260420T182335Z
SUMMARY:Mixed 4 - De Valken 4
DESCRIPTION:Baan 13\, Wedstrijdnummer 2111\, Afdeling 2e klasse II
DTSTART:20240411T200000
DTEND:20240411T230000
LOCATION:City Resort Helmond
ATTACH;FMTTYPE=text/plain:https://hbb.rivio.dev/senioren/2023/wedstrijd/325
 29
END:VEVENT
BEGIN:VEVENT
UID:https://hbb.rivio.dev/senioren/2023/wedstrijd/32558
DTSTAMP:20260420T182335Z
SUMMARY:Bakel 4 - De Valken 4
DESCRIPTION:Baan 12\, Wedstrijdnummer 2113\, Afdeling 2e klasse II
DTSTART:20240523T200000
DTEND:20240523T230000
LOCATION:City Resort Helmond
ATTACH;FMTTYPE=text/plain:https://hbb.rivio.dev/senioren/2023/wedstrijd/325
 58
END:VEVENT
BEGIN:VTIMEZONE
TZID:Europe/Amsterdam
BEGIN:STANDARD
DTSTART:20230101T000000
TZNAME:CET
TZOFFSETTO:+0100
TZOFFSETFROM:+0100
END:STANDARD
BEGIN:DAYLIGHT
DTSTART:20230326T030000
TZNAME:CEST
TZOFFSETTO:+0200
TZOFFSETFROM:+0100
END:DAYLIGHT
BEGIN:STANDARD
DTSTART:20231029T020000
TZNAME:CET
TZOFFSETTO:+0100
TZOFFSETFROM:+0200
END:STANDARD
BEGIN:DAYLIGHT
DTSTART:20240331T030000
TZNAME:CEST
TZOFFSETTO:+0200
TZOFFSETFROM:+0100
END:DAYLIGHT
BEGIN:STANDARD
DTSTART:20241027T020000
TZNAME:CET
TZOFFSETTO:+0100
TZOFFSETFROM:+0200
END:STANDARD
END:VTIMEZONE
END:VCALENDAR
