BEGIN:VCALENDAR
PRODID:-//eluceo/ical//2.0/EN
VERSION:2.0
CALSCALE:GREGORIAN
BEGIN:VEVENT
UID:https://hbb.rivio.dev/jeugd/2023/wedstrijd/30947
DTSTAMP:20260420T203256Z
SUMMARY:Phoenix 3 - Someren 1
DESCRIPTION:Baan 13\, Wedstrijdnummer 9\, Afdeling H-klasse 
DTSTART:20230910T093000
DTEND:20230910T111500
LOCATION:City Resort Helmond
ATTACH;FMTTYPE=text/plain:https://hbb.rivio.dev/jeugd/2023/wedstrijd/30947
END:VEVENT
BEGIN:VEVENT
UID:https://hbb.rivio.dev/jeugd/2023/wedstrijd/31009
DTSTAMP:20260420T203256Z
SUMMARY:Geldrop 2 - Someren 1
DESCRIPTION:Baan 5\, Wedstrijdnummer 71\, Afdeling H-klasse 
DTSTART:20231105T093000
DTEND:20231105T111500
LOCATION:City Resort Helmond
ATTACH;FMTTYPE=text/plain:https://hbb.rivio.dev/jeugd/2023/wedstrijd/31009
END:VEVENT
BEGIN:VEVENT
UID:https://hbb.rivio.dev/jeugd/2023/wedstrijd/31032
DTSTAMP:20260420T203256Z
SUMMARY:Someren 1 - Mierlo 5
DESCRIPTION:Baan 10\, Wedstrijdnummer 94\, Afdeling H-klasse 
DTSTART:20231119T093000
DTEND:20231119T111500
LOCATION:City Resort Helmond
ATTACH;FMTTYPE=text/plain:https://hbb.rivio.dev/jeugd/2023/wedstrijd/31032
END:VEVENT
BEGIN:VEVENT
UID:https://hbb.rivio.dev/jeugd/2023/wedstrijd/31049
DTSTAMP:20260420T203256Z
SUMMARY:Someren 1 - Veldhoven 2
DESCRIPTION:Baan 2\, Wedstrijdnummer 111\, Afdeling H-klasse 
DTSTART:20231203T093000
DTEND:20231203T111500
LOCATION:City Resort Helmond
ATTACH;FMTTYPE=text/plain:https://hbb.rivio.dev/jeugd/2023/wedstrijd/31049
END:VEVENT
BEGIN:VEVENT
UID:https://hbb.rivio.dev/jeugd/2023/wedstrijd/31062
DTSTAMP:20260420T203256Z
SUMMARY:Someren 1 - Phoenix 3
DESCRIPTION:Baan 5\, Wedstrijdnummer 124\, Afdeling H-klasse 
DTSTART:20231210T093000
DTEND:20231210T111500
LOCATION:City Resort Helmond
ATTACH;FMTTYPE=text/plain:https://hbb.rivio.dev/jeugd/2023/wedstrijd/31062
END:VEVENT
BEGIN:VEVENT
UID:https://hbb.rivio.dev/jeugd/2023/wedstrijd/31084
DTSTAMP:20260420T203256Z
SUMMARY:Someren 1 - Geldrop 2
DESCRIPTION:Baan 12\, Wedstrijdnummer 146\, Afdeling H-klasse 
DTSTART:20240114T093000
DTEND:20240114T111500
LOCATION:City Resort Helmond
ATTACH;FMTTYPE=text/plain:https://hbb.rivio.dev/jeugd/2023/wedstrijd/31084
END:VEVENT
BEGIN:VEVENT
UID:https://hbb.rivio.dev/jeugd/2023/wedstrijd/31108
DTSTAMP:20260420T203256Z
SUMMARY:Mierlo 5 - Someren 1
DESCRIPTION:Baan 12\, Wedstrijdnummer 177\, Afdeling H-klasse 
DTSTART:20240225T093000
DTEND:20240225T111500
LOCATION:City Resort Helmond
ATTACH;FMTTYPE=text/plain:https://hbb.rivio.dev/jeugd/2023/wedstrijd/31108
END:VEVENT
BEGIN:VEVENT
UID:https://hbb.rivio.dev/jeugd/2023/wedstrijd/31112
DTSTAMP:20260420T203257Z
SUMMARY:Veldhoven 2 - Someren 1
DESCRIPTION:Baan 4\, Wedstrijdnummer 184\, Afdeling H-klasse 
DTSTART:20240303T093000
DTEND:20240303T111500
LOCATION:City Resort Helmond
ATTACH;FMTTYPE=text/plain:https://hbb.rivio.dev/jeugd/2023/wedstrijd/31112
END:VEVENT
BEGIN:VEVENT
UID:https://hbb.rivio.dev/jeugd/2023/wedstrijd/31143
DTSTAMP:20260420T203257Z
SUMMARY:Geldrop 2 - Someren 1
DESCRIPTION:Baan 5\, Wedstrijdnummer 220\, Afdeling H-klasse 
DTSTART:20240317T093000
DTEND:20240317T111500
LOCATION:City Resort Helmond
ATTACH;FMTTYPE=text/plain:https://hbb.rivio.dev/jeugd/2023/wedstrijd/31143
END:VEVENT
BEGIN:VEVENT
UID:https://hbb.rivio.dev/jeugd/2023/wedstrijd/31129
DTSTAMP:20260420T203257Z
SUMMARY:Phoenix 3 - Someren 1
DESCRIPTION:Baan 11\, Wedstrijdnummer 204\, Afdeling H-klasse 
DTSTART:20240407T093000
DTEND:20240407T111500
LOCATION:City Resort Helmond
ATTACH;FMTTYPE=text/plain:https://hbb.rivio.dev/jeugd/2023/wedstrijd/31129
END:VEVENT
BEGIN:VEVENT
UID:https://hbb.rivio.dev/jeugd/2023/wedstrijd/31163
DTSTAMP:20260420T203257Z
SUMMARY:Someren 1 - Mierlo 5
DESCRIPTION:Baan 2\, Wedstrijdnummer 243\, Afdeling H-klasse 
DTSTART:20240526T093000
DTEND:20240526T111500
LOCATION:City Resort Helmond
ATTACH;FMTTYPE=text/plain:https://hbb.rivio.dev/jeugd/2023/wedstrijd/31163
END:VEVENT
BEGIN:VEVENT
UID:https://hbb.rivio.dev/jeugd/2023/wedstrijd/31179
DTSTAMP:20260420T203257Z
SUMMARY:Someren 1 - Veldhoven 2
DESCRIPTION:Baan 10\, Wedstrijdnummer 263\, Afdeling H-klasse 
DTSTART:20240602T093000
DTEND:20240602T111500
LOCATION:City Resort Helmond
ATTACH;FMTTYPE=text/plain:https://hbb.rivio.dev/jeugd/2023/wedstrijd/31179
END:VEVENT
BEGIN:VTIMEZONE
TZID:Europe/Amsterdam
BEGIN:STANDARD
DTSTART:20230101T000000
TZNAME:CET
TZOFFSETTO:+0100
TZOFFSETFROM:+0100
END:STANDARD
BEGIN:DAYLIGHT
DTSTART:20230326T030000
TZNAME:CEST
TZOFFSETTO:+0200
TZOFFSETFROM:+0100
END:DAYLIGHT
BEGIN:STANDARD
DTSTART:20231029T020000
TZNAME:CET
TZOFFSETTO:+0100
TZOFFSETFROM:+0200
END:STANDARD
BEGIN:DAYLIGHT
DTSTART:20240331T030000
TZNAME:CEST
TZOFFSETTO:+0200
TZOFFSETFROM:+0100
END:DAYLIGHT
BEGIN:STANDARD
DTSTART:20241027T020000
TZNAME:CET
TZOFFSETTO:+0100
TZOFFSETFROM:+0200
END:STANDARD
END:VTIMEZONE
END:VCALENDAR
