BEGIN:VCALENDAR
PRODID:-//eluceo/ical//2.0/EN
VERSION:2.0
CALSCALE:GREGORIAN
BEGIN:VEVENT
UID:https://hbb.rivio.dev/senioren/2023/wedstrijd/32115
DTSTAMP:20260420T151559Z
SUMMARY:ASML 3 - Gemert 2
DESCRIPTION:Baan 4\, Wedstrijdnummer 117\, Afdeling 3e klasse I
DTSTART:20230913T200000
DTEND:20230913T230000
LOCATION:City Resort Helmond
ATTACH;FMTTYPE=text/plain:https://hbb.rivio.dev/senioren/2023/wedstrijd/321
 15
END:VEVENT
BEGIN:VEVENT
UID:https://hbb.rivio.dev/senioren/2023/wedstrijd/32190
DTSTAMP:20260420T151559Z
SUMMARY:ASML 3 - BCAB 1
DESCRIPTION:Baan 14\, Wedstrijdnummer 127\, Afdeling 3e klasse I
DTSTART:20231012T200000
DTEND:20231012T230000
LOCATION:City Resort Helmond
ATTACH;FMTTYPE=text/plain:https://hbb.rivio.dev/senioren/2023/wedstrijd/321
 90
END:VEVENT
BEGIN:VEVENT
UID:https://hbb.rivio.dev/senioren/2023/wedstrijd/32221
DTSTAMP:20260420T151559Z
SUMMARY:RBC 3 - ASML 3
DESCRIPTION:Baan 15\, Wedstrijdnummer 131\, Afdeling 3e klasse I
DTSTART:20231102T200000
DTEND:20231102T230000
LOCATION:City Resort Helmond
ATTACH;FMTTYPE=text/plain:https://hbb.rivio.dev/senioren/2023/wedstrijd/322
 21
END:VEVENT
BEGIN:VEVENT
UID:https://hbb.rivio.dev/senioren/2023/wedstrijd/32230
DTSTAMP:20260420T151559Z
SUMMARY:Geldrop 3 - ASML 3
DESCRIPTION:Baan 14\, Wedstrijdnummer 134\, Afdeling 3e klasse I
DTSTART:20231108T200000
DTEND:20231108T230000
LOCATION:City Resort Helmond
ATTACH;FMTTYPE=text/plain:https://hbb.rivio.dev/senioren/2023/wedstrijd/322
 30
END:VEVENT
BEGIN:VEVENT
UID:https://hbb.rivio.dev/senioren/2023/wedstrijd/32282
DTSTAMP:20260420T151559Z
SUMMARY:De Valken 5 - ASML 3
DESCRIPTION:Baan 1\, Wedstrijdnummer 137\, Afdeling 3e klasse I
DTSTART:20231207T200000
DTEND:20231207T230000
LOCATION:City Resort Helmond
ATTACH;FMTTYPE=text/plain:https://hbb.rivio.dev/senioren/2023/wedstrijd/322
 82
END:VEVENT
BEGIN:VEVENT
UID:https://hbb.rivio.dev/senioren/2023/wedstrijd/32322
DTSTAMP:20260420T151559Z
SUMMARY:Mierlo 8 - ASML 3
DESCRIPTION:Baan 1\, Wedstrijdnummer 140\, Afdeling 3e klasse I
DTSTART:20240110T200000
DTEND:20240110T230000
LOCATION:City Resort Helmond
ATTACH;FMTTYPE=text/plain:https://hbb.rivio.dev/senioren/2023/wedstrijd/323
 22
END:VEVENT
BEGIN:VEVENT
UID:https://hbb.rivio.dev/senioren/2023/wedstrijd/32356
DTSTAMP:20260420T151559Z
SUMMARY:Gemert 2 - ASML 3
DESCRIPTION:Baan 5\, Wedstrijdnummer 1117\, Afdeling 3e klasse I
DTSTART:20240124T200000
DTEND:20240124T230000
LOCATION:City Resort Helmond
ATTACH;FMTTYPE=text/plain:https://hbb.rivio.dev/senioren/2023/wedstrijd/323
 56
END:VEVENT
BEGIN:VEVENT
UID:https://hbb.rivio.dev/senioren/2023/wedstrijd/32388
DTSTAMP:20260420T151559Z
SUMMARY:Ganzeveer 3 - ASML 3
DESCRIPTION:Baan 12\, Wedstrijdnummer 1122\, Afdeling 3e klasse I
DTSTART:20240207T200000
DTEND:20240207T230000
LOCATION:City Resort Helmond
ATTACH;FMTTYPE=text/plain:https://hbb.rivio.dev/senioren/2023/wedstrijd/323
 88
END:VEVENT
BEGIN:VEVENT
UID:https://hbb.rivio.dev/senioren/2023/wedstrijd/32417
DTSTAMP:20260420T151559Z
SUMMARY:BCAB 1 - ASML 3
DESCRIPTION:Baan 11\, Wedstrijdnummer 1127\, Afdeling 3e klasse I
DTSTART:20240222T200000
DTEND:20240222T230000
LOCATION:City Resort Helmond
ATTACH;FMTTYPE=text/plain:https://hbb.rivio.dev/senioren/2023/wedstrijd/324
 17
END:VEVENT
BEGIN:VEVENT
UID:https://hbb.rivio.dev/senioren/2023/wedstrijd/32446
DTSTAMP:20260420T151559Z
SUMMARY:ASML 3 - RBC 3
DESCRIPTION:Baan 5\, Wedstrijdnummer 1131\, Afdeling 3e klasse I
DTSTART:20240307T200000
DTEND:20240307T230000
LOCATION:City Resort Helmond
ATTACH;FMTTYPE=text/plain:https://hbb.rivio.dev/senioren/2023/wedstrijd/324
 46
END:VEVENT
BEGIN:VEVENT
UID:https://hbb.rivio.dev/senioren/2023/wedstrijd/32485
DTSTAMP:20260420T151559Z
SUMMARY:ASML 3 - Geldrop 3
DESCRIPTION:Baan 4\, Wedstrijdnummer 1134\, Afdeling 3e klasse I
DTSTART:20240403T200000
DTEND:20240403T230000
LOCATION:City Resort Helmond
ATTACH;FMTTYPE=text/plain:https://hbb.rivio.dev/senioren/2023/wedstrijd/324
 85
END:VEVENT
BEGIN:VEVENT
UID:https://hbb.rivio.dev/senioren/2023/wedstrijd/32517
DTSTAMP:20260420T151559Z
SUMMARY:ASML 3 - De Valken 5
DESCRIPTION:Baan 11\, Wedstrijdnummer 1137\, Afdeling 3e klasse I
DTSTART:20240418T200000
DTEND:20240418T230000
LOCATION:City Resort Helmond
ATTACH;FMTTYPE=text/plain:https://hbb.rivio.dev/senioren/2023/wedstrijd/325
 17
END:VEVENT
BEGIN:VEVENT
UID:https://hbb.rivio.dev/senioren/2023/wedstrijd/32539
DTSTAMP:20260420T151559Z
SUMMARY:ASML 3 - Mierlo 8
DESCRIPTION:Baan 13\, Wedstrijdnummer 1140\, Afdeling 3e klasse I
DTSTART:20240515T200000
DTEND:20240515T230000
LOCATION:City Resort Helmond
ATTACH;FMTTYPE=text/plain:https://hbb.rivio.dev/senioren/2023/wedstrijd/325
 39
END:VEVENT
BEGIN:VTIMEZONE
TZID:Europe/Amsterdam
BEGIN:STANDARD
DTSTART:20230101T000000
TZNAME:CET
TZOFFSETTO:+0100
TZOFFSETFROM:+0100
END:STANDARD
BEGIN:DAYLIGHT
DTSTART:20230326T030000
TZNAME:CEST
TZOFFSETTO:+0200
TZOFFSETFROM:+0100
END:DAYLIGHT
BEGIN:STANDARD
DTSTART:20231029T020000
TZNAME:CET
TZOFFSETTO:+0100
TZOFFSETFROM:+0200
END:STANDARD
BEGIN:DAYLIGHT
DTSTART:20240331T030000
TZNAME:CEST
TZOFFSETTO:+0200
TZOFFSETFROM:+0100
END:DAYLIGHT
BEGIN:STANDARD
DTSTART:20241027T020000
TZNAME:CET
TZOFFSETTO:+0100
TZOFFSETFROM:+0200
END:STANDARD
END:VTIMEZONE
END:VCALENDAR
