BEGIN:VCALENDAR
PRODID:-//eluceo/ical//2.0/EN
VERSION:2.0
CALSCALE:GREGORIAN
BEGIN:VEVENT
UID:https://hbb.rivio.dev/jeugd/2023/wedstrijd/30946
DTSTAMP:20260420T164104Z
SUMMARY:Gemert 4 - Mixed 6
DESCRIPTION:Baan 12\, Wedstrijdnummer 8\, Afdeling I-klasse 
DTSTART:20230910T093000
DTEND:20230910T111500
LOCATION:City Resort Helmond
ATTACH;FMTTYPE=text/plain:https://hbb.rivio.dev/jeugd/2023/wedstrijd/30946
END:VEVENT
BEGIN:VEVENT
UID:https://hbb.rivio.dev/jeugd/2023/wedstrijd/30980
DTSTAMP:20260420T164104Z
SUMMARY:Geldrop 3 - Mixed 6
DESCRIPTION:Baan 13\, Wedstrijdnummer 42\, Afdeling I-klasse 
DTSTART:20231001T093000
DTEND:20231001T111500
LOCATION:City Resort Helmond
ATTACH;FMTTYPE=text/plain:https://hbb.rivio.dev/jeugd/2023/wedstrijd/30980
END:VEVENT
BEGIN:VEVENT
UID:https://hbb.rivio.dev/jeugd/2023/wedstrijd/30997
DTSTAMP:20260420T164104Z
SUMMARY:VBSC 1 - Mixed 6
DESCRIPTION:Baan 4\, Wedstrijdnummer 59\, Afdeling I-klasse 
DTSTART:20231029T093000
DTEND:20231029T111500
LOCATION:City Resort Helmond
ATTACH;FMTTYPE=text/plain:https://hbb.rivio.dev/jeugd/2023/wedstrijd/30997
END:VEVENT
BEGIN:VEVENT
UID:https://hbb.rivio.dev/jeugd/2023/wedstrijd/31005
DTSTAMP:20260420T164104Z
SUMMARY:Mixed 6 - Bakel 2
DESCRIPTION:Baan 1\, Wedstrijdnummer 67\, Afdeling I-klasse 
DTSTART:20231105T093000
DTEND:20231105T111500
LOCATION:City Resort Helmond
ATTACH;FMTTYPE=text/plain:https://hbb.rivio.dev/jeugd/2023/wedstrijd/31005
END:VEVENT
BEGIN:VEVENT
UID:https://hbb.rivio.dev/jeugd/2023/wedstrijd/31036
DTSTAMP:20260420T164104Z
SUMMARY:Mixed 6 - Geldrop 4
DESCRIPTION:Baan 14\, Wedstrijdnummer 98\, Afdeling I-klasse 
DTSTART:20231119T093000
DTEND:20231119T111500
LOCATION:City Resort Helmond
ATTACH;FMTTYPE=text/plain:https://hbb.rivio.dev/jeugd/2023/wedstrijd/31036
END:VEVENT
BEGIN:VEVENT
UID:https://hbb.rivio.dev/jeugd/2023/wedstrijd/31065
DTSTAMP:20260420T164104Z
SUMMARY:Mixed 6 - Veldhoven 3
DESCRIPTION:Baan 13\, Wedstrijdnummer 127\, Afdeling I-klasse 
DTSTART:20231210T093000
DTEND:20231210T111500
LOCATION:City Resort Helmond
ATTACH;FMTTYPE=text/plain:https://hbb.rivio.dev/jeugd/2023/wedstrijd/31065
END:VEVENT
BEGIN:VEVENT
UID:https://hbb.rivio.dev/jeugd/2023/wedstrijd/31080
DTSTAMP:20260420T164104Z
SUMMARY:Mixed 6 - Phoenix 4
DESCRIPTION:Baan 3\, Wedstrijdnummer 142\, Afdeling I-klasse 
DTSTART:20240114T093000
DTEND:20240114T111500
LOCATION:City Resort Helmond
ATTACH;FMTTYPE=text/plain:https://hbb.rivio.dev/jeugd/2023/wedstrijd/31080
END:VEVENT
BEGIN:VEVENT
UID:https://hbb.rivio.dev/jeugd/2023/wedstrijd/31090
DTSTAMP:20260420T164104Z
SUMMARY:Mixed 6 - Gemert 4
DESCRIPTION:Baan 3\, Wedstrijdnummer 152\, Afdeling I-klasse 
DTSTART:20240121T093000
DTEND:20240121T111500
LOCATION:City Resort Helmond
ATTACH;FMTTYPE=text/plain:https://hbb.rivio.dev/jeugd/2023/wedstrijd/31090
END:VEVENT
BEGIN:VEVENT
UID:https://hbb.rivio.dev/jeugd/2023/wedstrijd/31106
DTSTAMP:20260420T164104Z
SUMMARY:Mixed 6 - Geldrop 3
DESCRIPTION:Baan 4\, Wedstrijdnummer 173\, Afdeling I-klasse 
DTSTART:20240225T093000
DTEND:20240225T111500
LOCATION:City Resort Helmond
ATTACH;FMTTYPE=text/plain:https://hbb.rivio.dev/jeugd/2023/wedstrijd/31106
END:VEVENT
BEGIN:VEVENT
UID:https://hbb.rivio.dev/jeugd/2023/wedstrijd/31121
DTSTAMP:20260420T164104Z
SUMMARY:Mixed 6 - VBSC 1
DESCRIPTION:Baan 2\, Wedstrijdnummer 193\, Afdeling I-klasse 
DTSTART:20240310T093000
DTEND:20240310T111500
LOCATION:City Resort Helmond
ATTACH;FMTTYPE=text/plain:https://hbb.rivio.dev/jeugd/2023/wedstrijd/31121
END:VEVENT
BEGIN:VEVENT
UID:https://hbb.rivio.dev/jeugd/2023/wedstrijd/31153
DTSTAMP:20260420T164104Z
SUMMARY:Geldrop 4 - Mixed 6
DESCRIPTION:Baan 1\, Wedstrijdnummer 230\, Afdeling I-klasse 
DTSTART:20240317T093000
DTEND:20240317T111500
LOCATION:City Resort Helmond
ATTACH;FMTTYPE=text/plain:https://hbb.rivio.dev/jeugd/2023/wedstrijd/31153
END:VEVENT
BEGIN:VEVENT
UID:https://hbb.rivio.dev/jeugd/2023/wedstrijd/31142
DTSTAMP:20260420T164104Z
SUMMARY:Bakel 2 - Mixed 6
DESCRIPTION:Baan 10\, Wedstrijdnummer 219\, Afdeling I-klasse 
DTSTART:20240324T093000
DTEND:20240324T111500
LOCATION:City Resort Helmond
ATTACH;FMTTYPE=text/plain:https://hbb.rivio.dev/jeugd/2023/wedstrijd/31142
END:VEVENT
BEGIN:VEVENT
UID:https://hbb.rivio.dev/jeugd/2023/wedstrijd/31165
DTSTAMP:20260420T164104Z
SUMMARY:Veldhoven 3 - Mixed 6
DESCRIPTION:Baan 14\, Wedstrijdnummer 245\, Afdeling I-klasse 
DTSTART:20240414T093000
DTEND:20240414T111500
LOCATION:City Resort Helmond
ATTACH;FMTTYPE=text/plain:https://hbb.rivio.dev/jeugd/2023/wedstrijd/31165
END:VEVENT
BEGIN:VEVENT
UID:https://hbb.rivio.dev/jeugd/2023/wedstrijd/31175
DTSTAMP:20260420T164104Z
SUMMARY:Phoenix 4 - Mixed 6
DESCRIPTION:Baan 15\, Wedstrijdnummer 257\, Afdeling I-klasse 
DTSTART:20240526T093000
DTEND:20240526T111500
LOCATION:City Resort Helmond
ATTACH;FMTTYPE=text/plain:https://hbb.rivio.dev/jeugd/2023/wedstrijd/31175
END:VEVENT
BEGIN:VTIMEZONE
TZID:Europe/Amsterdam
BEGIN:STANDARD
DTSTART:20230101T000000
TZNAME:CET
TZOFFSETTO:+0100
TZOFFSETFROM:+0100
END:STANDARD
BEGIN:DAYLIGHT
DTSTART:20230326T030000
TZNAME:CEST
TZOFFSETTO:+0200
TZOFFSETFROM:+0100
END:DAYLIGHT
BEGIN:STANDARD
DTSTART:20231029T020000
TZNAME:CET
TZOFFSETTO:+0100
TZOFFSETFROM:+0200
END:STANDARD
BEGIN:DAYLIGHT
DTSTART:20240331T030000
TZNAME:CEST
TZOFFSETTO:+0200
TZOFFSETFROM:+0100
END:DAYLIGHT
BEGIN:STANDARD
DTSTART:20241027T020000
TZNAME:CET
TZOFFSETTO:+0100
TZOFFSETFROM:+0200
END:STANDARD
END:VTIMEZONE
END:VCALENDAR
