BEGIN:VCALENDAR
PRODID:-//eluceo/ical//2.0/EN
VERSION:2.0
CALSCALE:GREGORIAN
BEGIN:VEVENT
UID:https://hbb.rivio.dev/jeugd/2023/wedstrijd/30940
DTSTAMP:20260420T181707Z
SUMMARY:'t Veertje 1 - Mixed 5
DESCRIPTION:Baan 2\, Wedstrijdnummer 2\, Afdeling G-klasse 
DTSTART:20230910T093000
DTEND:20230910T111500
LOCATION:City Resort Helmond
ATTACH;FMTTYPE=text/plain:https://hbb.rivio.dev/jeugd/2023/wedstrijd/30940
END:VEVENT
BEGIN:VEVENT
UID:https://hbb.rivio.dev/jeugd/2023/wedstrijd/30952
DTSTAMP:20260420T181707Z
SUMMARY:Mixed 5 - Mierlo 4
DESCRIPTION:Baan 3\, Wedstrijdnummer 14\, Afdeling G-klasse 
DTSTART:20230917T093000
DTEND:20230917T111500
LOCATION:City Resort Helmond
ATTACH;FMTTYPE=text/plain:https://hbb.rivio.dev/jeugd/2023/wedstrijd/30952
END:VEVENT
BEGIN:VEVENT
UID:https://hbb.rivio.dev/jeugd/2023/wedstrijd/30974
DTSTAMP:20260420T181707Z
SUMMARY:Mixed 5 - Phoenix 1
DESCRIPTION:Baan 3\, Wedstrijdnummer 36\, Afdeling G-klasse 
DTSTART:20230924T093000
DTEND:20230924T111500
LOCATION:City Resort Helmond
ATTACH;FMTTYPE=text/plain:https://hbb.rivio.dev/jeugd/2023/wedstrijd/30974
END:VEVENT
BEGIN:VEVENT
UID:https://hbb.rivio.dev/jeugd/2023/wedstrijd/30962
DTSTAMP:20260420T181707Z
SUMMARY:Phoenix 2 - Mixed 5
DESCRIPTION:Baan 2\, Wedstrijdnummer 24\, Afdeling G-klasse 
DTSTART:20231001T093000
DTEND:20231001T111500
LOCATION:City Resort Helmond
ATTACH;FMTTYPE=text/plain:https://hbb.rivio.dev/jeugd/2023/wedstrijd/30962
END:VEVENT
BEGIN:VEVENT
UID:https://hbb.rivio.dev/jeugd/2023/wedstrijd/30992
DTSTAMP:20260420T181707Z
SUMMARY:Mixed 4 - Mixed 5
DESCRIPTION:Baan 14\, Wedstrijdnummer 54\, Afdeling G-klasse 
DTSTART:20231008T093000
DTEND:20231008T111500
LOCATION:City Resort Helmond
ATTACH;FMTTYPE=text/plain:https://hbb.rivio.dev/jeugd/2023/wedstrijd/30992
END:VEVENT
BEGIN:VEVENT
UID:https://hbb.rivio.dev/jeugd/2023/wedstrijd/31002
DTSTAMP:20260420T181707Z
SUMMARY:Mixed 5 - Geldrop 1
DESCRIPTION:Baan 13\, Wedstrijdnummer 64\, Afdeling G-klasse 
DTSTART:20231029T093000
DTEND:20231029T111500
LOCATION:City Resort Helmond
ATTACH;FMTTYPE=text/plain:https://hbb.rivio.dev/jeugd/2023/wedstrijd/31002
END:VEVENT
BEGIN:VEVENT
UID:https://hbb.rivio.dev/jeugd/2023/wedstrijd/31014
DTSTAMP:20260420T181707Z
SUMMARY:Mixed 5 - Mixed 3
DESCRIPTION:Baan 14\, Wedstrijdnummer 76\, Afdeling G-klasse 
DTSTART:20231105T093000
DTEND:20231105T111500
LOCATION:City Resort Helmond
ATTACH;FMTTYPE=text/plain:https://hbb.rivio.dev/jeugd/2023/wedstrijd/31014
END:VEVENT
BEGIN:VEVENT
UID:https://hbb.rivio.dev/jeugd/2023/wedstrijd/31041
DTSTAMP:20260420T181707Z
SUMMARY:Veldhoven 1 - Mixed 5
DESCRIPTION:Baan 4\, Wedstrijdnummer 103\, Afdeling F-klasse 
DTSTART:20231126T093000
DTEND:20231126T111500
LOCATION:City Resort Helmond
ATTACH;FMTTYPE=text/plain:https://hbb.rivio.dev/jeugd/2023/wedstrijd/31041
END:VEVENT
BEGIN:VEVENT
UID:https://hbb.rivio.dev/jeugd/2023/wedstrijd/31066
DTSTAMP:20260420T181707Z
SUMMARY:Gemert 3 - Mixed 5
DESCRIPTION:Baan 14\, Wedstrijdnummer 128\, Afdeling F-klasse 
DTSTART:20231210T093000
DTEND:20231210T111500
LOCATION:City Resort Helmond
ATTACH;FMTTYPE=text/plain:https://hbb.rivio.dev/jeugd/2023/wedstrijd/31066
END:VEVENT
BEGIN:VEVENT
UID:https://hbb.rivio.dev/jeugd/2023/wedstrijd/31069
DTSTAMP:20260420T181707Z
SUMMARY:Mixed 5 - RBC 1
DESCRIPTION:Baan 2\, Wedstrijdnummer 131\, Afdeling G-klasse 
DTSTART:20231217T093000
DTEND:20231217T111500
LOCATION:City Resort Helmond
ATTACH;FMTTYPE=text/plain:https://hbb.rivio.dev/jeugd/2023/wedstrijd/31069
END:VEVENT
BEGIN:VEVENT
UID:https://hbb.rivio.dev/jeugd/2023/wedstrijd/32598
DTSTAMP:20260420T181707Z
SUMMARY:Mixed 5 - Mixed 4
DESCRIPTION:Baan 10\, Wedstrijdnummer 261\, Afdeling G-klasse 
DTSTART:20240225T093000
DTEND:20240225T111500
LOCATION:City Resort Helmond
ATTACH;FMTTYPE=text/plain:https://hbb.rivio.dev/jeugd/2023/wedstrijd/32598
END:VEVENT
BEGIN:VEVENT
UID:https://hbb.rivio.dev/jeugd/2023/wedstrijd/32591
DTSTAMP:20260420T181707Z
SUMMARY:Phoenix 2 - Mixed 5
DESCRIPTION:Baan 5\, Wedstrijdnummer 169\, Afdeling G-klasse 
DTSTART:20240324T093000
DTEND:20240324T111500
LOCATION:City Resort Helmond
ATTACH;FMTTYPE=text/plain:https://hbb.rivio.dev/jeugd/2023/wedstrijd/32591
END:VEVENT
BEGIN:VEVENT
UID:https://hbb.rivio.dev/jeugd/2023/wedstrijd/32592
DTSTAMP:20260420T181707Z
SUMMARY:'t Veertje 1 - Mixed 5
DESCRIPTION:Baan 13\, Wedstrijdnummer 233\, Afdeling G-klasse 
DTSTART:20240407T093000
DTEND:20240407T111500
LOCATION:City Resort Helmond
ATTACH;FMTTYPE=text/plain:https://hbb.rivio.dev/jeugd/2023/wedstrijd/32592
END:VEVENT
BEGIN:VEVENT
UID:https://hbb.rivio.dev/jeugd/2023/wedstrijd/32596
DTSTAMP:20260420T181707Z
SUMMARY:Mixed 5 - Mierlo 4
DESCRIPTION:Baan 12\, Wedstrijdnummer 248\, Afdeling G-klasse 
DTSTART:20240414T093000
DTEND:20240414T111500
LOCATION:City Resort Helmond
ATTACH;FMTTYPE=text/plain:https://hbb.rivio.dev/jeugd/2023/wedstrijd/32596
END:VEVENT
BEGIN:VTIMEZONE
TZID:Europe/Amsterdam
BEGIN:STANDARD
DTSTART:20230101T000000
TZNAME:CET
TZOFFSETTO:+0100
TZOFFSETFROM:+0100
END:STANDARD
BEGIN:DAYLIGHT
DTSTART:20230326T030000
TZNAME:CEST
TZOFFSETTO:+0200
TZOFFSETFROM:+0100
END:DAYLIGHT
BEGIN:STANDARD
DTSTART:20231029T020000
TZNAME:CET
TZOFFSETTO:+0100
TZOFFSETFROM:+0200
END:STANDARD
BEGIN:DAYLIGHT
DTSTART:20240331T030000
TZNAME:CEST
TZOFFSETTO:+0200
TZOFFSETFROM:+0100
END:DAYLIGHT
BEGIN:STANDARD
DTSTART:20241027T020000
TZNAME:CET
TZOFFSETTO:+0100
TZOFFSETFROM:+0200
END:STANDARD
END:VTIMEZONE
END:VCALENDAR
