BEGIN:VCALENDAR
PRODID:-//eluceo/ical//2.0/EN
VERSION:2.0
CALSCALE:GREGORIAN
BEGIN:VEVENT
UID:https://hbb.rivio.dev/jeugd/2023/wedstrijd/30941
DTSTAMP:20260420T164643Z
SUMMARY:Mixed 3 - Mixed 4
DESCRIPTION:Baan 3\, Wedstrijdnummer 3\, Afdeling F-klasse 
DTSTART:20230910T093000
DTEND:20230910T111500
LOCATION:City Resort Helmond
ATTACH;FMTTYPE=text/plain:https://hbb.rivio.dev/jeugd/2023/wedstrijd/30941
END:VEVENT
BEGIN:VEVENT
UID:https://hbb.rivio.dev/jeugd/2023/wedstrijd/30954
DTSTAMP:20260420T164643Z
SUMMARY:RBC 1 - Mixed 3
DESCRIPTION:Baan 5\, Wedstrijdnummer 16\, Afdeling F-klasse 
DTSTART:20230917T093000
DTEND:20230917T111500
LOCATION:City Resort Helmond
ATTACH;FMTTYPE=text/plain:https://hbb.rivio.dev/jeugd/2023/wedstrijd/30954
END:VEVENT
BEGIN:VEVENT
UID:https://hbb.rivio.dev/jeugd/2023/wedstrijd/30976
DTSTAMP:20260420T164643Z
SUMMARY:Phoenix 2 - Mixed 3
DESCRIPTION:Baan 5\, Wedstrijdnummer 38\, Afdeling G-klasse 
DTSTART:20230924T093000
DTEND:20230924T111500
LOCATION:City Resort Helmond
ATTACH;FMTTYPE=text/plain:https://hbb.rivio.dev/jeugd/2023/wedstrijd/30976
END:VEVENT
BEGIN:VEVENT
UID:https://hbb.rivio.dev/jeugd/2023/wedstrijd/30963
DTSTAMP:20260420T164643Z
SUMMARY:Mixed 3 - Gemert 3
DESCRIPTION:Baan 3\, Wedstrijdnummer 25\, Afdeling F-klasse 
DTSTART:20231001T093000
DTEND:20231001T111500
LOCATION:City Resort Helmond
ATTACH;FMTTYPE=text/plain:https://hbb.rivio.dev/jeugd/2023/wedstrijd/30963
END:VEVENT
BEGIN:VEVENT
UID:https://hbb.rivio.dev/jeugd/2023/wedstrijd/30991
DTSTAMP:20260420T164643Z
SUMMARY:Geldrop 1 - Mixed 3
DESCRIPTION:Baan 13\, Wedstrijdnummer 53\, Afdeling F-klasse 
DTSTART:20231008T093000
DTEND:20231008T111500
LOCATION:City Resort Helmond
ATTACH;FMTTYPE=text/plain:https://hbb.rivio.dev/jeugd/2023/wedstrijd/30991
END:VEVENT
BEGIN:VEVENT
UID:https://hbb.rivio.dev/jeugd/2023/wedstrijd/31014
DTSTAMP:20260420T164643Z
SUMMARY:Mixed 5 - Mixed 3
DESCRIPTION:Baan 14\, Wedstrijdnummer 76\, Afdeling G-klasse 
DTSTART:20231105T093000
DTEND:20231105T111500
LOCATION:City Resort Helmond
ATTACH;FMTTYPE=text/plain:https://hbb.rivio.dev/jeugd/2023/wedstrijd/31014
END:VEVENT
BEGIN:VEVENT
UID:https://hbb.rivio.dev/jeugd/2023/wedstrijd/31023
DTSTAMP:20260420T164643Z
SUMMARY:Mixed 3 - Mierlo 4
DESCRIPTION:Baan 12\, Wedstrijdnummer 85\, Afdeling F-klasse 
DTSTART:20231112T093000
DTEND:20231112T111500
LOCATION:City Resort Helmond
ATTACH;FMTTYPE=text/plain:https://hbb.rivio.dev/jeugd/2023/wedstrijd/31023
END:VEVENT
BEGIN:VEVENT
UID:https://hbb.rivio.dev/jeugd/2023/wedstrijd/31040
DTSTAMP:20260420T164643Z
SUMMARY:Mixed 3 - 't Veertje 1
DESCRIPTION:Baan 3\, Wedstrijdnummer 102\, Afdeling F-klasse 
DTSTART:20231126T093000
DTEND:20231126T111500
LOCATION:City Resort Helmond
ATTACH;FMTTYPE=text/plain:https://hbb.rivio.dev/jeugd/2023/wedstrijd/31040
END:VEVENT
BEGIN:VEVENT
UID:https://hbb.rivio.dev/jeugd/2023/wedstrijd/31060
DTSTAMP:20260420T164643Z
SUMMARY:Veldhoven 1 - Mixed 3
DESCRIPTION:Baan 3\, Wedstrijdnummer 122\, Afdeling F-klasse 
DTSTART:20231210T093000
DTEND:20231210T111500
LOCATION:City Resort Helmond
ATTACH;FMTTYPE=text/plain:https://hbb.rivio.dev/jeugd/2023/wedstrijd/31060
END:VEVENT
BEGIN:VEVENT
UID:https://hbb.rivio.dev/jeugd/2023/wedstrijd/31068
DTSTAMP:20260420T164643Z
SUMMARY:Phoenix 1 - Mixed 3
DESCRIPTION:Baan 1\, Wedstrijdnummer 130\, Afdeling F-klasse 
DTSTART:20231217T093000
DTEND:20231217T111500
LOCATION:City Resort Helmond
ATTACH;FMTTYPE=text/plain:https://hbb.rivio.dev/jeugd/2023/wedstrijd/31068
END:VEVENT
BEGIN:VEVENT
UID:https://hbb.rivio.dev/jeugd/2023/wedstrijd/32578
DTSTAMP:20260420T164643Z
SUMMARY:Phoenix 1 - Mixed 3
DESCRIPTION:Baan 12\, Wedstrijdnummer 166\, Afdeling F-klasse 
DTSTART:20240204T093000
DTEND:20240204T111500
LOCATION:City Resort Helmond
ATTACH;FMTTYPE=text/plain:https://hbb.rivio.dev/jeugd/2023/wedstrijd/32578
END:VEVENT
BEGIN:VEVENT
UID:https://hbb.rivio.dev/jeugd/2023/wedstrijd/32583
DTSTAMP:20260420T164643Z
SUMMARY:Geldrop 1 - Mixed 3
DESCRIPTION:Baan 14\, Wedstrijdnummer 179\, Afdeling F-klasse 
DTSTART:20240225T093000
DTEND:20240225T111500
LOCATION:City Resort Helmond
ATTACH;FMTTYPE=text/plain:https://hbb.rivio.dev/jeugd/2023/wedstrijd/32583
END:VEVENT
BEGIN:VEVENT
UID:https://hbb.rivio.dev/jeugd/2023/wedstrijd/32585
DTSTAMP:20260420T164643Z
SUMMARY:RBC 1 - Mixed 3
DESCRIPTION:Baan 13\, Wedstrijdnummer 200\, Afdeling F-klasse 
DTSTART:20240310T093000
DTEND:20240310T111500
LOCATION:City Resort Helmond
ATTACH;FMTTYPE=text/plain:https://hbb.rivio.dev/jeugd/2023/wedstrijd/32585
END:VEVENT
BEGIN:VEVENT
UID:https://hbb.rivio.dev/jeugd/2023/wedstrijd/32588
DTSTAMP:20260420T164643Z
SUMMARY:Mixed 3 - Veldhoven 1
DESCRIPTION:Baan 10\, Wedstrijdnummer 208\, Afdeling F-klasse 
DTSTART:20240317T093000
DTEND:20240317T111500
LOCATION:City Resort Helmond
ATTACH;FMTTYPE=text/plain:https://hbb.rivio.dev/jeugd/2023/wedstrijd/32588
END:VEVENT
BEGIN:VEVENT
UID:https://hbb.rivio.dev/jeugd/2023/wedstrijd/32601
DTSTAMP:20260420T164643Z
SUMMARY:Mixed 3 - Gemert 3
DESCRIPTION:Baan 4\, Wedstrijdnummer 266\, Afdeling F-klasse 
DTSTART:20240526T093000
DTEND:20240526T111500
LOCATION:City Resort Helmond
ATTACH;FMTTYPE=text/plain:https://hbb.rivio.dev/jeugd/2023/wedstrijd/32601
END:VEVENT
BEGIN:VTIMEZONE
TZID:Europe/Amsterdam
BEGIN:STANDARD
DTSTART:20230101T000000
TZNAME:CET
TZOFFSETTO:+0100
TZOFFSETFROM:+0100
END:STANDARD
BEGIN:DAYLIGHT
DTSTART:20230326T030000
TZNAME:CEST
TZOFFSETTO:+0200
TZOFFSETFROM:+0100
END:DAYLIGHT
BEGIN:STANDARD
DTSTART:20231029T020000
TZNAME:CET
TZOFFSETTO:+0100
TZOFFSETFROM:+0200
END:STANDARD
BEGIN:DAYLIGHT
DTSTART:20240331T030000
TZNAME:CEST
TZOFFSETTO:+0200
TZOFFSETFROM:+0100
END:DAYLIGHT
BEGIN:STANDARD
DTSTART:20241027T020000
TZNAME:CET
TZOFFSETTO:+0100
TZOFFSETFROM:+0200
END:STANDARD
END:VTIMEZONE
END:VCALENDAR
