BEGIN:VCALENDAR
PRODID:-//eluceo/ical//2.0/EN
VERSION:2.0
CALSCALE:GREGORIAN
BEGIN:VEVENT
UID:https://hbb.rivio.dev/senioren/2023/wedstrijd/32113
DTSTAMP:20260420T133725Z
SUMMARY:Con Brio 2 - Mixed 3
DESCRIPTION:Baan 2\, Wedstrijdnummer 87\, Afdeling 2e klasse I
DTSTART:20230913T200000
DTEND:20230913T230000
LOCATION:City Resort Helmond
ATTACH;FMTTYPE=text/plain:https://hbb.rivio.dev/senioren/2023/wedstrijd/321
 13
END:VEVENT
BEGIN:VEVENT
UID:https://hbb.rivio.dev/senioren/2023/wedstrijd/32144
DTSTAMP:20260420T133725Z
SUMMARY:Con Brio 2 - ASML 2
DESCRIPTION:Baan 3\, Wedstrijdnummer 91\, Afdeling 2e klasse I
DTSTART:20230927T200000
DTEND:20230927T230000
LOCATION:City Resort Helmond
ATTACH;FMTTYPE=text/plain:https://hbb.rivio.dev/senioren/2023/wedstrijd/321
 44
END:VEVENT
BEGIN:VEVENT
UID:https://hbb.rivio.dev/senioren/2023/wedstrijd/32163
DTSTAMP:20260420T133725Z
SUMMARY:Mierlo 5 - Con Brio 2
DESCRIPTION:Baan 2\, Wedstrijdnummer 94\, Afdeling 2e klasse I
DTSTART:20231005T200000
DTEND:20231005T230000
LOCATION:City Resort Helmond
ATTACH;FMTTYPE=text/plain:https://hbb.rivio.dev/senioren/2023/wedstrijd/321
 63
END:VEVENT
BEGIN:VEVENT
UID:https://hbb.rivio.dev/senioren/2023/wedstrijd/32193
DTSTAMP:20260420T133725Z
SUMMARY:Ganzeveer 2 - Con Brio 2
DESCRIPTION:Baan 2\, Wedstrijdnummer 96\, Afdeling 2e klasse I
DTSTART:20231025T200000
DTEND:20231025T230000
LOCATION:City Resort Helmond
ATTACH;FMTTYPE=text/plain:https://hbb.rivio.dev/senioren/2023/wedstrijd/321
 93
END:VEVENT
BEGIN:VEVENT
UID:https://hbb.rivio.dev/senioren/2023/wedstrijd/32223
DTSTAMP:20260420T133725Z
SUMMARY:Mierlo 4 - Con Brio 2
DESCRIPTION:Baan 2\, Wedstrijdnummer 98\, Afdeling 2e klasse I
DTSTART:20231108T200000
DTEND:20231108T230000
LOCATION:City Resort Helmond
ATTACH;FMTTYPE=text/plain:https://hbb.rivio.dev/senioren/2023/wedstrijd/322
 23
END:VEVENT
BEGIN:VEVENT
UID:https://hbb.rivio.dev/senioren/2023/wedstrijd/32257
DTSTAMP:20260420T133725Z
SUMMARY:Mixed 3 - Con Brio 2
DESCRIPTION:Baan 11\, Wedstrijdnummer 1087\, Afdeling 2e klasse I
DTSTART:20231123T200000
DTEND:20231123T230000
LOCATION:City Resort Helmond
ATTACH;FMTTYPE=text/plain:https://hbb.rivio.dev/senioren/2023/wedstrijd/322
 57
END:VEVENT
BEGIN:VEVENT
UID:https://hbb.rivio.dev/senioren/2023/wedstrijd/32307
DTSTAMP:20260420T133725Z
SUMMARY:ASML 2 - Con Brio 2
DESCRIPTION:Baan 11\, Wedstrijdnummer 1091\, Afdeling 2e klasse I
DTSTART:20231220T200000
DTEND:20231220T230000
LOCATION:City Resort Helmond
ATTACH;FMTTYPE=text/plain:https://hbb.rivio.dev/senioren/2023/wedstrijd/323
 07
END:VEVENT
BEGIN:VEVENT
UID:https://hbb.rivio.dev/senioren/2023/wedstrijd/32329
DTSTAMP:20260420T133725Z
SUMMARY:Con Brio 2 - Mierlo 5
DESCRIPTION:Baan 13\, Wedstrijdnummer 1094\, Afdeling 2e klasse I
DTSTART:20240110T200000
DTEND:20240110T230000
LOCATION:City Resort Helmond
ATTACH;FMTTYPE=text/plain:https://hbb.rivio.dev/senioren/2023/wedstrijd/323
 29
END:VEVENT
BEGIN:VEVENT
UID:https://hbb.rivio.dev/senioren/2023/wedstrijd/32382
DTSTAMP:20260420T133725Z
SUMMARY:Con Brio 2 - Ganzeveer 2
DESCRIPTION:Baan 1\, Wedstrijdnummer 1096\, Afdeling 2e klasse I
DTSTART:20240207T200000
DTEND:20240207T230000
LOCATION:City Resort Helmond
ATTACH;FMTTYPE=text/plain:https://hbb.rivio.dev/senioren/2023/wedstrijd/323
 82
END:VEVENT
BEGIN:VEVENT
UID:https://hbb.rivio.dev/senioren/2023/wedstrijd/32381
DTSTAMP:20260420T133725Z
SUMMARY:Con Brio 2 - Mierlo 4
DESCRIPTION:Baan 11\, Wedstrijdnummer 1098\, Afdeling 2e klasse I
DTSTART:20240221T200000
DTEND:20240221T230000
LOCATION:City Resort Helmond
ATTACH;FMTTYPE=text/plain:https://hbb.rivio.dev/senioren/2023/wedstrijd/323
 81
END:VEVENT
BEGIN:VEVENT
UID:https://hbb.rivio.dev/senioren/2023/wedstrijd/32434
DTSTAMP:20260420T133725Z
SUMMARY:Con Brio 2 - Mixed 3
DESCRIPTION:Baan 3\, Wedstrijdnummer 2087\, Afdeling 2e klasse I
DTSTART:20240306T200000
DTEND:20240306T230000
LOCATION:City Resort Helmond
ATTACH;FMTTYPE=text/plain:https://hbb.rivio.dev/senioren/2023/wedstrijd/324
 34
END:VEVENT
BEGIN:VEVENT
UID:https://hbb.rivio.dev/senioren/2023/wedstrijd/32458
DTSTAMP:20260420T133725Z
SUMMARY:Con Brio 2 - ASML 2
DESCRIPTION:Baan 12\, Wedstrijdnummer 2091\, Afdeling 2e klasse I
DTSTART:20240320T200000
DTEND:20240320T230000
LOCATION:City Resort Helmond
ATTACH;FMTTYPE=text/plain:https://hbb.rivio.dev/senioren/2023/wedstrijd/324
 58
END:VEVENT
BEGIN:VEVENT
UID:https://hbb.rivio.dev/senioren/2023/wedstrijd/32491
DTSTAMP:20260420T133725Z
SUMMARY:Mierlo 5 - Con Brio 2
DESCRIPTION:Baan 15\, Wedstrijdnummer 2094\, Afdeling 2e klasse I
DTSTART:20240403T200000
DTEND:20240403T230000
LOCATION:City Resort Helmond
ATTACH;FMTTYPE=text/plain:https://hbb.rivio.dev/senioren/2023/wedstrijd/324
 91
END:VEVENT
BEGIN:VEVENT
UID:https://hbb.rivio.dev/senioren/2023/wedstrijd/32511
DTSTAMP:20260420T133725Z
SUMMARY:Ganzeveer 2 - Con Brio 2
DESCRIPTION:Baan 13\, Wedstrijdnummer 2096\, Afdeling 2e klasse I
DTSTART:20240417T200000
DTEND:20240417T230000
LOCATION:City Resort Helmond
ATTACH;FMTTYPE=text/plain:https://hbb.rivio.dev/senioren/2023/wedstrijd/325
 11
END:VEVENT
BEGIN:VEVENT
UID:https://hbb.rivio.dev/senioren/2023/wedstrijd/32563
DTSTAMP:20260420T133725Z
SUMMARY:Mierlo 4 - Con Brio 2
DESCRIPTION:Baan 3\, Wedstrijdnummer 2098\, Afdeling 2e klasse I
DTSTART:20240529T200000
DTEND:20240529T230000
LOCATION:City Resort Helmond
ATTACH;FMTTYPE=text/plain:https://hbb.rivio.dev/senioren/2023/wedstrijd/325
 63
END:VEVENT
BEGIN:VTIMEZONE
TZID:Europe/Amsterdam
BEGIN:STANDARD
DTSTART:20230101T000000
TZNAME:CET
TZOFFSETTO:+0100
TZOFFSETFROM:+0100
END:STANDARD
BEGIN:DAYLIGHT
DTSTART:20230326T030000
TZNAME:CEST
TZOFFSETTO:+0200
TZOFFSETFROM:+0100
END:DAYLIGHT
BEGIN:STANDARD
DTSTART:20231029T020000
TZNAME:CET
TZOFFSETTO:+0100
TZOFFSETFROM:+0200
END:STANDARD
BEGIN:DAYLIGHT
DTSTART:20240331T030000
TZNAME:CEST
TZOFFSETTO:+0200
TZOFFSETFROM:+0100
END:DAYLIGHT
BEGIN:STANDARD
DTSTART:20241027T020000
TZNAME:CET
TZOFFSETTO:+0100
TZOFFSETFROM:+0200
END:STANDARD
END:VTIMEZONE
END:VCALENDAR
