BEGIN:VCALENDAR
PRODID:-//eluceo/ical//2.0/EN
VERSION:2.0
CALSCALE:GREGORIAN
BEGIN:VEVENT
UID:https://hbb.rivio.dev/senioren/2023/wedstrijd/32150
DTSTAMP:20260420T150754Z
SUMMARY:Ganzeveer 4 - Gemert 3
DESCRIPTION:Baan 14\, Wedstrijdnummer 177\, Afdeling 4e klasse 
DTSTART:20230927T200000
DTEND:20230927T230000
LOCATION:City Resort Helmond
ATTACH;FMTTYPE=text/plain:https://hbb.rivio.dev/senioren/2023/wedstrijd/321
 50
END:VEVENT
BEGIN:VEVENT
UID:https://hbb.rivio.dev/senioren/2023/wedstrijd/32180
DTSTAMP:20260420T150754Z
SUMMARY:Con Brio 3 - Ganzeveer 4
DESCRIPTION:Baan 14\, Wedstrijdnummer 183\, Afdeling 4e klasse 
DTSTART:20231011T200000
DTEND:20231011T230000
LOCATION:City Resort Helmond
ATTACH;FMTTYPE=text/plain:https://hbb.rivio.dev/senioren/2023/wedstrijd/321
 80
END:VEVENT
BEGIN:VEVENT
UID:https://hbb.rivio.dev/senioren/2023/wedstrijd/32239
DTSTAMP:20260420T150754Z
SUMMARY:Bakel 5 - Ganzeveer 4
DESCRIPTION:Baan 13\, Wedstrijdnummer 188\, Afdeling 4e klasse 
DTSTART:20231109T200000
DTEND:20231109T230000
LOCATION:City Resort Helmond
ATTACH;FMTTYPE=text/plain:https://hbb.rivio.dev/senioren/2023/wedstrijd/322
 39
END:VEVENT
BEGIN:VEVENT
UID:https://hbb.rivio.dev/senioren/2023/wedstrijd/32261
DTSTAMP:20260420T150754Z
SUMMARY:Someren 5 - Ganzeveer 4
DESCRIPTION:Baan 15\, Wedstrijdnummer 193\, Afdeling 4e klasse 
DTSTART:20231123T200000
DTEND:20231123T230000
LOCATION:City Resort Helmond
ATTACH;FMTTYPE=text/plain:https://hbb.rivio.dev/senioren/2023/wedstrijd/322
 61
END:VEVENT
BEGIN:VEVENT
UID:https://hbb.rivio.dev/senioren/2023/wedstrijd/32289
DTSTAMP:20260420T150754Z
SUMMARY:Someren 6 - Ganzeveer 4
DESCRIPTION:Baan 13\, Wedstrijdnummer 199\, Afdeling 4e klasse 
DTSTART:20231207T200000
DTEND:20231207T230000
LOCATION:City Resort Helmond
ATTACH;FMTTYPE=text/plain:https://hbb.rivio.dev/senioren/2023/wedstrijd/322
 89
END:VEVENT
BEGIN:VEVENT
UID:https://hbb.rivio.dev/senioren/2023/wedstrijd/32316
DTSTAMP:20260420T150754Z
SUMMARY:Never Down 2 - Ganzeveer 4
DESCRIPTION:Baan 5\, Wedstrijdnummer 204\, Afdeling 4e klasse 
DTSTART:20231221T200000
DTEND:20231221T230000
LOCATION:City Resort Helmond
ATTACH;FMTTYPE=text/plain:https://hbb.rivio.dev/senioren/2023/wedstrijd/323
 16
END:VEVENT
BEGIN:VEVENT
UID:https://hbb.rivio.dev/senioren/2023/wedstrijd/32348
DTSTAMP:20260420T150754Z
SUMMARY:Hanevoet 3 - Ganzeveer 4
DESCRIPTION:Baan 12\, Wedstrijdnummer 209\, Afdeling 4e klasse 
DTSTART:20240118T200000
DTEND:20240118T230000
LOCATION:City Resort Helmond
ATTACH;FMTTYPE=text/plain:https://hbb.rivio.dev/senioren/2023/wedstrijd/323
 48
END:VEVENT
BEGIN:VEVENT
UID:https://hbb.rivio.dev/senioren/2023/wedstrijd/32404
DTSTAMP:20260420T150754Z
SUMMARY:Ganzeveer 4 - Heeze 1
DESCRIPTION:Baan 3\, Wedstrijdnummer 214\, Afdeling 4e klasse 
DTSTART:20240221T200000
DTEND:20240221T230000
LOCATION:City Resort Helmond
ATTACH;FMTTYPE=text/plain:https://hbb.rivio.dev/senioren/2023/wedstrijd/324
 04
END:VEVENT
BEGIN:VEVENT
UID:https://hbb.rivio.dev/senioren/2023/wedstrijd/32437
DTSTAMP:20260420T150754Z
SUMMARY:Ganzeveer 4 - BC '85 1
DESCRIPTION:Baan 11\, Wedstrijdnummer 221\, Afdeling 4e klasse 
DTSTART:20240306T200000
DTEND:20240306T230000
LOCATION:City Resort Helmond
ATTACH;FMTTYPE=text/plain:https://hbb.rivio.dev/senioren/2023/wedstrijd/324
 37
END:VEVENT
BEGIN:VEVENT
UID:https://hbb.rivio.dev/senioren/2023/wedstrijd/32459
DTSTAMP:20260420T150754Z
SUMMARY:Ganzeveer 4 - Mixed 5
DESCRIPTION:Baan 13\, Wedstrijdnummer 228\, Afdeling 4e klasse 
DTSTART:20240320T200000
DTEND:20240320T230000
LOCATION:City Resort Helmond
ATTACH;FMTTYPE=text/plain:https://hbb.rivio.dev/senioren/2023/wedstrijd/324
 59
END:VEVENT
BEGIN:VEVENT
UID:https://hbb.rivio.dev/senioren/2023/wedstrijd/32534
DTSTAMP:20260420T150754Z
SUMMARY:Ganzeveer 4 - Mixed 6
DESCRIPTION:Baan 3\, Wedstrijdnummer 241\, Afdeling 4e klasse 
DTSTART:20240515T200000
DTEND:20240515T230000
LOCATION:City Resort Helmond
ATTACH;FMTTYPE=text/plain:https://hbb.rivio.dev/senioren/2023/wedstrijd/325
 34
END:VEVENT
BEGIN:VEVENT
UID:https://hbb.rivio.dev/senioren/2023/wedstrijd/32566
DTSTAMP:20260420T150754Z
SUMMARY:Ganzeveer 4 - Mierlo 9
DESCRIPTION:Baan 11\, Wedstrijdnummer 248\, Afdeling 4e klasse 
DTSTART:20240529T200000
DTEND:20240529T230000
LOCATION:City Resort Helmond
ATTACH;FMTTYPE=text/plain:https://hbb.rivio.dev/senioren/2023/wedstrijd/325
 66
END:VEVENT
BEGIN:VTIMEZONE
TZID:Europe/Amsterdam
BEGIN:STANDARD
DTSTART:20230101T000000
TZNAME:CET
TZOFFSETTO:+0100
TZOFFSETFROM:+0100
END:STANDARD
BEGIN:DAYLIGHT
DTSTART:20230326T030000
TZNAME:CEST
TZOFFSETTO:+0200
TZOFFSETFROM:+0100
END:DAYLIGHT
BEGIN:STANDARD
DTSTART:20231029T020000
TZNAME:CET
TZOFFSETTO:+0100
TZOFFSETFROM:+0200
END:STANDARD
BEGIN:DAYLIGHT
DTSTART:20240331T030000
TZNAME:CEST
TZOFFSETTO:+0200
TZOFFSETFROM:+0100
END:DAYLIGHT
BEGIN:STANDARD
DTSTART:20241027T020000
TZNAME:CET
TZOFFSETTO:+0100
TZOFFSETFROM:+0200
END:STANDARD
END:VTIMEZONE
END:VCALENDAR
