BEGIN:VCALENDAR
PRODID:-//eluceo/ical//2.0/EN
VERSION:2.0
CALSCALE:GREGORIAN
BEGIN:VEVENT
UID:https://hbb.rivio.dev/senioren/2023/wedstrijd/32116
DTSTAMP:20260420T151659Z
SUMMARY:De Valken 5 - Ganzeveer 3
DESCRIPTION:Baan 5\, Wedstrijdnummer 119\, Afdeling 3e klasse I
DTSTART:20230913T200000
DTEND:20230913T230000
LOCATION:City Resort Helmond
ATTACH;FMTTYPE=text/plain:https://hbb.rivio.dev/senioren/2023/wedstrijd/321
 16
END:VEVENT
BEGIN:VEVENT
UID:https://hbb.rivio.dev/senioren/2023/wedstrijd/32175
DTSTAMP:20260420T151659Z
SUMMARY:Gemert 2 - Ganzeveer 3
DESCRIPTION:Baan 4\, Wedstrijdnummer 125\, Afdeling 3e klasse I
DTSTART:20231011T200000
DTEND:20231011T230000
LOCATION:City Resort Helmond
ATTACH;FMTTYPE=text/plain:https://hbb.rivio.dev/senioren/2023/wedstrijd/321
 75
END:VEVENT
BEGIN:VEVENT
UID:https://hbb.rivio.dev/senioren/2023/wedstrijd/32196
DTSTAMP:20260420T151659Z
SUMMARY:Ganzeveer 3 - Mierlo 8
DESCRIPTION:Baan 5\, Wedstrijdnummer 128\, Afdeling 3e klasse I
DTSTART:20231025T200000
DTEND:20231025T230000
LOCATION:City Resort Helmond
ATTACH;FMTTYPE=text/plain:https://hbb.rivio.dev/senioren/2023/wedstrijd/321
 96
END:VEVENT
BEGIN:VEVENT
UID:https://hbb.rivio.dev/senioren/2023/wedstrijd/32229
DTSTAMP:20260420T151659Z
SUMMARY:Ganzeveer 3 - BCAB 1
DESCRIPTION:Baan 13\, Wedstrijdnummer 133\, Afdeling 3e klasse I
DTSTART:20231108T200000
DTEND:20231108T230000
LOCATION:City Resort Helmond
ATTACH;FMTTYPE=text/plain:https://hbb.rivio.dev/senioren/2023/wedstrijd/322
 29
END:VEVENT
BEGIN:VEVENT
UID:https://hbb.rivio.dev/senioren/2023/wedstrijd/32281
DTSTAMP:20260420T151659Z
SUMMARY:Ganzeveer 3 - RBC 3
DESCRIPTION:Baan 15\, Wedstrijdnummer 138\, Afdeling 3e klasse I
DTSTART:20231206T200000
DTEND:20231206T230000
LOCATION:City Resort Helmond
ATTACH;FMTTYPE=text/plain:https://hbb.rivio.dev/senioren/2023/wedstrijd/322
 81
END:VEVENT
BEGIN:VEVENT
UID:https://hbb.rivio.dev/senioren/2023/wedstrijd/32323
DTSTAMP:20260420T151659Z
SUMMARY:Ganzeveer 3 - Geldrop 3
DESCRIPTION:Baan 2\, Wedstrijdnummer 143\, Afdeling 3e klasse I
DTSTART:20240110T200000
DTEND:20240110T230000
LOCATION:City Resort Helmond
ATTACH;FMTTYPE=text/plain:https://hbb.rivio.dev/senioren/2023/wedstrijd/323
 23
END:VEVENT
BEGIN:VEVENT
UID:https://hbb.rivio.dev/senioren/2023/wedstrijd/32357
DTSTAMP:20260420T151659Z
SUMMARY:Ganzeveer 3 - De Valken 5
DESCRIPTION:Baan 11\, Wedstrijdnummer 1119\, Afdeling 3e klasse I
DTSTART:20240124T200000
DTEND:20240124T230000
LOCATION:City Resort Helmond
ATTACH;FMTTYPE=text/plain:https://hbb.rivio.dev/senioren/2023/wedstrijd/323
 57
END:VEVENT
BEGIN:VEVENT
UID:https://hbb.rivio.dev/senioren/2023/wedstrijd/32388
DTSTAMP:20260420T151659Z
SUMMARY:Ganzeveer 3 - ASML 3
DESCRIPTION:Baan 12\, Wedstrijdnummer 1122\, Afdeling 3e klasse I
DTSTART:20240207T200000
DTEND:20240207T230000
LOCATION:City Resort Helmond
ATTACH;FMTTYPE=text/plain:https://hbb.rivio.dev/senioren/2023/wedstrijd/323
 88
END:VEVENT
BEGIN:VEVENT
UID:https://hbb.rivio.dev/senioren/2023/wedstrijd/32409
DTSTAMP:20260420T151659Z
SUMMARY:Ganzeveer 3 - Gemert 2
DESCRIPTION:Baan 13\, Wedstrijdnummer 1125\, Afdeling 3e klasse I
DTSTART:20240221T200000
DTEND:20240221T230000
LOCATION:City Resort Helmond
ATTACH;FMTTYPE=text/plain:https://hbb.rivio.dev/senioren/2023/wedstrijd/324
 09
END:VEVENT
BEGIN:VEVENT
UID:https://hbb.rivio.dev/senioren/2023/wedstrijd/32453
DTSTAMP:20260420T151659Z
SUMMARY:Mierlo 8 - Ganzeveer 3
DESCRIPTION:Baan 2\, Wedstrijdnummer 1128\, Afdeling 3e klasse I
DTSTART:20240320T200000
DTEND:20240320T230000
LOCATION:City Resort Helmond
ATTACH;FMTTYPE=text/plain:https://hbb.rivio.dev/senioren/2023/wedstrijd/324
 53
END:VEVENT
BEGIN:VEVENT
UID:https://hbb.rivio.dev/senioren/2023/wedstrijd/32476
DTSTAMP:20260420T151659Z
SUMMARY:BCAB 1 - Ganzeveer 3
DESCRIPTION:Baan 5\, Wedstrijdnummer 1133\, Afdeling 3e klasse I
DTSTART:20240328T200000
DTEND:20240328T230000
LOCATION:City Resort Helmond
ATTACH;FMTTYPE=text/plain:https://hbb.rivio.dev/senioren/2023/wedstrijd/324
 76
END:VEVENT
BEGIN:VEVENT
UID:https://hbb.rivio.dev/senioren/2023/wedstrijd/32518
DTSTAMP:20260420T151659Z
SUMMARY:RBC 3 - Ganzeveer 3
DESCRIPTION:Baan 12\, Wedstrijdnummer 1138\, Afdeling 3e klasse I
DTSTART:20240418T200000
DTEND:20240418T230000
LOCATION:City Resort Helmond
ATTACH;FMTTYPE=text/plain:https://hbb.rivio.dev/senioren/2023/wedstrijd/325
 18
END:VEVENT
BEGIN:VEVENT
UID:https://hbb.rivio.dev/senioren/2023/wedstrijd/32541
DTSTAMP:20260420T151659Z
SUMMARY:Geldrop 3 - Ganzeveer 3
DESCRIPTION:Baan 15\, Wedstrijdnummer 1143\, Afdeling 3e klasse I
DTSTART:20240515T200000
DTEND:20240515T230000
LOCATION:City Resort Helmond
ATTACH;FMTTYPE=text/plain:https://hbb.rivio.dev/senioren/2023/wedstrijd/325
 41
END:VEVENT
BEGIN:VTIMEZONE
TZID:Europe/Amsterdam
BEGIN:STANDARD
DTSTART:20230101T000000
TZNAME:CET
TZOFFSETTO:+0100
TZOFFSETFROM:+0100
END:STANDARD
BEGIN:DAYLIGHT
DTSTART:20230326T030000
TZNAME:CEST
TZOFFSETTO:+0200
TZOFFSETFROM:+0100
END:DAYLIGHT
BEGIN:STANDARD
DTSTART:20231029T020000
TZNAME:CET
TZOFFSETTO:+0100
TZOFFSETFROM:+0200
END:STANDARD
BEGIN:DAYLIGHT
DTSTART:20240331T030000
TZNAME:CEST
TZOFFSETTO:+0200
TZOFFSETFROM:+0100
END:DAYLIGHT
BEGIN:STANDARD
DTSTART:20241027T020000
TZNAME:CET
TZOFFSETTO:+0100
TZOFFSETFROM:+0200
END:STANDARD
END:VTIMEZONE
END:VCALENDAR
