BEGIN:VCALENDAR
PRODID:-//eluceo/ical//2.0/EN
VERSION:2.0
CALSCALE:GREGORIAN
BEGIN:VEVENT
UID:https://hbb.rivio.dev/senioren/2023/wedstrijd/32114
DTSTAMP:20260420T151819Z
SUMMARY:ASML 2 - Ganzeveer 2
DESCRIPTION:Baan 3\, Wedstrijdnummer 88\, Afdeling 2e klasse I
DTSTART:20230913T200000
DTEND:20230913T230000
LOCATION:City Resort Helmond
ATTACH;FMTTYPE=text/plain:https://hbb.rivio.dev/senioren/2023/wedstrijd/321
 14
END:VEVENT
BEGIN:VEVENT
UID:https://hbb.rivio.dev/senioren/2023/wedstrijd/32143
DTSTAMP:20260420T151819Z
SUMMARY:Mierlo 5 - Ganzeveer 2
DESCRIPTION:Baan 2\, Wedstrijdnummer 90\, Afdeling 2e klasse I
DTSTART:20230927T200000
DTEND:20230927T230000
LOCATION:City Resort Helmond
ATTACH;FMTTYPE=text/plain:https://hbb.rivio.dev/senioren/2023/wedstrijd/321
 43
END:VEVENT
BEGIN:VEVENT
UID:https://hbb.rivio.dev/senioren/2023/wedstrijd/32172
DTSTAMP:20260420T151819Z
SUMMARY:Mierlo 4 - Ganzeveer 2
DESCRIPTION:Baan 1\, Wedstrijdnummer 92\, Afdeling 2e klasse I
DTSTART:20231011T200000
DTEND:20231011T230000
LOCATION:City Resort Helmond
ATTACH;FMTTYPE=text/plain:https://hbb.rivio.dev/senioren/2023/wedstrijd/321
 72
END:VEVENT
BEGIN:VEVENT
UID:https://hbb.rivio.dev/senioren/2023/wedstrijd/32193
DTSTAMP:20260420T151819Z
SUMMARY:Ganzeveer 2 - Con Brio 2
DESCRIPTION:Baan 2\, Wedstrijdnummer 96\, Afdeling 2e klasse I
DTSTART:20231025T200000
DTEND:20231025T230000
LOCATION:City Resort Helmond
ATTACH;FMTTYPE=text/plain:https://hbb.rivio.dev/senioren/2023/wedstrijd/321
 93
END:VEVENT
BEGIN:VEVENT
UID:https://hbb.rivio.dev/senioren/2023/wedstrijd/32225
DTSTAMP:20260420T151819Z
SUMMARY:Ganzeveer 2 - Mixed 3
DESCRIPTION:Baan 4\, Wedstrijdnummer 100\, Afdeling 2e klasse I
DTSTART:20231108T200000
DTEND:20231108T230000
LOCATION:City Resort Helmond
ATTACH;FMTTYPE=text/plain:https://hbb.rivio.dev/senioren/2023/wedstrijd/322
 25
END:VEVENT
BEGIN:VEVENT
UID:https://hbb.rivio.dev/senioren/2023/wedstrijd/32274
DTSTAMP:20260420T151819Z
SUMMARY:Ganzeveer 2 - ASML 2
DESCRIPTION:Baan 3\, Wedstrijdnummer 1088\, Afdeling 2e klasse I
DTSTART:20231206T200000
DTEND:20231206T230000
LOCATION:City Resort Helmond
ATTACH;FMTTYPE=text/plain:https://hbb.rivio.dev/senioren/2023/wedstrijd/322
 74
END:VEVENT
BEGIN:VEVENT
UID:https://hbb.rivio.dev/senioren/2023/wedstrijd/32306
DTSTAMP:20260420T151819Z
SUMMARY:Ganzeveer 2 - Mierlo 5
DESCRIPTION:Baan 4\, Wedstrijdnummer 1090\, Afdeling 2e klasse I
DTSTART:20231220T200000
DTEND:20231220T230000
LOCATION:City Resort Helmond
ATTACH;FMTTYPE=text/plain:https://hbb.rivio.dev/senioren/2023/wedstrijd/323
 06
END:VEVENT
BEGIN:VEVENT
UID:https://hbb.rivio.dev/senioren/2023/wedstrijd/32327
DTSTAMP:20260420T151819Z
SUMMARY:Ganzeveer 2 - Mierlo 4
DESCRIPTION:Baan 11\, Wedstrijdnummer 1092\, Afdeling 2e klasse I
DTSTART:20240110T200000
DTEND:20240110T230000
LOCATION:City Resort Helmond
ATTACH;FMTTYPE=text/plain:https://hbb.rivio.dev/senioren/2023/wedstrijd/323
 27
END:VEVENT
BEGIN:VEVENT
UID:https://hbb.rivio.dev/senioren/2023/wedstrijd/32382
DTSTAMP:20260420T151819Z
SUMMARY:Con Brio 2 - Ganzeveer 2
DESCRIPTION:Baan 1\, Wedstrijdnummer 1096\, Afdeling 2e klasse I
DTSTART:20240207T200000
DTEND:20240207T230000
LOCATION:City Resort Helmond
ATTACH;FMTTYPE=text/plain:https://hbb.rivio.dev/senioren/2023/wedstrijd/323
 82
END:VEVENT
BEGIN:VEVENT
UID:https://hbb.rivio.dev/senioren/2023/wedstrijd/32403
DTSTAMP:20260420T151819Z
SUMMARY:Mixed 3 - Ganzeveer 2
DESCRIPTION:Baan 2\, Wedstrijdnummer 1100\, Afdeling 2e klasse I
DTSTART:20240221T200000
DTEND:20240221T230000
LOCATION:City Resort Helmond
ATTACH;FMTTYPE=text/plain:https://hbb.rivio.dev/senioren/2023/wedstrijd/324
 03
END:VEVENT
BEGIN:VEVENT
UID:https://hbb.rivio.dev/senioren/2023/wedstrijd/32435
DTSTAMP:20260420T151819Z
SUMMARY:ASML 2 - Ganzeveer 2
DESCRIPTION:Baan 4\, Wedstrijdnummer 2088\, Afdeling 2e klasse I
DTSTART:20240306T200000
DTEND:20240306T230000
LOCATION:City Resort Helmond
ATTACH;FMTTYPE=text/plain:https://hbb.rivio.dev/senioren/2023/wedstrijd/324
 35
END:VEVENT
BEGIN:VEVENT
UID:https://hbb.rivio.dev/senioren/2023/wedstrijd/32457
DTSTAMP:20260420T151819Z
SUMMARY:Mierlo 5 - Ganzeveer 2
DESCRIPTION:Baan 11\, Wedstrijdnummer 2090\, Afdeling 2e klasse I
DTSTART:20240320T200000
DTEND:20240320T230000
LOCATION:City Resort Helmond
ATTACH;FMTTYPE=text/plain:https://hbb.rivio.dev/senioren/2023/wedstrijd/324
 57
END:VEVENT
BEGIN:VEVENT
UID:https://hbb.rivio.dev/senioren/2023/wedstrijd/32489
DTSTAMP:20260420T151819Z
SUMMARY:Mierlo 4 - Ganzeveer 2
DESCRIPTION:Baan 13\, Wedstrijdnummer 2092\, Afdeling 2e klasse I
DTSTART:20240403T200000
DTEND:20240403T230000
LOCATION:City Resort Helmond
ATTACH;FMTTYPE=text/plain:https://hbb.rivio.dev/senioren/2023/wedstrijd/324
 89
END:VEVENT
BEGIN:VEVENT
UID:https://hbb.rivio.dev/senioren/2023/wedstrijd/32511
DTSTAMP:20260420T151819Z
SUMMARY:Ganzeveer 2 - Con Brio 2
DESCRIPTION:Baan 13\, Wedstrijdnummer 2096\, Afdeling 2e klasse I
DTSTART:20240417T200000
DTEND:20240417T230000
LOCATION:City Resort Helmond
ATTACH;FMTTYPE=text/plain:https://hbb.rivio.dev/senioren/2023/wedstrijd/325
 11
END:VEVENT
BEGIN:VEVENT
UID:https://hbb.rivio.dev/senioren/2023/wedstrijd/32565
DTSTAMP:20260420T151819Z
SUMMARY:Ganzeveer 2 - Mixed 3
DESCRIPTION:Baan 5\, Wedstrijdnummer 2100\, Afdeling 2e klasse I
DTSTART:20240529T200000
DTEND:20240529T230000
LOCATION:City Resort Helmond
ATTACH;FMTTYPE=text/plain:https://hbb.rivio.dev/senioren/2023/wedstrijd/325
 65
END:VEVENT
BEGIN:VTIMEZONE
TZID:Europe/Amsterdam
BEGIN:STANDARD
DTSTART:20230101T000000
TZNAME:CET
TZOFFSETTO:+0100
TZOFFSETFROM:+0100
END:STANDARD
BEGIN:DAYLIGHT
DTSTART:20230326T030000
TZNAME:CEST
TZOFFSETTO:+0200
TZOFFSETFROM:+0100
END:DAYLIGHT
BEGIN:STANDARD
DTSTART:20231029T020000
TZNAME:CET
TZOFFSETTO:+0100
TZOFFSETFROM:+0200
END:STANDARD
BEGIN:DAYLIGHT
DTSTART:20240331T030000
TZNAME:CEST
TZOFFSETTO:+0200
TZOFFSETFROM:+0100
END:DAYLIGHT
BEGIN:STANDARD
DTSTART:20241027T020000
TZNAME:CET
TZOFFSETTO:+0100
TZOFFSETFROM:+0200
END:STANDARD
END:VTIMEZONE
END:VCALENDAR
