BEGIN:VCALENDAR
PRODID:-//eluceo/ical//2.0/EN
VERSION:2.0
CALSCALE:GREGORIAN
BEGIN:VEVENT
UID:https://hbb.rivio.dev/senioren/2023/wedstrijd/32164
DTSTAMP:20260420T184605Z
SUMMARY:Someren 5 - Someren 6
DESCRIPTION:Baan 3\, Wedstrijdnummer 172\, Afdeling 4e klasse 
DTSTART:20231005T200000
DTEND:20231005T230000
LOCATION:City Resort Helmond
ATTACH;FMTTYPE=text/plain:https://hbb.rivio.dev/senioren/2023/wedstrijd/321
 64
END:VEVENT
BEGIN:VEVENT
UID:https://hbb.rivio.dev/senioren/2023/wedstrijd/32206
DTSTAMP:20260420T184605Z
SUMMARY:Someren 6 - Heeze 1
DESCRIPTION:Baan 4\, Wedstrijdnummer 178\, Afdeling 4e klasse 
DTSTART:20231026T200000
DTEND:20231026T230000
LOCATION:City Resort Helmond
ATTACH;FMTTYPE=text/plain:https://hbb.rivio.dev/senioren/2023/wedstrijd/322
 06
END:VEVENT
BEGIN:VEVENT
UID:https://hbb.rivio.dev/senioren/2023/wedstrijd/32237
DTSTAMP:20260420T184605Z
SUMMARY:Someren 6 - Never Down 2
DESCRIPTION:Baan 11\, Wedstrijdnummer 185\, Afdeling 4e klasse 
DTSTART:20231109T200000
DTEND:20231109T230000
LOCATION:City Resort Helmond
ATTACH;FMTTYPE=text/plain:https://hbb.rivio.dev/senioren/2023/wedstrijd/322
 37
END:VEVENT
BEGIN:VEVENT
UID:https://hbb.rivio.dev/senioren/2023/wedstrijd/32260
DTSTAMP:20260420T184605Z
SUMMARY:Someren 6 - Hanevoet 3
DESCRIPTION:Baan 14\, Wedstrijdnummer 192\, Afdeling 4e klasse 
DTSTART:20231123T200000
DTEND:20231123T230000
LOCATION:City Resort Helmond
ATTACH;FMTTYPE=text/plain:https://hbb.rivio.dev/senioren/2023/wedstrijd/322
 60
END:VEVENT
BEGIN:VEVENT
UID:https://hbb.rivio.dev/senioren/2023/wedstrijd/32289
DTSTAMP:20260420T184605Z
SUMMARY:Someren 6 - Ganzeveer 4
DESCRIPTION:Baan 13\, Wedstrijdnummer 199\, Afdeling 4e klasse 
DTSTART:20231207T200000
DTEND:20231207T230000
LOCATION:City Resort Helmond
ATTACH;FMTTYPE=text/plain:https://hbb.rivio.dev/senioren/2023/wedstrijd/322
 89
END:VEVENT
BEGIN:VEVENT
UID:https://hbb.rivio.dev/senioren/2023/wedstrijd/32317
DTSTAMP:20260420T184605Z
SUMMARY:Someren 6 - BC '85 1
DESCRIPTION:Baan 11\, Wedstrijdnummer 206\, Afdeling 4e klasse 
DTSTART:20231221T200000
DTEND:20231221T230000
LOCATION:City Resort Helmond
ATTACH;FMTTYPE=text/plain:https://hbb.rivio.dev/senioren/2023/wedstrijd/323
 17
END:VEVENT
BEGIN:VEVENT
UID:https://hbb.rivio.dev/senioren/2023/wedstrijd/32362
DTSTAMP:20260420T184605Z
SUMMARY:Someren 6 - Mixed 5
DESCRIPTION:Baan 1\, Wedstrijdnummer 213\, Afdeling 4e klasse 
DTSTART:20240125T200000
DTEND:20240125T230000
LOCATION:City Resort Helmond
ATTACH;FMTTYPE=text/plain:https://hbb.rivio.dev/senioren/2023/wedstrijd/323
 62
END:VEVENT
BEGIN:VEVENT
UID:https://hbb.rivio.dev/senioren/2023/wedstrijd/32425
DTSTAMP:20260420T184605Z
SUMMARY:Mixed 6 - Someren 6
DESCRIPTION:Baan 4\, Wedstrijdnummer 225\, Afdeling 4e klasse 
DTSTART:20240229T200000
DTEND:20240229T230000
LOCATION:City Resort Helmond
ATTACH;FMTTYPE=text/plain:https://hbb.rivio.dev/senioren/2023/wedstrijd/324
 25
END:VEVENT
BEGIN:VEVENT
UID:https://hbb.rivio.dev/senioren/2023/wedstrijd/32465
DTSTAMP:20260420T184605Z
SUMMARY:Mierlo 9 - Someren 6
DESCRIPTION:Baan 4\, Wedstrijdnummer 230\, Afdeling 4e klasse 
DTSTART:20240321T200000
DTEND:20240321T230000
LOCATION:City Resort Helmond
ATTACH;FMTTYPE=text/plain:https://hbb.rivio.dev/senioren/2023/wedstrijd/324
 65
END:VEVENT
BEGIN:VEVENT
UID:https://hbb.rivio.dev/senioren/2023/wedstrijd/32495
DTSTAMP:20260420T184605Z
SUMMARY:Gemert 3 - Someren 6
DESCRIPTION:Baan 4\, Wedstrijdnummer 235\, Afdeling 4e klasse 
DTSTART:20240404T200000
DTEND:20240404T230000
LOCATION:City Resort Helmond
ATTACH;FMTTYPE=text/plain:https://hbb.rivio.dev/senioren/2023/wedstrijd/324
 95
END:VEVENT
BEGIN:VEVENT
UID:https://hbb.rivio.dev/senioren/2023/wedstrijd/32525
DTSTAMP:20260420T184605Z
SUMMARY:Con Brio 3 - Someren 6
DESCRIPTION:Baan 4\, Wedstrijdnummer 240\, Afdeling 4e klasse 
DTSTART:20240411T200000
DTEND:20240411T230000
LOCATION:City Resort Helmond
ATTACH;FMTTYPE=text/plain:https://hbb.rivio.dev/senioren/2023/wedstrijd/325
 25
END:VEVENT
BEGIN:VEVENT
UID:https://hbb.rivio.dev/senioren/2023/wedstrijd/32554
DTSTAMP:20260420T184605Z
SUMMARY:Bakel 5 - Someren 6
DESCRIPTION:Baan 3\, Wedstrijdnummer 245\, Afdeling 4e klasse 
DTSTART:20240523T200000
DTEND:20240523T230000
LOCATION:City Resort Helmond
ATTACH;FMTTYPE=text/plain:https://hbb.rivio.dev/senioren/2023/wedstrijd/325
 54
END:VEVENT
BEGIN:VTIMEZONE
TZID:Europe/Amsterdam
BEGIN:STANDARD
DTSTART:20230101T000000
TZNAME:CET
TZOFFSETTO:+0100
TZOFFSETFROM:+0100
END:STANDARD
BEGIN:DAYLIGHT
DTSTART:20230326T030000
TZNAME:CEST
TZOFFSETTO:+0200
TZOFFSETFROM:+0100
END:DAYLIGHT
BEGIN:STANDARD
DTSTART:20231029T020000
TZNAME:CET
TZOFFSETTO:+0100
TZOFFSETFROM:+0200
END:STANDARD
BEGIN:DAYLIGHT
DTSTART:20240331T030000
TZNAME:CEST
TZOFFSETTO:+0200
TZOFFSETFROM:+0100
END:DAYLIGHT
BEGIN:STANDARD
DTSTART:20241027T020000
TZNAME:CET
TZOFFSETTO:+0100
TZOFFSETFROM:+0200
END:STANDARD
END:VTIMEZONE
END:VCALENDAR
