BEGIN:VCALENDAR
PRODID:-//eluceo/ical//2.0/EN
VERSION:2.0
CALSCALE:GREGORIAN
BEGIN:VEVENT
UID:https://hbb.rivio.dev/senioren/2023/wedstrijd/32164
DTSTAMP:20260420T184330Z
SUMMARY:Someren 5 - Someren 6
DESCRIPTION:Baan 3\, Wedstrijdnummer 172\, Afdeling 4e klasse 
DTSTART:20231005T200000
DTEND:20231005T230000
LOCATION:City Resort Helmond
ATTACH;FMTTYPE=text/plain:https://hbb.rivio.dev/senioren/2023/wedstrijd/321
 64
END:VEVENT
BEGIN:VEVENT
UID:https://hbb.rivio.dev/senioren/2023/wedstrijd/32207
DTSTAMP:20260420T184330Z
SUMMARY:Someren 5 - Never Down 2
DESCRIPTION:Baan 11\, Wedstrijdnummer 179\, Afdeling 4e klasse 
DTSTART:20231026T200000
DTEND:20231026T230000
LOCATION:City Resort Helmond
ATTACH;FMTTYPE=text/plain:https://hbb.rivio.dev/senioren/2023/wedstrijd/322
 07
END:VEVENT
BEGIN:VEVENT
UID:https://hbb.rivio.dev/senioren/2023/wedstrijd/32238
DTSTAMP:20260420T184330Z
SUMMARY:Someren 5 - Hanevoet 3
DESCRIPTION:Baan 12\, Wedstrijdnummer 186\, Afdeling 4e klasse 
DTSTART:20231109T200000
DTEND:20231109T230000
LOCATION:City Resort Helmond
ATTACH;FMTTYPE=text/plain:https://hbb.rivio.dev/senioren/2023/wedstrijd/322
 38
END:VEVENT
BEGIN:VEVENT
UID:https://hbb.rivio.dev/senioren/2023/wedstrijd/32261
DTSTAMP:20260420T184330Z
SUMMARY:Someren 5 - Ganzeveer 4
DESCRIPTION:Baan 15\, Wedstrijdnummer 193\, Afdeling 4e klasse 
DTSTART:20231123T200000
DTEND:20231123T230000
LOCATION:City Resort Helmond
ATTACH;FMTTYPE=text/plain:https://hbb.rivio.dev/senioren/2023/wedstrijd/322
 61
END:VEVENT
BEGIN:VEVENT
UID:https://hbb.rivio.dev/senioren/2023/wedstrijd/32290
DTSTAMP:20260420T184330Z
SUMMARY:Someren 5 - BC '85 1
DESCRIPTION:Baan 14\, Wedstrijdnummer 200\, Afdeling 4e klasse 
DTSTART:20231207T200000
DTEND:20231207T230000
LOCATION:City Resort Helmond
ATTACH;FMTTYPE=text/plain:https://hbb.rivio.dev/senioren/2023/wedstrijd/322
 90
END:VEVENT
BEGIN:VEVENT
UID:https://hbb.rivio.dev/senioren/2023/wedstrijd/32318
DTSTAMP:20260420T184330Z
SUMMARY:Someren 5 - Mixed 5
DESCRIPTION:Baan 12\, Wedstrijdnummer 207\, Afdeling 4e klasse 
DTSTART:20231221T200000
DTEND:20231221T230000
LOCATION:City Resort Helmond
ATTACH;FMTTYPE=text/plain:https://hbb.rivio.dev/senioren/2023/wedstrijd/323
 18
END:VEVENT
BEGIN:VEVENT
UID:https://hbb.rivio.dev/senioren/2023/wedstrijd/32395
DTSTAMP:20260420T184330Z
SUMMARY:Mixed 6 - Someren 5
DESCRIPTION:Baan 4\, Wedstrijdnummer 219\, Afdeling 4e klasse 
DTSTART:20240208T200000
DTEND:20240208T230000
LOCATION:City Resort Helmond
ATTACH;FMTTYPE=text/plain:https://hbb.rivio.dev/senioren/2023/wedstrijd/323
 95
END:VEVENT
BEGIN:VEVENT
UID:https://hbb.rivio.dev/senioren/2023/wedstrijd/32424
DTSTAMP:20260420T184330Z
SUMMARY:Mierlo 9 - Someren 5
DESCRIPTION:Baan 3\, Wedstrijdnummer 224\, Afdeling 4e klasse 
DTSTART:20240229T200000
DTEND:20240229T230000
LOCATION:City Resort Helmond
ATTACH;FMTTYPE=text/plain:https://hbb.rivio.dev/senioren/2023/wedstrijd/324
 24
END:VEVENT
BEGIN:VEVENT
UID:https://hbb.rivio.dev/senioren/2023/wedstrijd/32451
DTSTAMP:20260420T184330Z
SUMMARY:Gemert 3 - Someren 5
DESCRIPTION:Baan 13\, Wedstrijdnummer 229\, Afdeling 4e klasse 
DTSTART:20240307T200000
DTEND:20240307T230000
LOCATION:City Resort Helmond
ATTACH;FMTTYPE=text/plain:https://hbb.rivio.dev/senioren/2023/wedstrijd/324
 51
END:VEVENT
BEGIN:VEVENT
UID:https://hbb.rivio.dev/senioren/2023/wedstrijd/32494
DTSTAMP:20260420T184330Z
SUMMARY:Con Brio 3 - Someren 5
DESCRIPTION:Baan 3\, Wedstrijdnummer 234\, Afdeling 4e klasse 
DTSTART:20240404T200000
DTEND:20240404T230000
LOCATION:City Resort Helmond
ATTACH;FMTTYPE=text/plain:https://hbb.rivio.dev/senioren/2023/wedstrijd/324
 94
END:VEVENT
BEGIN:VEVENT
UID:https://hbb.rivio.dev/senioren/2023/wedstrijd/32524
DTSTAMP:20260420T184330Z
SUMMARY:Bakel 5 - Someren 5
DESCRIPTION:Baan 3\, Wedstrijdnummer 239\, Afdeling 4e klasse 
DTSTART:20240411T200000
DTEND:20240411T230000
LOCATION:City Resort Helmond
ATTACH;FMTTYPE=text/plain:https://hbb.rivio.dev/senioren/2023/wedstrijd/325
 24
END:VEVENT
BEGIN:VEVENT
UID:https://hbb.rivio.dev/senioren/2023/wedstrijd/32553
DTSTAMP:20260420T184330Z
SUMMARY:Heeze 1 - Someren 5
DESCRIPTION:Baan 2\, Wedstrijdnummer 244\, Afdeling 4e klasse 
DTSTART:20240523T200000
DTEND:20240523T230000
LOCATION:City Resort Helmond
ATTACH;FMTTYPE=text/plain:https://hbb.rivio.dev/senioren/2023/wedstrijd/325
 53
END:VEVENT
BEGIN:VTIMEZONE
TZID:Europe/Amsterdam
BEGIN:STANDARD
DTSTART:20230101T000000
TZNAME:CET
TZOFFSETTO:+0100
TZOFFSETFROM:+0100
END:STANDARD
BEGIN:DAYLIGHT
DTSTART:20230326T030000
TZNAME:CEST
TZOFFSETTO:+0200
TZOFFSETFROM:+0100
END:DAYLIGHT
BEGIN:STANDARD
DTSTART:20231029T020000
TZNAME:CET
TZOFFSETTO:+0100
TZOFFSETFROM:+0200
END:STANDARD
BEGIN:DAYLIGHT
DTSTART:20240331T030000
TZNAME:CEST
TZOFFSETTO:+0200
TZOFFSETFROM:+0100
END:DAYLIGHT
BEGIN:STANDARD
DTSTART:20241027T020000
TZNAME:CET
TZOFFSETTO:+0100
TZOFFSETFROM:+0200
END:STANDARD
END:VTIMEZONE
END:VCALENDAR
