BEGIN:VCALENDAR
PRODID:-//eluceo/ical//2.0/EN
VERSION:2.0
CALSCALE:GREGORIAN
BEGIN:VEVENT
UID:https://hbb.rivio.dev/senioren/2023/wedstrijd/32137
DTSTAMP:20260420T184159Z
SUMMARY:Bakel 3 - VBSC 1
DESCRIPTION:Baan 11\, Wedstrijdnummer 44\, Afdeling Overgangsklasse 
DTSTART:20230921T200000
DTEND:20230921T230000
LOCATION:City Resort Helmond
ATTACH;FMTTYPE=text/plain:https://hbb.rivio.dev/senioren/2023/wedstrijd/321
 37
END:VEVENT
BEGIN:VEVENT
UID:https://hbb.rivio.dev/senioren/2023/wedstrijd/32182
DTSTAMP:20260420T184159Z
SUMMARY:Bakel 3 - Mixed 2
DESCRIPTION:Baan 1\, Wedstrijdnummer 48\, Afdeling Overgangsklasse 
DTSTART:20231012T200000
DTEND:20231012T230000
LOCATION:City Resort Helmond
ATTACH;FMTTYPE=text/plain:https://hbb.rivio.dev/senioren/2023/wedstrijd/321
 82
END:VEVENT
BEGIN:VEVENT
UID:https://hbb.rivio.dev/senioren/2023/wedstrijd/32214
DTSTAMP:20260420T184159Z
SUMMARY:Bakel 3 - Ganzeveer 1
DESCRIPTION:Baan 3\, Wedstrijdnummer 52\, Afdeling Overgangsklasse 
DTSTART:20231102T200000
DTEND:20231102T230000
LOCATION:City Resort Helmond
ATTACH;FMTTYPE=text/plain:https://hbb.rivio.dev/senioren/2023/wedstrijd/322
 14
END:VEVENT
BEGIN:VEVENT
UID:https://hbb.rivio.dev/senioren/2023/wedstrijd/32277
DTSTAMP:20260420T184159Z
SUMMARY:Phoenix 2 - Bakel 3
DESCRIPTION:Baan 11\, Wedstrijdnummer 58\, Afdeling Overgangsklasse 
DTSTART:20231206T200000
DTEND:20231206T230000
LOCATION:City Resort Helmond
ATTACH;FMTTYPE=text/plain:https://hbb.rivio.dev/senioren/2023/wedstrijd/322
 77
END:VEVENT
BEGIN:VEVENT
UID:https://hbb.rivio.dev/senioren/2023/wedstrijd/32296
DTSTAMP:20260420T184159Z
SUMMARY:Mierlo 3 - Bakel 3
DESCRIPTION:Baan 5\, Wedstrijdnummer 60\, Afdeling Overgangsklasse 
DTSTART:20231214T200000
DTEND:20231214T230000
LOCATION:City Resort Helmond
ATTACH;FMTTYPE=text/plain:https://hbb.rivio.dev/senioren/2023/wedstrijd/322
 96
END:VEVENT
BEGIN:VEVENT
UID:https://hbb.rivio.dev/senioren/2023/wedstrijd/32336
DTSTAMP:20260420T184159Z
SUMMARY:Smashing Bruang 1 - Bakel 3
DESCRIPTION:Baan 4\, Wedstrijdnummer 62\, Afdeling Overgangsklasse 
DTSTART:20240111T200000
DTEND:20240111T230000
LOCATION:City Resort Helmond
ATTACH;FMTTYPE=text/plain:https://hbb.rivio.dev/senioren/2023/wedstrijd/323
 36
END:VEVENT
BEGIN:VEVENT
UID:https://hbb.rivio.dev/senioren/2023/wedstrijd/32412
DTSTAMP:20260420T184159Z
SUMMARY:Mixed 2 - Bakel 3
DESCRIPTION:Baan 1\, Wedstrijdnummer 1048\, Afdeling Overgangsklasse 
DTSTART:20240222T200000
DTEND:20240222T230000
LOCATION:City Resort Helmond
ATTACH;FMTTYPE=text/plain:https://hbb.rivio.dev/senioren/2023/wedstrijd/324
 12
END:VEVENT
BEGIN:VEVENT
UID:https://hbb.rivio.dev/senioren/2023/wedstrijd/32441
DTSTAMP:20260420T184159Z
SUMMARY:Ganzeveer 1 - Bakel 3
DESCRIPTION:Baan 15\, Wedstrijdnummer 1052\, Afdeling Overgangsklasse 
DTSTART:20240306T200000
DTEND:20240306T230000
LOCATION:City Resort Helmond
ATTACH;FMTTYPE=text/plain:https://hbb.rivio.dev/senioren/2023/wedstrijd/324
 41
END:VEVENT
BEGIN:VEVENT
UID:https://hbb.rivio.dev/senioren/2023/wedstrijd/32372
DTSTAMP:20260420T184159Z
SUMMARY:VBSC 1 - Bakel 3
DESCRIPTION:Baan 13\, Wedstrijdnummer 1044\, Afdeling Overgangsklasse 
DTSTART:20240328T200000
DTEND:20240328T230000
LOCATION:City Resort Helmond
ATTACH;FMTTYPE=text/plain:https://hbb.rivio.dev/senioren/2023/wedstrijd/323
 72
END:VEVENT
BEGIN:VEVENT
UID:https://hbb.rivio.dev/senioren/2023/wedstrijd/32501
DTSTAMP:20260420T184159Z
SUMMARY:Bakel 3 - Phoenix 2
DESCRIPTION:Baan 15\, Wedstrijdnummer 1058\, Afdeling Overgangsklasse 
DTSTART:20240404T200000
DTEND:20240404T230000
LOCATION:City Resort Helmond
ATTACH;FMTTYPE=text/plain:https://hbb.rivio.dev/senioren/2023/wedstrijd/325
 01
END:VEVENT
BEGIN:VEVENT
UID:https://hbb.rivio.dev/senioren/2023/wedstrijd/32531
DTSTAMP:20260420T184159Z
SUMMARY:Bakel 3 - Mierlo 3
DESCRIPTION:Baan 15\, Wedstrijdnummer 1060\, Afdeling Overgangsklasse 
DTSTART:20240411T200000
DTEND:20240411T230000
LOCATION:City Resort Helmond
ATTACH;FMTTYPE=text/plain:https://hbb.rivio.dev/senioren/2023/wedstrijd/325
 31
END:VEVENT
BEGIN:VEVENT
UID:https://hbb.rivio.dev/senioren/2023/wedstrijd/32569
DTSTAMP:20260420T184159Z
SUMMARY:Bakel 3 - Smashing Bruang 1
DESCRIPTION:Baan 1\, Wedstrijdnummer 1062\, Afdeling Overgangsklasse 
DTSTART:20240530T200000
DTEND:20240530T230000
LOCATION:City Resort Helmond
ATTACH;FMTTYPE=text/plain:https://hbb.rivio.dev/senioren/2023/wedstrijd/325
 69
END:VEVENT
BEGIN:VTIMEZONE
TZID:Europe/Amsterdam
BEGIN:STANDARD
DTSTART:20230101T000000
TZNAME:CET
TZOFFSETTO:+0100
TZOFFSETFROM:+0100
END:STANDARD
BEGIN:DAYLIGHT
DTSTART:20230326T030000
TZNAME:CEST
TZOFFSETTO:+0200
TZOFFSETFROM:+0100
END:DAYLIGHT
BEGIN:STANDARD
DTSTART:20231029T020000
TZNAME:CET
TZOFFSETTO:+0100
TZOFFSETFROM:+0200
END:STANDARD
BEGIN:DAYLIGHT
DTSTART:20240331T030000
TZNAME:CEST
TZOFFSETTO:+0200
TZOFFSETFROM:+0100
END:DAYLIGHT
BEGIN:STANDARD
DTSTART:20241027T020000
TZNAME:CET
TZOFFSETTO:+0100
TZOFFSETFROM:+0200
END:STANDARD
END:VTIMEZONE
END:VCALENDAR
