BEGIN:VCALENDAR
PRODID:-//eluceo/ical//2.0/EN
VERSION:2.0
CALSCALE:GREGORIAN
BEGIN:VEVENT
UID:https://hbb.rivio.dev/senioren/2023/wedstrijd/32125
DTSTAMP:20260420T202821Z
SUMMARY:Bakel 2 - Someren 1
DESCRIPTION:Baan 4\, Wedstrijdnummer 29\, Afdeling Hoofdklasse 
DTSTART:20230914T200000
DTEND:20230914T230000
LOCATION:City Resort Helmond
ATTACH;FMTTYPE=text/plain:https://hbb.rivio.dev/senioren/2023/wedstrijd/321
 25
END:VEVENT
BEGIN:VEVENT
UID:https://hbb.rivio.dev/senioren/2023/wedstrijd/32145
DTSTAMP:20260420T202821Z
SUMMARY:Scarabee 1 - Bakel 2
DESCRIPTION:Baan 4\, Wedstrijdnummer 32\, Afdeling Hoofdklasse 
DTSTART:20230927T200000
DTEND:20230927T230000
LOCATION:City Resort Helmond
ATTACH;FMTTYPE=text/plain:https://hbb.rivio.dev/senioren/2023/wedstrijd/321
 45
END:VEVENT
BEGIN:VEVENT
UID:https://hbb.rivio.dev/senioren/2023/wedstrijd/32187
DTSTAMP:20260420T202821Z
SUMMARY:Bakel 2 - RBC 1
DESCRIPTION:Baan 11\, Wedstrijdnummer 35\, Afdeling Hoofdklasse 
DTSTART:20231012T200000
DTEND:20231012T230000
LOCATION:City Resort Helmond
ATTACH;FMTTYPE=text/plain:https://hbb.rivio.dev/senioren/2023/wedstrijd/321
 87
END:VEVENT
BEGIN:VEVENT
UID:https://hbb.rivio.dev/senioren/2023/wedstrijd/32218
DTSTAMP:20260420T202821Z
SUMMARY:Mierlo 2 - Bakel 2
DESCRIPTION:Baan 12\, Wedstrijdnummer 38\, Afdeling Hoofdklasse 
DTSTART:20231102T200000
DTEND:20231102T230000
LOCATION:City Resort Helmond
ATTACH;FMTTYPE=text/plain:https://hbb.rivio.dev/senioren/2023/wedstrijd/322
 18
END:VEVENT
BEGIN:VEVENT
UID:https://hbb.rivio.dev/senioren/2023/wedstrijd/32247
DTSTAMP:20260420T202821Z
SUMMARY:Bakel 2 - Hanevoet 1
DESCRIPTION:Baan 11\, Wedstrijdnummer 41\, Afdeling Hoofdklasse 
DTSTART:20231116T200000
DTEND:20231116T230000
LOCATION:City Resort Helmond
ATTACH;FMTTYPE=text/plain:https://hbb.rivio.dev/senioren/2023/wedstrijd/322
 47
END:VEVENT
BEGIN:VEVENT
UID:https://hbb.rivio.dev/senioren/2023/wedstrijd/32269
DTSTAMP:20260420T202821Z
SUMMARY:Someren 1 - Bakel 2
DESCRIPTION:Baan 13\, Wedstrijdnummer 1029\, Afdeling Hoofdklasse 
DTSTART:20231130T200000
DTEND:20231130T230000
LOCATION:City Resort Helmond
ATTACH;FMTTYPE=text/plain:https://hbb.rivio.dev/senioren/2023/wedstrijd/322
 69
END:VEVENT
BEGIN:VEVENT
UID:https://hbb.rivio.dev/senioren/2023/wedstrijd/32300
DTSTAMP:20260420T202821Z
SUMMARY:Bakel 2 - Scarabee 1
DESCRIPTION:Baan 14\, Wedstrijdnummer 1032\, Afdeling Hoofdklasse 
DTSTART:20231214T200000
DTEND:20231214T230000
LOCATION:City Resort Helmond
ATTACH;FMTTYPE=text/plain:https://hbb.rivio.dev/senioren/2023/wedstrijd/323
 00
END:VEVENT
BEGIN:VEVENT
UID:https://hbb.rivio.dev/senioren/2023/wedstrijd/32340
DTSTAMP:20260420T202821Z
SUMMARY:RBC 1 - Bakel 2
DESCRIPTION:Baan 14\, Wedstrijdnummer 1035\, Afdeling Hoofdklasse 
DTSTART:20240111T200000
DTEND:20240111T230000
LOCATION:City Resort Helmond
ATTACH;FMTTYPE=text/plain:https://hbb.rivio.dev/senioren/2023/wedstrijd/323
 40
END:VEVENT
BEGIN:VEVENT
UID:https://hbb.rivio.dev/senioren/2023/wedstrijd/32375
DTSTAMP:20260420T202821Z
SUMMARY:Bakel 2 - Mierlo 2
DESCRIPTION:Baan 4\, Wedstrijdnummer 1038\, Afdeling Hoofdklasse 
DTSTART:20240201T200000
DTEND:20240201T230000
LOCATION:City Resort Helmond
ATTACH;FMTTYPE=text/plain:https://hbb.rivio.dev/senioren/2023/wedstrijd/323
 75
END:VEVENT
BEGIN:VEVENT
UID:https://hbb.rivio.dev/senioren/2023/wedstrijd/32414
DTSTAMP:20260420T202821Z
SUMMARY:Hanevoet 1 - Bakel 2
DESCRIPTION:Baan 3\, Wedstrijdnummer 1041\, Afdeling Hoofdklasse 
DTSTART:20240222T200000
DTEND:20240222T230000
LOCATION:City Resort Helmond
ATTACH;FMTTYPE=text/plain:https://hbb.rivio.dev/senioren/2023/wedstrijd/324
 14
END:VEVENT
BEGIN:VEVENT
UID:https://hbb.rivio.dev/senioren/2023/wedstrijd/32431
DTSTAMP:20260420T202821Z
SUMMARY:Bakel 2 - Someren 1
DESCRIPTION:Baan 15\, Wedstrijdnummer 2029\, Afdeling Hoofdklasse 
DTSTART:20240229T200000
DTEND:20240229T230000
LOCATION:City Resort Helmond
ATTACH;FMTTYPE=text/plain:https://hbb.rivio.dev/senioren/2023/wedstrijd/324
 31
END:VEVENT
BEGIN:VEVENT
UID:https://hbb.rivio.dev/senioren/2023/wedstrijd/32484
DTSTAMP:20260420T202821Z
SUMMARY:Scarabee 1 - Bakel 2
DESCRIPTION:Baan 3\, Wedstrijdnummer 2032\, Afdeling Hoofdklasse 
DTSTART:20240403T200000
DTEND:20240403T230000
LOCATION:City Resort Helmond
ATTACH;FMTTYPE=text/plain:https://hbb.rivio.dev/senioren/2023/wedstrijd/324
 84
END:VEVENT
BEGIN:VEVENT
UID:https://hbb.rivio.dev/senioren/2023/wedstrijd/32514
DTSTAMP:20260420T202821Z
SUMMARY:Bakel 2 - RBC 1
DESCRIPTION:Baan 3\, Wedstrijdnummer 2035\, Afdeling Hoofdklasse 
DTSTART:20240418T200000
DTEND:20240418T230000
LOCATION:City Resort Helmond
ATTACH;FMTTYPE=text/plain:https://hbb.rivio.dev/senioren/2023/wedstrijd/325
 14
END:VEVENT
BEGIN:VEVENT
UID:https://hbb.rivio.dev/senioren/2023/wedstrijd/32545
DTSTAMP:20260420T202821Z
SUMMARY:Mierlo 2 - Bakel 2
DESCRIPTION:Baan 4\, Wedstrijdnummer 2038\, Afdeling Hoofdklasse 
DTSTART:20240516T200000
DTEND:20240516T230000
LOCATION:City Resort Helmond
ATTACH;FMTTYPE=text/plain:https://hbb.rivio.dev/senioren/2023/wedstrijd/325
 45
END:VEVENT
BEGIN:VEVENT
UID:https://hbb.rivio.dev/senioren/2023/wedstrijd/32574
DTSTAMP:20260420T202821Z
SUMMARY:Bakel 2 - Hanevoet 1
DESCRIPTION:Baan 11\, Wedstrijdnummer 2041\, Afdeling Hoofdklasse 
DTSTART:20240530T200000
DTEND:20240530T230000
LOCATION:City Resort Helmond
ATTACH;FMTTYPE=text/plain:https://hbb.rivio.dev/senioren/2023/wedstrijd/325
 74
END:VEVENT
BEGIN:VTIMEZONE
TZID:Europe/Amsterdam
BEGIN:STANDARD
DTSTART:20230101T000000
TZNAME:CET
TZOFFSETTO:+0100
TZOFFSETFROM:+0100
END:STANDARD
BEGIN:DAYLIGHT
DTSTART:20230326T030000
TZNAME:CEST
TZOFFSETTO:+0200
TZOFFSETFROM:+0100
END:DAYLIGHT
BEGIN:STANDARD
DTSTART:20231029T020000
TZNAME:CET
TZOFFSETTO:+0100
TZOFFSETFROM:+0200
END:STANDARD
BEGIN:DAYLIGHT
DTSTART:20240331T030000
TZNAME:CEST
TZOFFSETTO:+0200
TZOFFSETFROM:+0100
END:DAYLIGHT
BEGIN:STANDARD
DTSTART:20241027T020000
TZNAME:CET
TZOFFSETTO:+0100
TZOFFSETFROM:+0200
END:STANDARD
END:VTIMEZONE
END:VCALENDAR
