BEGIN:VCALENDAR
PRODID:-//eluceo/ical//2.0/EN
VERSION:2.0
CALSCALE:GREGORIAN
BEGIN:VEVENT
UID:https://hbb.rivio.dev/jeugd/2023/wedstrijd/30957
DTSTAMP:20260420T090600Z
SUMMARY:Geldrop 4 - Phoenix 4
DESCRIPTION:Baan 12\, Wedstrijdnummer 19\, Afdeling I-klasse 
DTSTART:20230917T093000
DTEND:20230917T111500
LOCATION:City Resort Helmond
ATTACH;FMTTYPE=text/plain:https://hbb.rivio.dev/jeugd/2023/wedstrijd/30957
END:VEVENT
BEGIN:VEVENT
UID:https://hbb.rivio.dev/jeugd/2023/wedstrijd/30979
DTSTAMP:20260420T090600Z
SUMMARY:Veldhoven 3 - Phoenix 4
DESCRIPTION:Baan 12\, Wedstrijdnummer 41\, Afdeling I-klasse 
DTSTART:20231001T093000
DTEND:20231001T111500
LOCATION:City Resort Helmond
ATTACH;FMTTYPE=text/plain:https://hbb.rivio.dev/jeugd/2023/wedstrijd/30979
END:VEVENT
BEGIN:VEVENT
UID:https://hbb.rivio.dev/jeugd/2023/wedstrijd/30996
DTSTAMP:20260420T090600Z
SUMMARY:Bakel 2 - Phoenix 4
DESCRIPTION:Baan 3\, Wedstrijdnummer 58\, Afdeling I-klasse 
DTSTART:20231029T093000
DTEND:20231029T111500
LOCATION:City Resort Helmond
ATTACH;FMTTYPE=text/plain:https://hbb.rivio.dev/jeugd/2023/wedstrijd/30996
END:VEVENT
BEGIN:VEVENT
UID:https://hbb.rivio.dev/jeugd/2023/wedstrijd/31006
DTSTAMP:20260420T090600Z
SUMMARY:Phoenix 4 - Gemert 4
DESCRIPTION:Baan 2\, Wedstrijdnummer 68\, Afdeling I-klasse 
DTSTART:20231105T093000
DTEND:20231105T111500
LOCATION:City Resort Helmond
ATTACH;FMTTYPE=text/plain:https://hbb.rivio.dev/jeugd/2023/wedstrijd/31006
END:VEVENT
BEGIN:VEVENT
UID:https://hbb.rivio.dev/jeugd/2023/wedstrijd/31037
DTSTAMP:20260420T090600Z
SUMMARY:Phoenix 4 - Geldrop 3
DESCRIPTION:Baan 15\, Wedstrijdnummer 99\, Afdeling I-klasse 
DTSTART:20231119T093000
DTEND:20231119T111500
LOCATION:City Resort Helmond
ATTACH;FMTTYPE=text/plain:https://hbb.rivio.dev/jeugd/2023/wedstrijd/31037
END:VEVENT
BEGIN:VEVENT
UID:https://hbb.rivio.dev/jeugd/2023/wedstrijd/31075
DTSTAMP:20260420T090600Z
SUMMARY:Phoenix 4 - VBSC 1
DESCRIPTION:Baan 13\, Wedstrijdnummer 137\, Afdeling I-klasse 
DTSTART:20231217T093000
DTEND:20231217T111500
LOCATION:City Resort Helmond
ATTACH;FMTTYPE=text/plain:https://hbb.rivio.dev/jeugd/2023/wedstrijd/31075
END:VEVENT
BEGIN:VEVENT
UID:https://hbb.rivio.dev/jeugd/2023/wedstrijd/31080
DTSTAMP:20260420T090600Z
SUMMARY:Mixed 6 - Phoenix 4
DESCRIPTION:Baan 3\, Wedstrijdnummer 142\, Afdeling I-klasse 
DTSTART:20240114T093000
DTEND:20240114T111500
LOCATION:City Resort Helmond
ATTACH;FMTTYPE=text/plain:https://hbb.rivio.dev/jeugd/2023/wedstrijd/31080
END:VEVENT
BEGIN:VEVENT
UID:https://hbb.rivio.dev/jeugd/2023/wedstrijd/31089
DTSTAMP:20260420T090600Z
SUMMARY:Phoenix 4 - Geldrop 4
DESCRIPTION:Baan 2\, Wedstrijdnummer 151\, Afdeling I-klasse 
DTSTART:20240121T093000
DTEND:20240121T111500
LOCATION:City Resort Helmond
ATTACH;FMTTYPE=text/plain:https://hbb.rivio.dev/jeugd/2023/wedstrijd/31089
END:VEVENT
BEGIN:VEVENT
UID:https://hbb.rivio.dev/jeugd/2023/wedstrijd/31105
DTSTAMP:20260420T090600Z
SUMMARY:Phoenix 4 - Veldhoven 3
DESCRIPTION:Baan 3\, Wedstrijdnummer 172\, Afdeling I-klasse 
DTSTART:20240225T093000
DTEND:20240225T111500
LOCATION:City Resort Helmond
ATTACH;FMTTYPE=text/plain:https://hbb.rivio.dev/jeugd/2023/wedstrijd/31105
END:VEVENT
BEGIN:VEVENT
UID:https://hbb.rivio.dev/jeugd/2023/wedstrijd/31120
DTSTAMP:20260420T090600Z
SUMMARY:Phoenix 4 - Bakel 2
DESCRIPTION:Baan 1\, Wedstrijdnummer 192\, Afdeling I-klasse 
DTSTART:20240310T093000
DTEND:20240310T111500
LOCATION:City Resort Helmond
ATTACH;FMTTYPE=text/plain:https://hbb.rivio.dev/jeugd/2023/wedstrijd/31120
END:VEVENT
BEGIN:VEVENT
UID:https://hbb.rivio.dev/jeugd/2023/wedstrijd/31154
DTSTAMP:20260420T090600Z
SUMMARY:Geldrop 3 - Phoenix 4
DESCRIPTION:Baan 2\, Wedstrijdnummer 231\, Afdeling I-klasse 
DTSTART:20240317T093000
DTEND:20240317T111500
LOCATION:City Resort Helmond
ATTACH;FMTTYPE=text/plain:https://hbb.rivio.dev/jeugd/2023/wedstrijd/31154
END:VEVENT
BEGIN:VEVENT
UID:https://hbb.rivio.dev/jeugd/2023/wedstrijd/31139
DTSTAMP:20260420T090600Z
SUMMARY:Gemert 4 - Phoenix 4
DESCRIPTION:Baan 3\, Wedstrijdnummer 216\, Afdeling I-klasse 
DTSTART:20240324T093000
DTEND:20240324T111500
LOCATION:City Resort Helmond
ATTACH;FMTTYPE=text/plain:https://hbb.rivio.dev/jeugd/2023/wedstrijd/31139
END:VEVENT
BEGIN:VEVENT
UID:https://hbb.rivio.dev/jeugd/2023/wedstrijd/31166
DTSTAMP:20260420T090600Z
SUMMARY:VBSC 1 - Phoenix 4
DESCRIPTION:Baan 15\, Wedstrijdnummer 246\, Afdeling I-klasse 
DTSTART:20240414T093000
DTEND:20240414T111500
LOCATION:City Resort Helmond
ATTACH;FMTTYPE=text/plain:https://hbb.rivio.dev/jeugd/2023/wedstrijd/31166
END:VEVENT
BEGIN:VEVENT
UID:https://hbb.rivio.dev/jeugd/2023/wedstrijd/31175
DTSTAMP:20260420T090600Z
SUMMARY:Phoenix 4 - Mixed 6
DESCRIPTION:Baan 15\, Wedstrijdnummer 257\, Afdeling I-klasse 
DTSTART:20240526T093000
DTEND:20240526T111500
LOCATION:City Resort Helmond
ATTACH;FMTTYPE=text/plain:https://hbb.rivio.dev/jeugd/2023/wedstrijd/31175
END:VEVENT
BEGIN:VTIMEZONE
TZID:Europe/Amsterdam
BEGIN:STANDARD
DTSTART:20230101T000000
TZNAME:CET
TZOFFSETTO:+0100
TZOFFSETFROM:+0100
END:STANDARD
BEGIN:DAYLIGHT
DTSTART:20230326T030000
TZNAME:CEST
TZOFFSETTO:+0200
TZOFFSETFROM:+0100
END:DAYLIGHT
BEGIN:STANDARD
DTSTART:20231029T020000
TZNAME:CET
TZOFFSETTO:+0100
TZOFFSETFROM:+0200
END:STANDARD
BEGIN:DAYLIGHT
DTSTART:20240331T030000
TZNAME:CEST
TZOFFSETTO:+0200
TZOFFSETFROM:+0100
END:DAYLIGHT
BEGIN:STANDARD
DTSTART:20241027T020000
TZNAME:CET
TZOFFSETTO:+0100
TZOFFSETFROM:+0200
END:STANDARD
END:VTIMEZONE
END:VCALENDAR
