BEGIN:VCALENDAR
PRODID:-//eluceo/ical//2.0/EN
VERSION:2.0
CALSCALE:GREGORIAN
BEGIN:VEVENT
UID:https://hbb.rivio.dev/jeugd/2023/wedstrijd/30939
DTSTAMP:20260420T184340Z
SUMMARY:Phoenix 1 - Phoenix 2
DESCRIPTION:Baan 1\, Wedstrijdnummer 1\, Afdeling F-klasse 
DTSTART:20230910T093000
DTEND:20230910T111500
LOCATION:City Resort Helmond
ATTACH;FMTTYPE=text/plain:https://hbb.rivio.dev/jeugd/2023/wedstrijd/30939
END:VEVENT
BEGIN:VEVENT
UID:https://hbb.rivio.dev/jeugd/2023/wedstrijd/30951
DTSTAMP:20260420T184340Z
SUMMARY:'t Veertje 1 - Phoenix 1
DESCRIPTION:Baan 2\, Wedstrijdnummer 13\, Afdeling G-klasse 
DTSTART:20230917T093000
DTEND:20230917T111500
LOCATION:City Resort Helmond
ATTACH;FMTTYPE=text/plain:https://hbb.rivio.dev/jeugd/2023/wedstrijd/30951
END:VEVENT
BEGIN:VEVENT
UID:https://hbb.rivio.dev/jeugd/2023/wedstrijd/30974
DTSTAMP:20260420T184340Z
SUMMARY:Mixed 5 - Phoenix 1
DESCRIPTION:Baan 3\, Wedstrijdnummer 36\, Afdeling G-klasse 
DTSTART:20230924T093000
DTEND:20230924T111500
LOCATION:City Resort Helmond
ATTACH;FMTTYPE=text/plain:https://hbb.rivio.dev/jeugd/2023/wedstrijd/30974
END:VEVENT
BEGIN:VEVENT
UID:https://hbb.rivio.dev/jeugd/2023/wedstrijd/30965
DTSTAMP:20260420T184340Z
SUMMARY:Phoenix 1 - Geldrop 1
DESCRIPTION:Baan 5\, Wedstrijdnummer 27\, Afdeling F-klasse 
DTSTART:20231001T093000
DTEND:20231001T111500
LOCATION:City Resort Helmond
ATTACH;FMTTYPE=text/plain:https://hbb.rivio.dev/jeugd/2023/wedstrijd/30965
END:VEVENT
BEGIN:VEVENT
UID:https://hbb.rivio.dev/jeugd/2023/wedstrijd/31004
DTSTAMP:20260420T184340Z
SUMMARY:Phoenix 1 - Veldhoven 1
DESCRIPTION:Baan 15\, Wedstrijdnummer 66\, Afdeling F-klasse 
DTSTART:20231029T093000
DTEND:20231029T111500
LOCATION:City Resort Helmond
ATTACH;FMTTYPE=text/plain:https://hbb.rivio.dev/jeugd/2023/wedstrijd/31004
END:VEVENT
BEGIN:VEVENT
UID:https://hbb.rivio.dev/jeugd/2023/wedstrijd/31015
DTSTAMP:20260420T184340Z
SUMMARY:Mierlo 4 - Phoenix 1
DESCRIPTION:Baan 15\, Wedstrijdnummer 77\, Afdeling G-klasse 
DTSTART:20231105T093000
DTEND:20231105T111500
LOCATION:City Resort Helmond
ATTACH;FMTTYPE=text/plain:https://hbb.rivio.dev/jeugd/2023/wedstrijd/31015
END:VEVENT
BEGIN:VEVENT
UID:https://hbb.rivio.dev/jeugd/2023/wedstrijd/31021
DTSTAMP:20260420T184340Z
SUMMARY:Phoenix 1 - Gemert 3
DESCRIPTION:Baan 10\, Wedstrijdnummer 83\, Afdeling F-klasse 
DTSTART:20231112T093000
DTEND:20231112T111500
LOCATION:City Resort Helmond
ATTACH;FMTTYPE=text/plain:https://hbb.rivio.dev/jeugd/2023/wedstrijd/31021
END:VEVENT
BEGIN:VEVENT
UID:https://hbb.rivio.dev/jeugd/2023/wedstrijd/31042
DTSTAMP:20260420T184340Z
SUMMARY:Phoenix 1 - RBC 1
DESCRIPTION:Baan 5\, Wedstrijdnummer 104\, Afdeling F-klasse 
DTSTART:20231126T093000
DTEND:20231126T111500
LOCATION:City Resort Helmond
ATTACH;FMTTYPE=text/plain:https://hbb.rivio.dev/jeugd/2023/wedstrijd/31042
END:VEVENT
BEGIN:VEVENT
UID:https://hbb.rivio.dev/jeugd/2023/wedstrijd/31067
DTSTAMP:20260420T184340Z
SUMMARY:Mixed 4 - Phoenix 1
DESCRIPTION:Baan 15\, Wedstrijdnummer 129\, Afdeling G-klasse 
DTSTART:20231210T093000
DTEND:20231210T111500
LOCATION:City Resort Helmond
ATTACH;FMTTYPE=text/plain:https://hbb.rivio.dev/jeugd/2023/wedstrijd/31067
END:VEVENT
BEGIN:VEVENT
UID:https://hbb.rivio.dev/jeugd/2023/wedstrijd/31068
DTSTAMP:20260420T184340Z
SUMMARY:Phoenix 1 - Mixed 3
DESCRIPTION:Baan 1\, Wedstrijdnummer 130\, Afdeling F-klasse 
DTSTART:20231217T093000
DTEND:20231217T111500
LOCATION:City Resort Helmond
ATTACH;FMTTYPE=text/plain:https://hbb.rivio.dev/jeugd/2023/wedstrijd/31068
END:VEVENT
BEGIN:VEVENT
UID:https://hbb.rivio.dev/jeugd/2023/wedstrijd/32578
DTSTAMP:20260420T184340Z
SUMMARY:Phoenix 1 - Mixed 3
DESCRIPTION:Baan 12\, Wedstrijdnummer 166\, Afdeling F-klasse 
DTSTART:20240204T093000
DTEND:20240204T111500
LOCATION:City Resort Helmond
ATTACH;FMTTYPE=text/plain:https://hbb.rivio.dev/jeugd/2023/wedstrijd/32578
END:VEVENT
BEGIN:VEVENT
UID:https://hbb.rivio.dev/jeugd/2023/wedstrijd/32584
DTSTAMP:20260420T184340Z
SUMMARY:Veldhoven 1 - Phoenix 1
DESCRIPTION:Baan 15\, Wedstrijdnummer 180\, Afdeling F-klasse 
DTSTART:20240225T093000
DTEND:20240225T111500
LOCATION:City Resort Helmond
ATTACH;FMTTYPE=text/plain:https://hbb.rivio.dev/jeugd/2023/wedstrijd/32584
END:VEVENT
BEGIN:VEVENT
UID:https://hbb.rivio.dev/jeugd/2023/wedstrijd/32586
DTSTAMP:20260420T184340Z
SUMMARY:Gemert 3 - Phoenix 1
DESCRIPTION:Baan 14\, Wedstrijdnummer 201\, Afdeling F-klasse 
DTSTART:20240310T093000
DTEND:20240310T111500
LOCATION:City Resort Helmond
ATTACH;FMTTYPE=text/plain:https://hbb.rivio.dev/jeugd/2023/wedstrijd/32586
END:VEVENT
BEGIN:VEVENT
UID:https://hbb.rivio.dev/jeugd/2023/wedstrijd/32589
DTSTAMP:20260420T184340Z
SUMMARY:Phoenix 1 - RBC 1
DESCRIPTION:Baan 15\, Wedstrijdnummer 213\, Afdeling F-klasse 
DTSTART:20240407T093000
DTEND:20240407T111500
LOCATION:City Resort Helmond
ATTACH;FMTTYPE=text/plain:https://hbb.rivio.dev/jeugd/2023/wedstrijd/32589
END:VEVENT
BEGIN:VEVENT
UID:https://hbb.rivio.dev/jeugd/2023/wedstrijd/32600
DTSTAMP:20260420T184340Z
SUMMARY:Phoenix 1 - Geldrop 1
DESCRIPTION:Baan 12\, Wedstrijdnummer 265\, Afdeling F-klasse 
DTSTART:20240602T093000
DTEND:20240602T111500
LOCATION:City Resort Helmond
ATTACH;FMTTYPE=text/plain:https://hbb.rivio.dev/jeugd/2023/wedstrijd/32600
END:VEVENT
BEGIN:VTIMEZONE
TZID:Europe/Amsterdam
BEGIN:STANDARD
DTSTART:20230101T000000
TZNAME:CET
TZOFFSETTO:+0100
TZOFFSETFROM:+0100
END:STANDARD
BEGIN:DAYLIGHT
DTSTART:20230326T030000
TZNAME:CEST
TZOFFSETTO:+0200
TZOFFSETFROM:+0100
END:DAYLIGHT
BEGIN:STANDARD
DTSTART:20231029T020000
TZNAME:CET
TZOFFSETTO:+0100
TZOFFSETFROM:+0200
END:STANDARD
BEGIN:DAYLIGHT
DTSTART:20240331T030000
TZNAME:CEST
TZOFFSETTO:+0200
TZOFFSETFROM:+0100
END:DAYLIGHT
BEGIN:STANDARD
DTSTART:20241027T020000
TZNAME:CET
TZOFFSETTO:+0100
TZOFFSETFROM:+0200
END:STANDARD
END:VTIMEZONE
END:VCALENDAR
