BEGIN:VCALENDAR
PRODID:-//eluceo/ical//2.0/EN
VERSION:2.0
CALSCALE:GREGORIAN
BEGIN:VEVENT
UID:https://hbb.rivio.dev/jeugd/2023/wedstrijd/30945
DTSTAMP:20260420T150742Z
SUMMARY:Mierlo 1 - Gemert 1
DESCRIPTION:Baan 11\, Wedstrijdnummer 7\, Afdeling AB-klasse 
DTSTART:20230910T093000
DTEND:20230910T111500
LOCATION:City Resort Helmond
ATTACH;FMTTYPE=text/plain:https://hbb.rivio.dev/jeugd/2023/wedstrijd/30945
END:VEVENT
BEGIN:VEVENT
UID:https://hbb.rivio.dev/jeugd/2023/wedstrijd/30968
DTSTAMP:20260420T150742Z
SUMMARY:Gemert 1 - Ganzeveer 1
DESCRIPTION:Baan 12\, Wedstrijdnummer 30\, Afdeling AB-klasse 
DTSTART:20230924T093000
DTEND:20230924T111500
LOCATION:City Resort Helmond
ATTACH;FMTTYPE=text/plain:https://hbb.rivio.dev/jeugd/2023/wedstrijd/30968
END:VEVENT
BEGIN:VEVENT
UID:https://hbb.rivio.dev/jeugd/2023/wedstrijd/30985
DTSTAMP:20260420T150743Z
SUMMARY:Gemert 1 - Bakel 1
DESCRIPTION:Baan 3\, Wedstrijdnummer 47\, Afdeling AB-klasse 
DTSTART:20231008T093000
DTEND:20231008T111500
LOCATION:City Resort Helmond
ATTACH;FMTTYPE=text/plain:https://hbb.rivio.dev/jeugd/2023/wedstrijd/30985
END:VEVENT
BEGIN:VEVENT
UID:https://hbb.rivio.dev/jeugd/2023/wedstrijd/31031
DTSTAMP:20260420T150743Z
SUMMARY:Brabantia 1 - Gemert 1
DESCRIPTION:Baan 5\, Wedstrijdnummer 93\, Afdeling AB-klasse 
DTSTART:20231119T093000
DTEND:20231119T111500
LOCATION:City Resort Helmond
ATTACH;FMTTYPE=text/plain:https://hbb.rivio.dev/jeugd/2023/wedstrijd/31031
END:VEVENT
BEGIN:VEVENT
UID:https://hbb.rivio.dev/jeugd/2023/wedstrijd/31043
DTSTAMP:20260420T150743Z
SUMMARY:Gemert 1 - Mierlo 1
DESCRIPTION:Baan 11\, Wedstrijdnummer 105\, Afdeling AB-klasse 
DTSTART:20231126T093000
DTEND:20231126T111500
LOCATION:City Resort Helmond
ATTACH;FMTTYPE=text/plain:https://hbb.rivio.dev/jeugd/2023/wedstrijd/31043
END:VEVENT
BEGIN:VEVENT
UID:https://hbb.rivio.dev/jeugd/2023/wedstrijd/31055
DTSTAMP:20260420T150743Z
SUMMARY:Ganzeveer 1 - Gemert 1
DESCRIPTION:Baan 13\, Wedstrijdnummer 117\, Afdeling AB-klasse 
DTSTART:20231211T093000
DTEND:20231211T111500
LOCATION:City Resort Helmond
ATTACH;FMTTYPE=text/plain:https://hbb.rivio.dev/jeugd/2023/wedstrijd/31055
END:VEVENT
BEGIN:VEVENT
UID:https://hbb.rivio.dev/jeugd/2023/wedstrijd/31097
DTSTAMP:20260420T150743Z
SUMMARY:Bakel 1 - Gemert 1
DESCRIPTION:Baan 15\, Wedstrijdnummer 159\, Afdeling AB-klasse 
DTSTART:20240121T093000
DTEND:20240121T111500
LOCATION:City Resort Helmond
ATTACH;FMTTYPE=text/plain:https://hbb.rivio.dev/jeugd/2023/wedstrijd/31097
END:VEVENT
BEGIN:VEVENT
UID:https://hbb.rivio.dev/jeugd/2023/wedstrijd/31110
DTSTAMP:20260420T150743Z
SUMMARY:Gemert 1 - Brabantia 1
DESCRIPTION:Baan 2\, Wedstrijdnummer 182\, Afdeling AB-klasse 
DTSTART:20240303T093000
DTEND:20240303T111500
LOCATION:City Resort Helmond
ATTACH;FMTTYPE=text/plain:https://hbb.rivio.dev/jeugd/2023/wedstrijd/31110
END:VEVENT
BEGIN:VEVENT
UID:https://hbb.rivio.dev/jeugd/2023/wedstrijd/31133
DTSTAMP:20260420T150743Z
SUMMARY:Mierlo 1 - Gemert 1
DESCRIPTION:Baan 11\, Wedstrijdnummer 209\, Afdeling AB-klasse 
DTSTART:20240317T093000
DTEND:20240317T111500
LOCATION:City Resort Helmond
ATTACH;FMTTYPE=text/plain:https://hbb.rivio.dev/jeugd/2023/wedstrijd/31133
END:VEVENT
BEGIN:VEVENT
UID:https://hbb.rivio.dev/jeugd/2023/wedstrijd/31145
DTSTAMP:20260420T150743Z
SUMMARY:Gemert 1 - Ganzeveer 1
DESCRIPTION:Baan 12\, Wedstrijdnummer 222\, Afdeling AB-klasse 
DTSTART:20240324T093000
DTEND:20240324T111500
LOCATION:City Resort Helmond
ATTACH;FMTTYPE=text/plain:https://hbb.rivio.dev/jeugd/2023/wedstrijd/31145
END:VEVENT
BEGIN:VEVENT
UID:https://hbb.rivio.dev/jeugd/2023/wedstrijd/31151
DTSTAMP:20260420T150743Z
SUMMARY:Gemert 1 - Bakel 1
DESCRIPTION:Baan 4\, Wedstrijdnummer 228\, Afdeling AB-klasse 
DTSTART:20240407T093000
DTEND:20240407T111500
LOCATION:City Resort Helmond
ATTACH;FMTTYPE=text/plain:https://hbb.rivio.dev/jeugd/2023/wedstrijd/31151
END:VEVENT
BEGIN:VEVENT
UID:https://hbb.rivio.dev/jeugd/2023/wedstrijd/31177
DTSTAMP:20260420T150743Z
SUMMARY:Brabantia 1 - Gemert 1
DESCRIPTION:Baan 2\, Wedstrijdnummer 259\, Afdeling AB-klasse 
DTSTART:20240602T093000
DTEND:20240602T111500
LOCATION:City Resort Helmond
ATTACH;FMTTYPE=text/plain:https://hbb.rivio.dev/jeugd/2023/wedstrijd/31177
END:VEVENT
BEGIN:VTIMEZONE
TZID:Europe/Amsterdam
BEGIN:STANDARD
DTSTART:20230101T000000
TZNAME:CET
TZOFFSETTO:+0100
TZOFFSETFROM:+0100
END:STANDARD
BEGIN:DAYLIGHT
DTSTART:20230326T030000
TZNAME:CEST
TZOFFSETTO:+0200
TZOFFSETFROM:+0100
END:DAYLIGHT
BEGIN:STANDARD
DTSTART:20231029T020000
TZNAME:CET
TZOFFSETTO:+0100
TZOFFSETFROM:+0200
END:STANDARD
BEGIN:DAYLIGHT
DTSTART:20240331T030000
TZNAME:CEST
TZOFFSETTO:+0200
TZOFFSETFROM:+0100
END:DAYLIGHT
BEGIN:STANDARD
DTSTART:20241027T020000
TZNAME:CET
TZOFFSETTO:+0100
TZOFFSETFROM:+0200
END:STANDARD
END:VTIMEZONE
END:VCALENDAR
