BEGIN:VCALENDAR
PRODID:-//eluceo/ical//2.0/EN
VERSION:2.0
CALSCALE:GREGORIAN
BEGIN:VEVENT
UID:https://hbb.rivio.dev/senioren/2023/wedstrijd/32131
DTSTAMP:20260420T182013Z
SUMMARY:Eindhoven 1 - Phoenix 3
DESCRIPTION:Baan 15\, Wedstrijdnummer 66\, Afdeling 1e klasse 
DTSTART:20230914T200000
DTEND:20230914T230000
LOCATION:City Resort Helmond
ATTACH;FMTTYPE=text/plain:https://hbb.rivio.dev/senioren/2023/wedstrijd/321
 31
END:VEVENT
BEGIN:VEVENT
UID:https://hbb.rivio.dev/senioren/2023/wedstrijd/32176
DTSTAMP:20260420T182013Z
SUMMARY:ASML 1 - Phoenix 3
DESCRIPTION:Baan 5\, Wedstrijdnummer 71\, Afdeling 1e klasse 
DTSTART:20231011T200000
DTEND:20231011T230000
LOCATION:City Resort Helmond
ATTACH;FMTTYPE=text/plain:https://hbb.rivio.dev/senioren/2023/wedstrijd/321
 76
END:VEVENT
BEGIN:VEVENT
UID:https://hbb.rivio.dev/senioren/2023/wedstrijd/32198
DTSTAMP:20260420T182013Z
SUMMARY:Phoenix 3 - Geldrop 1
DESCRIPTION:Baan 12\, Wedstrijdnummer 75\, Afdeling 1e klasse 
DTSTART:20231025T200000
DTEND:20231025T230000
LOCATION:City Resort Helmond
ATTACH;FMTTYPE=text/plain:https://hbb.rivio.dev/senioren/2023/wedstrijd/321
 98
END:VEVENT
BEGIN:VEVENT
UID:https://hbb.rivio.dev/senioren/2023/wedstrijd/32231
DTSTAMP:20260420T182013Z
SUMMARY:Phoenix 3 - De Valken 3
DESCRIPTION:Baan 15\, Wedstrijdnummer 79\, Afdeling 1e klasse 
DTSTART:20231108T200000
DTEND:20231108T230000
LOCATION:City Resort Helmond
ATTACH;FMTTYPE=text/plain:https://hbb.rivio.dev/senioren/2023/wedstrijd/322
 31
END:VEVENT
BEGIN:VEVENT
UID:https://hbb.rivio.dev/senioren/2023/wedstrijd/32304
DTSTAMP:20260420T182013Z
SUMMARY:Phoenix 3 - Someren 2
DESCRIPTION:Baan 3\, Wedstrijdnummer 82\, Afdeling 1e klasse 
DTSTART:20231220T200000
DTEND:20231220T230000
LOCATION:City Resort Helmond
ATTACH;FMTTYPE=text/plain:https://hbb.rivio.dev/senioren/2023/wedstrijd/323
 04
END:VEVENT
BEGIN:VEVENT
UID:https://hbb.rivio.dev/senioren/2023/wedstrijd/32334
DTSTAMP:20260420T182013Z
SUMMARY:Hanevoet 2 - Phoenix 3
DESCRIPTION:Baan 3\, Wedstrijdnummer 85\, Afdeling 1e klasse 
DTSTART:20240111T200000
DTEND:20240111T230000
LOCATION:City Resort Helmond
ATTACH;FMTTYPE=text/plain:https://hbb.rivio.dev/senioren/2023/wedstrijd/323
 34
END:VEVENT
BEGIN:VEVENT
UID:https://hbb.rivio.dev/senioren/2023/wedstrijd/32358
DTSTAMP:20260420T182013Z
SUMMARY:Phoenix 3 - Eindhoven 1
DESCRIPTION:Baan 12\, Wedstrijdnummer 1066\, Afdeling 1e klasse 
DTSTART:20240124T200000
DTEND:20240124T230000
LOCATION:City Resort Helmond
ATTACH;FMTTYPE=text/plain:https://hbb.rivio.dev/senioren/2023/wedstrijd/323
 58
END:VEVENT
BEGIN:VEVENT
UID:https://hbb.rivio.dev/senioren/2023/wedstrijd/32410
DTSTAMP:20260420T182013Z
SUMMARY:Phoenix 3 - ASML 1
DESCRIPTION:Baan 14\, Wedstrijdnummer 1071\, Afdeling 1e klasse 
DTSTART:20240221T200000
DTEND:20240221T230000
LOCATION:City Resort Helmond
ATTACH;FMTTYPE=text/plain:https://hbb.rivio.dev/senioren/2023/wedstrijd/324
 10
END:VEVENT
BEGIN:VEVENT
UID:https://hbb.rivio.dev/senioren/2023/wedstrijd/32454
DTSTAMP:20260420T182013Z
SUMMARY:Geldrop 1 - Phoenix 3
DESCRIPTION:Baan 3\, Wedstrijdnummer 1075\, Afdeling 1e klasse 
DTSTART:20240320T200000
DTEND:20240320T230000
LOCATION:City Resort Helmond
ATTACH;FMTTYPE=text/plain:https://hbb.rivio.dev/senioren/2023/wedstrijd/324
 54
END:VEVENT
BEGIN:VEVENT
UID:https://hbb.rivio.dev/senioren/2023/wedstrijd/32487
DTSTAMP:20260420T182013Z
SUMMARY:De Valken 3 - Phoenix 3
DESCRIPTION:Baan 11\, Wedstrijdnummer 1079\, Afdeling 1e klasse 
DTSTART:20240403T200000
DTEND:20240403T230000
LOCATION:City Resort Helmond
ATTACH;FMTTYPE=text/plain:https://hbb.rivio.dev/senioren/2023/wedstrijd/324
 87
END:VEVENT
BEGIN:VEVENT
UID:https://hbb.rivio.dev/senioren/2023/wedstrijd/32520
DTSTAMP:20260420T182013Z
SUMMARY:Someren 2 - Phoenix 3
DESCRIPTION:Baan 14\, Wedstrijdnummer 1082\, Afdeling 1e klasse 
DTSTART:20240418T200000
DTEND:20240418T230000
LOCATION:City Resort Helmond
ATTACH;FMTTYPE=text/plain:https://hbb.rivio.dev/senioren/2023/wedstrijd/325
 20
END:VEVENT
BEGIN:VEVENT
UID:https://hbb.rivio.dev/senioren/2023/wedstrijd/32561
DTSTAMP:20260420T182013Z
SUMMARY:Phoenix 3 - Hanevoet 2
DESCRIPTION:Baan 1\, Wedstrijdnummer 1085\, Afdeling 1e klasse 
DTSTART:20240529T200000
DTEND:20240529T230000
LOCATION:City Resort Helmond
ATTACH;FMTTYPE=text/plain:https://hbb.rivio.dev/senioren/2023/wedstrijd/325
 61
END:VEVENT
BEGIN:VTIMEZONE
TZID:Europe/Amsterdam
BEGIN:STANDARD
DTSTART:20230101T000000
TZNAME:CET
TZOFFSETTO:+0100
TZOFFSETFROM:+0100
END:STANDARD
BEGIN:DAYLIGHT
DTSTART:20230326T030000
TZNAME:CEST
TZOFFSETTO:+0200
TZOFFSETFROM:+0100
END:DAYLIGHT
BEGIN:STANDARD
DTSTART:20231029T020000
TZNAME:CET
TZOFFSETTO:+0100
TZOFFSETFROM:+0200
END:STANDARD
BEGIN:DAYLIGHT
DTSTART:20240331T030000
TZNAME:CEST
TZOFFSETTO:+0200
TZOFFSETFROM:+0100
END:DAYLIGHT
BEGIN:STANDARD
DTSTART:20241027T020000
TZNAME:CET
TZOFFSETTO:+0100
TZOFFSETFROM:+0200
END:STANDARD
END:VTIMEZONE
END:VCALENDAR
