BEGIN:VCALENDAR
PRODID:-//eluceo/ical//2.0/EN
VERSION:2.0
CALSCALE:GREGORIAN
BEGIN:VEVENT
UID:https://hbb.rivio.dev/senioren/2023/wedstrijd/32120
DTSTAMP:20260420T133926Z
SUMMARY:Ganzeveer 1 - Phoenix 2
DESCRIPTION:Baan 14\, Wedstrijdnummer 45\, Afdeling Overgangsklasse 
DTSTART:20230913T200000
DTEND:20230913T230000
LOCATION:City Resort Helmond
ATTACH;FMTTYPE=text/plain:https://hbb.rivio.dev/senioren/2023/wedstrijd/321
 20
END:VEVENT
BEGIN:VEVENT
UID:https://hbb.rivio.dev/senioren/2023/wedstrijd/32181
DTSTAMP:20260420T133926Z
SUMMARY:Smashing Bruang 1 - Phoenix 2
DESCRIPTION:Baan 15\, Wedstrijdnummer 50\, Afdeling Overgangsklasse 
DTSTART:20231011T200000
DTEND:20231011T230000
LOCATION:City Resort Helmond
ATTACH;FMTTYPE=text/plain:https://hbb.rivio.dev/senioren/2023/wedstrijd/321
 81
END:VEVENT
BEGIN:VEVENT
UID:https://hbb.rivio.dev/senioren/2023/wedstrijd/32200
DTSTAMP:20260420T133926Z
SUMMARY:Phoenix 2 - Mierlo 3
DESCRIPTION:Baan 14\, Wedstrijdnummer 54\, Afdeling Overgangsklasse 
DTSTART:20231025T200000
DTEND:20231025T230000
LOCATION:City Resort Helmond
ATTACH;FMTTYPE=text/plain:https://hbb.rivio.dev/senioren/2023/wedstrijd/322
 00
END:VEVENT
BEGIN:VEVENT
UID:https://hbb.rivio.dev/senioren/2023/wedstrijd/32277
DTSTAMP:20260420T133926Z
SUMMARY:Phoenix 2 - Bakel 3
DESCRIPTION:Baan 11\, Wedstrijdnummer 58\, Afdeling Overgangsklasse 
DTSTART:20231206T200000
DTEND:20231206T230000
LOCATION:City Resort Helmond
ATTACH;FMTTYPE=text/plain:https://hbb.rivio.dev/senioren/2023/wedstrijd/322
 77
END:VEVENT
BEGIN:VEVENT
UID:https://hbb.rivio.dev/senioren/2023/wedstrijd/32310
DTSTAMP:20260420T133926Z
SUMMARY:Phoenix 2 - VBSC 1
DESCRIPTION:Baan 14\, Wedstrijdnummer 61\, Afdeling Overgangsklasse 
DTSTART:20231220T200000
DTEND:20231220T230000
LOCATION:City Resort Helmond
ATTACH;FMTTYPE=text/plain:https://hbb.rivio.dev/senioren/2023/wedstrijd/323
 10
END:VEVENT
BEGIN:VEVENT
UID:https://hbb.rivio.dev/senioren/2023/wedstrijd/32353
DTSTAMP:20260420T133926Z
SUMMARY:Mixed 2 - Phoenix 2
DESCRIPTION:Baan 2\, Wedstrijdnummer 64\, Afdeling Overgangsklasse 
DTSTART:20240124T200000
DTEND:20240124T230000
LOCATION:City Resort Helmond
ATTACH;FMTTYPE=text/plain:https://hbb.rivio.dev/senioren/2023/wedstrijd/323
 53
END:VEVENT
BEGIN:VEVENT
UID:https://hbb.rivio.dev/senioren/2023/wedstrijd/32385
DTSTAMP:20260420T133926Z
SUMMARY:Phoenix 2 - Ganzeveer 1
DESCRIPTION:Baan 4\, Wedstrijdnummer 1045\, Afdeling Overgangsklasse 
DTSTART:20240207T200000
DTEND:20240207T230000
LOCATION:City Resort Helmond
ATTACH;FMTTYPE=text/plain:https://hbb.rivio.dev/senioren/2023/wedstrijd/323
 85
END:VEVENT
BEGIN:VEVENT
UID:https://hbb.rivio.dev/senioren/2023/wedstrijd/32439
DTSTAMP:20260420T133926Z
SUMMARY:Phoenix 2 - Smashing Bruang 1
DESCRIPTION:Baan 13\, Wedstrijdnummer 1050\, Afdeling Overgangsklasse 
DTSTART:20240306T200000
DTEND:20240306T230000
LOCATION:City Resort Helmond
ATTACH;FMTTYPE=text/plain:https://hbb.rivio.dev/senioren/2023/wedstrijd/324
 39
END:VEVENT
BEGIN:VEVENT
UID:https://hbb.rivio.dev/senioren/2023/wedstrijd/32461
DTSTAMP:20260420T133926Z
SUMMARY:Mierlo 3 - Phoenix 2
DESCRIPTION:Baan 14\, Wedstrijdnummer 1054\, Afdeling Overgangsklasse 
DTSTART:20240320T200000
DTEND:20240320T230000
LOCATION:City Resort Helmond
ATTACH;FMTTYPE=text/plain:https://hbb.rivio.dev/senioren/2023/wedstrijd/324
 61
END:VEVENT
BEGIN:VEVENT
UID:https://hbb.rivio.dev/senioren/2023/wedstrijd/32501
DTSTAMP:20260420T133926Z
SUMMARY:Bakel 3 - Phoenix 2
DESCRIPTION:Baan 15\, Wedstrijdnummer 1058\, Afdeling Overgangsklasse 
DTSTART:20240404T200000
DTEND:20240404T230000
LOCATION:City Resort Helmond
ATTACH;FMTTYPE=text/plain:https://hbb.rivio.dev/senioren/2023/wedstrijd/325
 01
END:VEVENT
BEGIN:VEVENT
UID:https://hbb.rivio.dev/senioren/2023/wedstrijd/32536
DTSTAMP:20260420T133926Z
SUMMARY:VBSC 1 - Phoenix 2
DESCRIPTION:Baan 5\, Wedstrijdnummer 1061\, Afdeling Overgangsklasse 
DTSTART:20240515T200000
DTEND:20240515T230000
LOCATION:City Resort Helmond
ATTACH;FMTTYPE=text/plain:https://hbb.rivio.dev/senioren/2023/wedstrijd/325
 36
END:VEVENT
BEGIN:VEVENT
UID:https://hbb.rivio.dev/senioren/2023/wedstrijd/32567
DTSTAMP:20260420T133926Z
SUMMARY:Phoenix 2 - Mixed 2
DESCRIPTION:Baan 12\, Wedstrijdnummer 1064\, Afdeling Overgangsklasse 
DTSTART:20240529T200000
DTEND:20240529T230000
LOCATION:City Resort Helmond
ATTACH;FMTTYPE=text/plain:https://hbb.rivio.dev/senioren/2023/wedstrijd/325
 67
END:VEVENT
BEGIN:VTIMEZONE
TZID:Europe/Amsterdam
BEGIN:STANDARD
DTSTART:20230101T000000
TZNAME:CET
TZOFFSETTO:+0100
TZOFFSETFROM:+0100
END:STANDARD
BEGIN:DAYLIGHT
DTSTART:20230326T030000
TZNAME:CEST
TZOFFSETTO:+0200
TZOFFSETFROM:+0100
END:DAYLIGHT
BEGIN:STANDARD
DTSTART:20231029T020000
TZNAME:CET
TZOFFSETTO:+0100
TZOFFSETFROM:+0200
END:STANDARD
BEGIN:DAYLIGHT
DTSTART:20240331T030000
TZNAME:CEST
TZOFFSETTO:+0200
TZOFFSETFROM:+0100
END:DAYLIGHT
BEGIN:STANDARD
DTSTART:20241027T020000
TZNAME:CET
TZOFFSETTO:+0100
TZOFFSETFROM:+0200
END:STANDARD
END:VTIMEZONE
END:VCALENDAR
