BEGIN:VCALENDAR
PRODID:-//eluceo/ical//2.0/EN
VERSION:2.0
CALSCALE:GREGORIAN
BEGIN:VEVENT
UID:https://hbb.rivio.dev/jeugd/2023/wedstrijd/30944
DTSTAMP:20260420T234135Z
SUMMARY:VBSC 2 - Geldrop 5
DESCRIPTION:Baan 10\, Wedstrijdnummer 6\, Afdeling P-klasse 
DTSTART:20230910T093000
DTEND:20230910T111500
LOCATION:City Resort Helmond
ATTACH;FMTTYPE=text/plain:https://hbb.rivio.dev/jeugd/2023/wedstrijd/30944
END:VEVENT
BEGIN:VEVENT
UID:https://hbb.rivio.dev/jeugd/2023/wedstrijd/30967
DTSTAMP:20260420T234135Z
SUMMARY:Geldrop 5 - Mixed 8
DESCRIPTION:Baan 11\, Wedstrijdnummer 29\, Afdeling P-klasse 
DTSTART:20230924T093000
DTEND:20230924T111500
LOCATION:City Resort Helmond
ATTACH;FMTTYPE=text/plain:https://hbb.rivio.dev/jeugd/2023/wedstrijd/30967
END:VEVENT
BEGIN:VEVENT
UID:https://hbb.rivio.dev/jeugd/2023/wedstrijd/30994
DTSTAMP:20260420T234135Z
SUMMARY:Mixed 7 - Geldrop 5
DESCRIPTION:Baan 1\, Wedstrijdnummer 56\, Afdeling P-klasse 
DTSTART:20231029T093000
DTEND:20231029T111500
LOCATION:City Resort Helmond
ATTACH;FMTTYPE=text/plain:https://hbb.rivio.dev/jeugd/2023/wedstrijd/30994
END:VEVENT
BEGIN:VEVENT
UID:https://hbb.rivio.dev/jeugd/2023/wedstrijd/31033
DTSTAMP:20260420T234135Z
SUMMARY:Geldrop 5 - Mierlo 6
DESCRIPTION:Baan 11\, Wedstrijdnummer 95\, Afdeling P-klasse 
DTSTART:20231119T093000
DTEND:20231119T111500
LOCATION:City Resort Helmond
ATTACH;FMTTYPE=text/plain:https://hbb.rivio.dev/jeugd/2023/wedstrijd/31033
END:VEVENT
BEGIN:VEVENT
UID:https://hbb.rivio.dev/jeugd/2023/wedstrijd/31078
DTSTAMP:20260420T234135Z
SUMMARY:Geldrop 5 - VBSC 2
DESCRIPTION:Baan 1\, Wedstrijdnummer 140\, Afdeling P-klasse 
DTSTART:20240114T093000
DTEND:20240114T111500
LOCATION:City Resort Helmond
ATTACH;FMTTYPE=text/plain:https://hbb.rivio.dev/jeugd/2023/wedstrijd/31078
END:VEVENT
BEGIN:VEVENT
UID:https://hbb.rivio.dev/jeugd/2023/wedstrijd/31093
DTSTAMP:20260420T234135Z
SUMMARY:Mixed 8 - Geldrop 5
DESCRIPTION:Baan 11\, Wedstrijdnummer 155\, Afdeling P-klasse 
DTSTART:20240121T093000
DTEND:20240121T111500
LOCATION:City Resort Helmond
ATTACH;FMTTYPE=text/plain:https://hbb.rivio.dev/jeugd/2023/wedstrijd/31093
END:VEVENT
BEGIN:VEVENT
UID:https://hbb.rivio.dev/jeugd/2023/wedstrijd/31103
DTSTAMP:20260420T234135Z
SUMMARY:Geldrop 5 - Mixed 7
DESCRIPTION:Baan 1\, Wedstrijdnummer 170\, Afdeling P-klasse 
DTSTART:20240225T093000
DTEND:20240225T111500
LOCATION:City Resort Helmond
ATTACH;FMTTYPE=text/plain:https://hbb.rivio.dev/jeugd/2023/wedstrijd/31103
END:VEVENT
BEGIN:VEVENT
UID:https://hbb.rivio.dev/jeugd/2023/wedstrijd/31115
DTSTAMP:20260420T234135Z
SUMMARY:Mierlo 6 - Geldrop 5
DESCRIPTION:Baan 11\, Wedstrijdnummer 187\, Afdeling P-klasse 
DTSTART:20240303T093000
DTEND:20240303T111500
LOCATION:City Resort Helmond
ATTACH;FMTTYPE=text/plain:https://hbb.rivio.dev/jeugd/2023/wedstrijd/31115
END:VEVENT
BEGIN:VEVENT
UID:https://hbb.rivio.dev/jeugd/2023/wedstrijd/31137
DTSTAMP:20260420T234135Z
SUMMARY:Geldrop 5 - Mixed 8
DESCRIPTION:Baan 4\, Wedstrijdnummer 214\, Afdeling P-klasse 
DTSTART:20240310T093000
DTEND:20240310T111500
LOCATION:City Resort Helmond
ATTACH;FMTTYPE=text/plain:https://hbb.rivio.dev/jeugd/2023/wedstrijd/31137
END:VEVENT
BEGIN:VEVENT
UID:https://hbb.rivio.dev/jeugd/2023/wedstrijd/31135
DTSTAMP:20260420T234135Z
SUMMARY:VBSC 2 - Geldrop 5
DESCRIPTION:Baan 13\, Wedstrijdnummer 211\, Afdeling P-klasse 
DTSTART:20240317T093000
DTEND:20240317T111500
LOCATION:City Resort Helmond
ATTACH;FMTTYPE=text/plain:https://hbb.rivio.dev/jeugd/2023/wedstrijd/31135
END:VEVENT
BEGIN:VEVENT
UID:https://hbb.rivio.dev/jeugd/2023/wedstrijd/31156
DTSTAMP:20260420T234135Z
SUMMARY:Geldrop 5 - Mierlo 6
DESCRIPTION:Baan 1\, Wedstrijdnummer 236\, Afdeling P-klasse 
DTSTART:20240414T093000
DTEND:20240414T111500
LOCATION:City Resort Helmond
ATTACH;FMTTYPE=text/plain:https://hbb.rivio.dev/jeugd/2023/wedstrijd/31156
END:VEVENT
BEGIN:VEVENT
UID:https://hbb.rivio.dev/jeugd/2023/wedstrijd/31180
DTSTAMP:20260420T234135Z
SUMMARY:Mixed 7 - Geldrop 5
DESCRIPTION:Baan 12\, Wedstrijdnummer 267\, Afdeling P-klasse 
DTSTART:20240526T093000
DTEND:20240526T111500
LOCATION:City Resort Helmond
ATTACH;FMTTYPE=text/plain:https://hbb.rivio.dev/jeugd/2023/wedstrijd/31180
END:VEVENT
BEGIN:VTIMEZONE
TZID:Europe/Amsterdam
BEGIN:STANDARD
DTSTART:20230101T000000
TZNAME:CET
TZOFFSETTO:+0100
TZOFFSETFROM:+0100
END:STANDARD
BEGIN:DAYLIGHT
DTSTART:20230326T030000
TZNAME:CEST
TZOFFSETTO:+0200
TZOFFSETFROM:+0100
END:DAYLIGHT
BEGIN:STANDARD
DTSTART:20231029T020000
TZNAME:CET
TZOFFSETTO:+0100
TZOFFSETFROM:+0200
END:STANDARD
BEGIN:DAYLIGHT
DTSTART:20240331T030000
TZNAME:CEST
TZOFFSETTO:+0200
TZOFFSETFROM:+0100
END:DAYLIGHT
BEGIN:STANDARD
DTSTART:20241027T020000
TZNAME:CET
TZOFFSETTO:+0100
TZOFFSETFROM:+0200
END:STANDARD
END:VTIMEZONE
END:VCALENDAR
