BEGIN:VCALENDAR
PRODID:-//eluceo/ical//2.0/EN
VERSION:2.0
CALSCALE:GREGORIAN
BEGIN:VEVENT
UID:https://hbb.rivio.dev/jeugd/2023/wedstrijd/30966
DTSTAMP:20260420T165939Z
SUMMARY:Mierlo 2 - Mierlo 3
DESCRIPTION:Baan 10\, Wedstrijdnummer 28\, Afdeling CD-klasse 
DTSTART:20230924T093000
DTEND:20230924T111500
LOCATION:City Resort Helmond
ATTACH;FMTTYPE=text/plain:https://hbb.rivio.dev/jeugd/2023/wedstrijd/30966
END:VEVENT
BEGIN:VEVENT
UID:https://hbb.rivio.dev/jeugd/2023/wedstrijd/30987
DTSTAMP:20260420T165939Z
SUMMARY:Mierlo 2 - Con Brio 1
DESCRIPTION:Baan 5\, Wedstrijdnummer 49\, Afdeling CD-klasse 
DTSTART:20231008T093000
DTEND:20231008T111500
LOCATION:City Resort Helmond
ATTACH;FMTTYPE=text/plain:https://hbb.rivio.dev/jeugd/2023/wedstrijd/30987
END:VEVENT
BEGIN:VEVENT
UID:https://hbb.rivio.dev/jeugd/2023/wedstrijd/31017
DTSTAMP:20260420T165939Z
SUMMARY:Mierlo 2 - Mixed 1
DESCRIPTION:Baan 2\, Wedstrijdnummer 79\, Afdeling CD-klasse 
DTSTART:20231112T093000
DTEND:20231112T111500
LOCATION:City Resort Helmond
ATTACH;FMTTYPE=text/plain:https://hbb.rivio.dev/jeugd/2023/wedstrijd/31017
END:VEVENT
BEGIN:VEVENT
UID:https://hbb.rivio.dev/jeugd/2023/wedstrijd/31047
DTSTAMP:20260420T165939Z
SUMMARY:Mixed 2 - Mierlo 2
DESCRIPTION:Baan 15\, Wedstrijdnummer 109\, Afdeling CD-klasse 
DTSTART:20231126T093000
DTEND:20231126T111500
LOCATION:City Resort Helmond
ATTACH;FMTTYPE=text/plain:https://hbb.rivio.dev/jeugd/2023/wedstrijd/31047
END:VEVENT
BEGIN:VEVENT
UID:https://hbb.rivio.dev/jeugd/2023/wedstrijd/31051
DTSTAMP:20260420T165939Z
SUMMARY:De Valken 1 - Mierlo 2
DESCRIPTION:Baan 4\, Wedstrijdnummer 113\, Afdeling CD-klasse 
DTSTART:20231203T093000
DTEND:20231203T111500
LOCATION:City Resort Helmond
ATTACH;FMTTYPE=text/plain:https://hbb.rivio.dev/jeugd/2023/wedstrijd/31051
END:VEVENT
BEGIN:VEVENT
UID:https://hbb.rivio.dev/jeugd/2023/wedstrijd/31076
DTSTAMP:20260420T165939Z
SUMMARY:Gemert 2 - Mierlo 2
DESCRIPTION:Baan 14\, Wedstrijdnummer 138\, Afdeling CD-klasse 
DTSTART:20231217T093000
DTEND:20231217T111500
LOCATION:City Resort Helmond
ATTACH;FMTTYPE=text/plain:https://hbb.rivio.dev/jeugd/2023/wedstrijd/31076
END:VEVENT
BEGIN:VEVENT
UID:https://hbb.rivio.dev/jeugd/2023/wedstrijd/31092
DTSTAMP:20260420T165939Z
SUMMARY:Mierlo 3 - Mierlo 2
DESCRIPTION:Baan 5\, Wedstrijdnummer 154\, Afdeling CD-klasse 
DTSTART:20240121T093000
DTEND:20240121T111500
LOCATION:City Resort Helmond
ATTACH;FMTTYPE=text/plain:https://hbb.rivio.dev/jeugd/2023/wedstrijd/31092
END:VEVENT
BEGIN:VEVENT
UID:https://hbb.rivio.dev/jeugd/2023/wedstrijd/31101
DTSTAMP:20260420T165939Z
SUMMARY:Con Brio 1 - Mierlo 2
DESCRIPTION:Baan 4\, Wedstrijdnummer 163\, Afdeling CD-klasse 
DTSTART:20240204T093000
DTEND:20240204T111500
LOCATION:City Resort Helmond
ATTACH;FMTTYPE=text/plain:https://hbb.rivio.dev/jeugd/2023/wedstrijd/31101
END:VEVENT
BEGIN:VEVENT
UID:https://hbb.rivio.dev/jeugd/2023/wedstrijd/31119
DTSTAMP:20260420T165939Z
SUMMARY:Mixed 1 - Mierlo 2
DESCRIPTION:Baan 15\, Wedstrijdnummer 191\, Afdeling CD-klasse 
DTSTART:20240303T093000
DTEND:20240303T111500
LOCATION:City Resort Helmond
ATTACH;FMTTYPE=text/plain:https://hbb.rivio.dev/jeugd/2023/wedstrijd/31119
END:VEVENT
BEGIN:VEVENT
UID:https://hbb.rivio.dev/jeugd/2023/wedstrijd/31148
DTSTAMP:20260420T165939Z
SUMMARY:Mierlo 2 - Mixed 2
DESCRIPTION:Baan 1\, Wedstrijdnummer 225\, Afdeling CD-klasse 
DTSTART:20240407T093000
DTEND:20240407T111500
LOCATION:City Resort Helmond
ATTACH;FMTTYPE=text/plain:https://hbb.rivio.dev/jeugd/2023/wedstrijd/31148
END:VEVENT
BEGIN:VEVENT
UID:https://hbb.rivio.dev/jeugd/2023/wedstrijd/31159
DTSTAMP:20260420T165939Z
SUMMARY:Mierlo 2 - De Valken 1
DESCRIPTION:Baan 4\, Wedstrijdnummer 239\, Afdeling CD-klasse 
DTSTART:20240414T093000
DTEND:20240414T111500
LOCATION:City Resort Helmond
ATTACH;FMTTYPE=text/plain:https://hbb.rivio.dev/jeugd/2023/wedstrijd/31159
END:VEVENT
BEGIN:VEVENT
UID:https://hbb.rivio.dev/jeugd/2023/wedstrijd/31167
DTSTAMP:20260420T165939Z
SUMMARY:Mierlo 2 - Gemert 2
DESCRIPTION:Baan 3\, Wedstrijdnummer 249\, Afdeling CD-klasse 
DTSTART:20240602T093000
DTEND:20240602T111500
LOCATION:City Resort Helmond
ATTACH;FMTTYPE=text/plain:https://hbb.rivio.dev/jeugd/2023/wedstrijd/31167
END:VEVENT
BEGIN:VTIMEZONE
TZID:Europe/Amsterdam
BEGIN:STANDARD
DTSTART:20230101T000000
TZNAME:CET
TZOFFSETTO:+0100
TZOFFSETFROM:+0100
END:STANDARD
BEGIN:DAYLIGHT
DTSTART:20230326T030000
TZNAME:CEST
TZOFFSETTO:+0200
TZOFFSETFROM:+0100
END:DAYLIGHT
BEGIN:STANDARD
DTSTART:20231029T020000
TZNAME:CET
TZOFFSETTO:+0100
TZOFFSETFROM:+0200
END:STANDARD
BEGIN:DAYLIGHT
DTSTART:20240331T030000
TZNAME:CEST
TZOFFSETTO:+0200
TZOFFSETFROM:+0100
END:DAYLIGHT
BEGIN:STANDARD
DTSTART:20241027T020000
TZNAME:CET
TZOFFSETTO:+0100
TZOFFSETFROM:+0200
END:STANDARD
END:VTIMEZONE
END:VCALENDAR
