BEGIN:VCALENDAR
PRODID:-//eluceo/ical//2.0/EN
VERSION:2.0
CALSCALE:GREGORIAN
BEGIN:VEVENT
UID:https://hbb.rivio.dev/jeugd/2023/wedstrijd/30945
DTSTAMP:20260420T133841Z
SUMMARY:Mierlo 1 - Gemert 1
DESCRIPTION:Baan 11\, Wedstrijdnummer 7\, Afdeling AB-klasse 
DTSTART:20230910T093000
DTEND:20230910T111500
LOCATION:City Resort Helmond
ATTACH;FMTTYPE=text/plain:https://hbb.rivio.dev/jeugd/2023/wedstrijd/30945
END:VEVENT
BEGIN:VEVENT
UID:https://hbb.rivio.dev/jeugd/2023/wedstrijd/30969
DTSTAMP:20260420T133841Z
SUMMARY:Mierlo 1 - Bakel 1
DESCRIPTION:Baan 13\, Wedstrijdnummer 31\, Afdeling AB-klasse 
DTSTART:20230924T093000
DTEND:20230924T111500
LOCATION:City Resort Helmond
ATTACH;FMTTYPE=text/plain:https://hbb.rivio.dev/jeugd/2023/wedstrijd/30969
END:VEVENT
BEGIN:VEVENT
UID:https://hbb.rivio.dev/jeugd/2023/wedstrijd/31016
DTSTAMP:20260420T133841Z
SUMMARY:Brabantia 1 - Mierlo 1
DESCRIPTION:Baan 1\, Wedstrijdnummer 78\, Afdeling AB-klasse 
DTSTART:20231112T093000
DTEND:20231112T111500
LOCATION:City Resort Helmond
ATTACH;FMTTYPE=text/plain:https://hbb.rivio.dev/jeugd/2023/wedstrijd/31016
END:VEVENT
BEGIN:VEVENT
UID:https://hbb.rivio.dev/jeugd/2023/wedstrijd/31030
DTSTAMP:20260420T133841Z
SUMMARY:Ganzeveer 1 - Mierlo 1
DESCRIPTION:Baan 4\, Wedstrijdnummer 92\, Afdeling AB-klasse 
DTSTART:20231119T093000
DTEND:20231119T111500
LOCATION:City Resort Helmond
ATTACH;FMTTYPE=text/plain:https://hbb.rivio.dev/jeugd/2023/wedstrijd/31030
END:VEVENT
BEGIN:VEVENT
UID:https://hbb.rivio.dev/jeugd/2023/wedstrijd/31043
DTSTAMP:20260420T133841Z
SUMMARY:Gemert 1 - Mierlo 1
DESCRIPTION:Baan 11\, Wedstrijdnummer 105\, Afdeling AB-klasse 
DTSTART:20231126T093000
DTEND:20231126T111500
LOCATION:City Resort Helmond
ATTACH;FMTTYPE=text/plain:https://hbb.rivio.dev/jeugd/2023/wedstrijd/31043
END:VEVENT
BEGIN:VEVENT
UID:https://hbb.rivio.dev/jeugd/2023/wedstrijd/31056
DTSTAMP:20260420T133841Z
SUMMARY:Bakel 1 - Mierlo 1
DESCRIPTION:Baan 14\, Wedstrijdnummer 118\, Afdeling AB-klasse 
DTSTART:20231203T093000
DTEND:20231203T111500
LOCATION:City Resort Helmond
ATTACH;FMTTYPE=text/plain:https://hbb.rivio.dev/jeugd/2023/wedstrijd/31056
END:VEVENT
BEGIN:VEVENT
UID:https://hbb.rivio.dev/jeugd/2023/wedstrijd/31098
DTSTAMP:20260420T133841Z
SUMMARY:Mierlo 1 - Brabantia 1
DESCRIPTION:Baan 1\, Wedstrijdnummer 160\, Afdeling AB-klasse 
DTSTART:20240204T093000
DTEND:20240204T111500
LOCATION:City Resort Helmond
ATTACH;FMTTYPE=text/plain:https://hbb.rivio.dev/jeugd/2023/wedstrijd/31098
END:VEVENT
BEGIN:VEVENT
UID:https://hbb.rivio.dev/jeugd/2023/wedstrijd/31109
DTSTAMP:20260420T133841Z
SUMMARY:Mierlo 1 - Ganzeveer 1
DESCRIPTION:Baan 1\, Wedstrijdnummer 181\, Afdeling AB-klasse 
DTSTART:20240303T093000
DTEND:20240303T111500
LOCATION:City Resort Helmond
ATTACH;FMTTYPE=text/plain:https://hbb.rivio.dev/jeugd/2023/wedstrijd/31109
END:VEVENT
BEGIN:VEVENT
UID:https://hbb.rivio.dev/jeugd/2023/wedstrijd/31133
DTSTAMP:20260420T133841Z
SUMMARY:Mierlo 1 - Gemert 1
DESCRIPTION:Baan 11\, Wedstrijdnummer 209\, Afdeling AB-klasse 
DTSTART:20240317T093000
DTEND:20240317T111500
LOCATION:City Resort Helmond
ATTACH;FMTTYPE=text/plain:https://hbb.rivio.dev/jeugd/2023/wedstrijd/31133
END:VEVENT
BEGIN:VEVENT
UID:https://hbb.rivio.dev/jeugd/2023/wedstrijd/31146
DTSTAMP:20260420T133841Z
SUMMARY:Mierlo 1 - Bakel 1
DESCRIPTION:Baan 13\, Wedstrijdnummer 223\, Afdeling AB-klasse 
DTSTART:20240324T093000
DTEND:20240324T111500
LOCATION:City Resort Helmond
ATTACH;FMTTYPE=text/plain:https://hbb.rivio.dev/jeugd/2023/wedstrijd/31146
END:VEVENT
BEGIN:VEVENT
UID:https://hbb.rivio.dev/jeugd/2023/wedstrijd/31171
DTSTAMP:20260420T133841Z
SUMMARY:Brabantia 1 - Mierlo 1
DESCRIPTION:Baan 11\, Wedstrijdnummer 253\, Afdeling AB-klasse 
DTSTART:20240526T093000
DTEND:20240526T111500
LOCATION:City Resort Helmond
ATTACH;FMTTYPE=text/plain:https://hbb.rivio.dev/jeugd/2023/wedstrijd/31171
END:VEVENT
BEGIN:VEVENT
UID:https://hbb.rivio.dev/jeugd/2023/wedstrijd/31176
DTSTAMP:20260420T133841Z
SUMMARY:Ganzeveer 1 - Mierlo 1
DESCRIPTION:Baan 1\, Wedstrijdnummer 258\, Afdeling AB-klasse 
DTSTART:20240602T093000
DTEND:20240602T111500
LOCATION:City Resort Helmond
ATTACH;FMTTYPE=text/plain:https://hbb.rivio.dev/jeugd/2023/wedstrijd/31176
END:VEVENT
BEGIN:VTIMEZONE
TZID:Europe/Amsterdam
BEGIN:STANDARD
DTSTART:20230101T000000
TZNAME:CET
TZOFFSETTO:+0100
TZOFFSETFROM:+0100
END:STANDARD
BEGIN:DAYLIGHT
DTSTART:20230326T030000
TZNAME:CEST
TZOFFSETTO:+0200
TZOFFSETFROM:+0100
END:DAYLIGHT
BEGIN:STANDARD
DTSTART:20231029T020000
TZNAME:CET
TZOFFSETTO:+0100
TZOFFSETFROM:+0200
END:STANDARD
BEGIN:DAYLIGHT
DTSTART:20240331T030000
TZNAME:CEST
TZOFFSETTO:+0200
TZOFFSETFROM:+0100
END:DAYLIGHT
BEGIN:STANDARD
DTSTART:20241027T020000
TZNAME:CET
TZOFFSETTO:+0100
TZOFFSETFROM:+0200
END:STANDARD
END:VTIMEZONE
END:VCALENDAR
