BEGIN:VCALENDAR
PRODID:-//eluceo/ical//2.0/EN
VERSION:2.0
CALSCALE:GREGORIAN
BEGIN:VEVENT
UID:https://hbb.rivio.dev/senioren/2023/wedstrijd/32123
DTSTAMP:20260420T165738Z
SUMMARY:De Valken 4 - RBC 2
DESCRIPTION:Baan 2\, Wedstrijdnummer 102\, Afdeling 2e klasse II
DTSTART:20230914T200000
DTEND:20230914T230000
LOCATION:City Resort Helmond
ATTACH;FMTTYPE=text/plain:https://hbb.rivio.dev/senioren/2023/wedstrijd/321
 23
END:VEVENT
BEGIN:VEVENT
UID:https://hbb.rivio.dev/senioren/2023/wedstrijd/32134
DTSTAMP:20260420T165738Z
SUMMARY:RBC 2 - Bakel 4
DESCRIPTION:Baan 3\, Wedstrijdnummer 104\, Afdeling 2e klasse II
DTSTART:20230921T200000
DTEND:20230921T230000
LOCATION:City Resort Helmond
ATTACH;FMTTYPE=text/plain:https://hbb.rivio.dev/senioren/2023/wedstrijd/321
 34
END:VEVENT
BEGIN:VEVENT
UID:https://hbb.rivio.dev/senioren/2023/wedstrijd/32169
DTSTAMP:20260420T165738Z
SUMMARY:RBC 2 - Mierlo 6
DESCRIPTION:Baan 13\, Wedstrijdnummer 108\, Afdeling 2e klasse II
DTSTART:20231005T200000
DTEND:20231005T230000
LOCATION:City Resort Helmond
ATTACH;FMTTYPE=text/plain:https://hbb.rivio.dev/senioren/2023/wedstrijd/321
 69
END:VEVENT
BEGIN:VEVENT
UID:https://hbb.rivio.dev/senioren/2023/wedstrijd/32212
DTSTAMP:20260420T165738Z
SUMMARY:RBC 2 - Someren 3
DESCRIPTION:Baan 1\, Wedstrijdnummer 112\, Afdeling 2e klasse II
DTSTART:20231102T200000
DTEND:20231102T230000
LOCATION:City Resort Helmond
ATTACH;FMTTYPE=text/plain:https://hbb.rivio.dev/senioren/2023/wedstrijd/322
 12
END:VEVENT
BEGIN:VEVENT
UID:https://hbb.rivio.dev/senioren/2023/wedstrijd/32243
DTSTAMP:20260420T165738Z
SUMMARY:Mixed 4 - RBC 2
DESCRIPTION:Baan 2\, Wedstrijdnummer 115\, Afdeling 2e klasse II
DTSTART:20231116T200000
DTEND:20231116T230000
LOCATION:City Resort Helmond
ATTACH;FMTTYPE=text/plain:https://hbb.rivio.dev/senioren/2023/wedstrijd/322
 43
END:VEVENT
BEGIN:VEVENT
UID:https://hbb.rivio.dev/senioren/2023/wedstrijd/32265
DTSTAMP:20260420T165738Z
SUMMARY:RBC 2 - De Valken 4
DESCRIPTION:Baan 4\, Wedstrijdnummer 1102\, Afdeling 2e klasse II
DTSTART:20231130T200000
DTEND:20231130T230000
LOCATION:City Resort Helmond
ATTACH;FMTTYPE=text/plain:https://hbb.rivio.dev/senioren/2023/wedstrijd/322
 65
END:VEVENT
BEGIN:VEVENT
UID:https://hbb.rivio.dev/senioren/2023/wedstrijd/32272
DTSTAMP:20260420T165738Z
SUMMARY:Bakel 4 - RBC 2
DESCRIPTION:Baan 1\, Wedstrijdnummer 1104\, Afdeling 2e klasse II
DTSTART:20231206T200000
DTEND:20231206T230000
LOCATION:City Resort Helmond
ATTACH;FMTTYPE=text/plain:https://hbb.rivio.dev/senioren/2023/wedstrijd/322
 72
END:VEVENT
BEGIN:VEVENT
UID:https://hbb.rivio.dev/senioren/2023/wedstrijd/32320
DTSTAMP:20260420T165738Z
SUMMARY:Mierlo 6 - RBC 2
DESCRIPTION:Baan 14\, Wedstrijdnummer 1108\, Afdeling 2e klasse II
DTSTART:20231221T200000
DTEND:20231221T230000
LOCATION:City Resort Helmond
ATTACH;FMTTYPE=text/plain:https://hbb.rivio.dev/senioren/2023/wedstrijd/323
 20
END:VEVENT
BEGIN:VEVENT
UID:https://hbb.rivio.dev/senioren/2023/wedstrijd/32365
DTSTAMP:20260420T165738Z
SUMMARY:Someren 3 - RBC 2
DESCRIPTION:Baan 4\, Wedstrijdnummer 1112\, Afdeling 2e klasse II
DTSTART:20240125T200000
DTEND:20240125T230000
LOCATION:City Resort Helmond
ATTACH;FMTTYPE=text/plain:https://hbb.rivio.dev/senioren/2023/wedstrijd/323
 65
END:VEVENT
BEGIN:VEVENT
UID:https://hbb.rivio.dev/senioren/2023/wedstrijd/32398
DTSTAMP:20260420T165738Z
SUMMARY:RBC 2 - Mixed 4
DESCRIPTION:Baan 12\, Wedstrijdnummer 1115\, Afdeling 2e klasse II
DTSTART:20240208T200000
DTEND:20240208T230000
LOCATION:City Resort Helmond
ATTACH;FMTTYPE=text/plain:https://hbb.rivio.dev/senioren/2023/wedstrijd/323
 98
END:VEVENT
BEGIN:VEVENT
UID:https://hbb.rivio.dev/senioren/2023/wedstrijd/32427
DTSTAMP:20260420T165738Z
SUMMARY:De Valken 4 - RBC 2
DESCRIPTION:Baan 11\, Wedstrijdnummer 2102\, Afdeling 2e klasse II
DTSTART:20240229T200000
DTEND:20240229T230000
LOCATION:City Resort Helmond
ATTACH;FMTTYPE=text/plain:https://hbb.rivio.dev/senioren/2023/wedstrijd/324
 27
END:VEVENT
BEGIN:VEVENT
UID:https://hbb.rivio.dev/senioren/2023/wedstrijd/32467
DTSTAMP:20260420T165738Z
SUMMARY:RBC 2 - Bakel 4
DESCRIPTION:Baan 11\, Wedstrijdnummer 2104\, Afdeling 2e klasse II
DTSTART:20240321T200000
DTEND:20240321T230000
LOCATION:City Resort Helmond
ATTACH;FMTTYPE=text/plain:https://hbb.rivio.dev/senioren/2023/wedstrijd/324
 67
END:VEVENT
BEGIN:VEVENT
UID:https://hbb.rivio.dev/senioren/2023/wedstrijd/32499
DTSTAMP:20260420T165738Z
SUMMARY:RBC 2 - Mierlo 6
DESCRIPTION:Baan 13\, Wedstrijdnummer 2108\, Afdeling 2e klasse II
DTSTART:20240404T200000
DTEND:20240404T230000
LOCATION:City Resort Helmond
ATTACH;FMTTYPE=text/plain:https://hbb.rivio.dev/senioren/2023/wedstrijd/324
 99
END:VEVENT
BEGIN:VEVENT
UID:https://hbb.rivio.dev/senioren/2023/wedstrijd/32530
DTSTAMP:20260420T165738Z
SUMMARY:RBC 2 - Someren 3
DESCRIPTION:Baan 14\, Wedstrijdnummer 2112\, Afdeling 2e klasse II
DTSTART:20240411T200000
DTEND:20240411T230000
LOCATION:City Resort Helmond
ATTACH;FMTTYPE=text/plain:https://hbb.rivio.dev/senioren/2023/wedstrijd/325
 30
END:VEVENT
BEGIN:VEVENT
UID:https://hbb.rivio.dev/senioren/2023/wedstrijd/32560
DTSTAMP:20260420T165738Z
SUMMARY:Mixed 4 - RBC 2
DESCRIPTION:Baan 14\, Wedstrijdnummer 2115\, Afdeling 2e klasse II
DTSTART:20240523T200000
DTEND:20240523T230000
LOCATION:City Resort Helmond
ATTACH;FMTTYPE=text/plain:https://hbb.rivio.dev/senioren/2023/wedstrijd/325
 60
END:VEVENT
BEGIN:VTIMEZONE
TZID:Europe/Amsterdam
BEGIN:STANDARD
DTSTART:20230101T000000
TZNAME:CET
TZOFFSETTO:+0100
TZOFFSETFROM:+0100
END:STANDARD
BEGIN:DAYLIGHT
DTSTART:20230326T030000
TZNAME:CEST
TZOFFSETTO:+0200
TZOFFSETFROM:+0100
END:DAYLIGHT
BEGIN:STANDARD
DTSTART:20231029T020000
TZNAME:CET
TZOFFSETTO:+0100
TZOFFSETFROM:+0200
END:STANDARD
BEGIN:DAYLIGHT
DTSTART:20240331T030000
TZNAME:CEST
TZOFFSETTO:+0200
TZOFFSETFROM:+0100
END:DAYLIGHT
BEGIN:STANDARD
DTSTART:20241027T020000
TZNAME:CET
TZOFFSETTO:+0100
TZOFFSETFROM:+0200
END:STANDARD
END:VTIMEZONE
END:VCALENDAR
