BEGIN:VCALENDAR
PRODID:-//eluceo/ical//2.0/EN
VERSION:2.0
CALSCALE:GREGORIAN
BEGIN:VEVENT
UID:https://hbb.rivio.dev/senioren/2023/wedstrijd/32115
DTSTAMP:20260420T151110Z
SUMMARY:ASML 3 - Gemert 2
DESCRIPTION:Baan 4\, Wedstrijdnummer 117\, Afdeling 3e klasse I
DTSTART:20230913T200000
DTEND:20230913T230000
LOCATION:City Resort Helmond
ATTACH;FMTTYPE=text/plain:https://hbb.rivio.dev/senioren/2023/wedstrijd/321
 15
END:VEVENT
BEGIN:VEVENT
UID:https://hbb.rivio.dev/senioren/2023/wedstrijd/32146
DTSTAMP:20260420T151110Z
SUMMARY:Gemert 2 - Mierlo 8
DESCRIPTION:Baan 5\, Wedstrijdnummer 120\, Afdeling 3e klasse I
DTSTART:20230927T200000
DTEND:20230927T230000
LOCATION:City Resort Helmond
ATTACH;FMTTYPE=text/plain:https://hbb.rivio.dev/senioren/2023/wedstrijd/321
 46
END:VEVENT
BEGIN:VEVENT
UID:https://hbb.rivio.dev/senioren/2023/wedstrijd/32175
DTSTAMP:20260420T151110Z
SUMMARY:Gemert 2 - Ganzeveer 3
DESCRIPTION:Baan 4\, Wedstrijdnummer 125\, Afdeling 3e klasse I
DTSTART:20231011T200000
DTEND:20231011T230000
LOCATION:City Resort Helmond
ATTACH;FMTTYPE=text/plain:https://hbb.rivio.dev/senioren/2023/wedstrijd/321
 75
END:VEVENT
BEGIN:VEVENT
UID:https://hbb.rivio.dev/senioren/2023/wedstrijd/32220
DTSTAMP:20260420T151110Z
SUMMARY:Gemert 2 - BCAB 1
DESCRIPTION:Baan 14\, Wedstrijdnummer 130\, Afdeling 3e klasse I
DTSTART:20231102T200000
DTEND:20231102T230000
LOCATION:City Resort Helmond
ATTACH;FMTTYPE=text/plain:https://hbb.rivio.dev/senioren/2023/wedstrijd/322
 20
END:VEVENT
BEGIN:VEVENT
UID:https://hbb.rivio.dev/senioren/2023/wedstrijd/32251
DTSTAMP:20260420T151110Z
SUMMARY:Gemert 2 - RBC 3
DESCRIPTION:Baan 15\, Wedstrijdnummer 135\, Afdeling 3e klasse I
DTSTART:20231116T200000
DTEND:20231116T230000
LOCATION:City Resort Helmond
ATTACH;FMTTYPE=text/plain:https://hbb.rivio.dev/senioren/2023/wedstrijd/322
 51
END:VEVENT
BEGIN:VEVENT
UID:https://hbb.rivio.dev/senioren/2023/wedstrijd/32302
DTSTAMP:20260420T151110Z
SUMMARY:Geldrop 3 - Gemert 2
DESCRIPTION:Baan 1\, Wedstrijdnummer 139\, Afdeling 3e klasse I
DTSTART:20231220T200000
DTEND:20231220T230000
LOCATION:City Resort Helmond
ATTACH;FMTTYPE=text/plain:https://hbb.rivio.dev/senioren/2023/wedstrijd/323
 02
END:VEVENT
BEGIN:VEVENT
UID:https://hbb.rivio.dev/senioren/2023/wedstrijd/32332
DTSTAMP:20260420T151110Z
SUMMARY:De Valken 5 - Gemert 2
DESCRIPTION:Baan 1\, Wedstrijdnummer 142\, Afdeling 3e klasse I
DTSTART:20240111T200000
DTEND:20240111T230000
LOCATION:City Resort Helmond
ATTACH;FMTTYPE=text/plain:https://hbb.rivio.dev/senioren/2023/wedstrijd/323
 32
END:VEVENT
BEGIN:VEVENT
UID:https://hbb.rivio.dev/senioren/2023/wedstrijd/32356
DTSTAMP:20260420T151110Z
SUMMARY:Gemert 2 - ASML 3
DESCRIPTION:Baan 5\, Wedstrijdnummer 1117\, Afdeling 3e klasse I
DTSTART:20240124T200000
DTEND:20240124T230000
LOCATION:City Resort Helmond
ATTACH;FMTTYPE=text/plain:https://hbb.rivio.dev/senioren/2023/wedstrijd/323
 56
END:VEVENT
BEGIN:VEVENT
UID:https://hbb.rivio.dev/senioren/2023/wedstrijd/32387
DTSTAMP:20260420T151110Z
SUMMARY:Mierlo 8 - Gemert 2
DESCRIPTION:Baan 11\, Wedstrijdnummer 1120\, Afdeling 3e klasse I
DTSTART:20240207T200000
DTEND:20240207T230000
LOCATION:City Resort Helmond
ATTACH;FMTTYPE=text/plain:https://hbb.rivio.dev/senioren/2023/wedstrijd/323
 87
END:VEVENT
BEGIN:VEVENT
UID:https://hbb.rivio.dev/senioren/2023/wedstrijd/32409
DTSTAMP:20260420T151110Z
SUMMARY:Ganzeveer 3 - Gemert 2
DESCRIPTION:Baan 13\, Wedstrijdnummer 1125\, Afdeling 3e klasse I
DTSTART:20240221T200000
DTEND:20240221T230000
LOCATION:City Resort Helmond
ATTACH;FMTTYPE=text/plain:https://hbb.rivio.dev/senioren/2023/wedstrijd/324
 09
END:VEVENT
BEGIN:VEVENT
UID:https://hbb.rivio.dev/senioren/2023/wedstrijd/32445
DTSTAMP:20260420T151110Z
SUMMARY:BCAB 1 - Gemert 2
DESCRIPTION:Baan 4\, Wedstrijdnummer 1130\, Afdeling 3e klasse I
DTSTART:20240307T200000
DTEND:20240307T230000
LOCATION:City Resort Helmond
ATTACH;FMTTYPE=text/plain:https://hbb.rivio.dev/senioren/2023/wedstrijd/324
 45
END:VEVENT
BEGIN:VEVENT
UID:https://hbb.rivio.dev/senioren/2023/wedstrijd/32477
DTSTAMP:20260420T151110Z
SUMMARY:RBC 3 - Gemert 2
DESCRIPTION:Baan 11\, Wedstrijdnummer 1135\, Afdeling 3e klasse I
DTSTART:20240328T200000
DTEND:20240328T230000
LOCATION:City Resort Helmond
ATTACH;FMTTYPE=text/plain:https://hbb.rivio.dev/senioren/2023/wedstrijd/324
 77
END:VEVENT
BEGIN:VEVENT
UID:https://hbb.rivio.dev/senioren/2023/wedstrijd/32507
DTSTAMP:20260420T151110Z
SUMMARY:Gemert 2 - Geldrop 3
DESCRIPTION:Baan 11\, Wedstrijdnummer 1139\, Afdeling 3e klasse I
DTSTART:20240417T200000
DTEND:20240417T230000
LOCATION:City Resort Helmond
ATTACH;FMTTYPE=text/plain:https://hbb.rivio.dev/senioren/2023/wedstrijd/325
 07
END:VEVENT
BEGIN:VEVENT
UID:https://hbb.rivio.dev/senioren/2023/wedstrijd/32540
DTSTAMP:20260420T151110Z
SUMMARY:Gemert 2 - De Valken 5
DESCRIPTION:Baan 14\, Wedstrijdnummer 1142\, Afdeling 3e klasse I
DTSTART:20240515T200000
DTEND:20240515T230000
LOCATION:City Resort Helmond
ATTACH;FMTTYPE=text/plain:https://hbb.rivio.dev/senioren/2023/wedstrijd/325
 40
END:VEVENT
BEGIN:VTIMEZONE
TZID:Europe/Amsterdam
BEGIN:STANDARD
DTSTART:20230101T000000
TZNAME:CET
TZOFFSETTO:+0100
TZOFFSETFROM:+0100
END:STANDARD
BEGIN:DAYLIGHT
DTSTART:20230326T030000
TZNAME:CEST
TZOFFSETTO:+0200
TZOFFSETFROM:+0100
END:DAYLIGHT
BEGIN:STANDARD
DTSTART:20231029T020000
TZNAME:CET
TZOFFSETTO:+0100
TZOFFSETFROM:+0200
END:STANDARD
BEGIN:DAYLIGHT
DTSTART:20240331T030000
TZNAME:CEST
TZOFFSETTO:+0200
TZOFFSETFROM:+0100
END:DAYLIGHT
BEGIN:STANDARD
DTSTART:20241027T020000
TZNAME:CET
TZOFFSETTO:+0100
TZOFFSETFROM:+0200
END:STANDARD
END:VTIMEZONE
END:VCALENDAR
