BEGIN:VCALENDAR
PRODID:-//eluceo/ical//2.0/EN
VERSION:2.0
CALSCALE:GREGORIAN
BEGIN:VEVENT
UID:https://hbb.rivio.dev/senioren/2023/wedstrijd/32150
DTSTAMP:20260420T184400Z
SUMMARY:Ganzeveer 4 - Gemert 3
DESCRIPTION:Baan 14\, Wedstrijdnummer 177\, Afdeling 4e klasse 
DTSTART:20230927T200000
DTEND:20230927T230000
LOCATION:City Resort Helmond
ATTACH;FMTTYPE=text/plain:https://hbb.rivio.dev/senioren/2023/wedstrijd/321
 50
END:VEVENT
BEGIN:VEVENT
UID:https://hbb.rivio.dev/senioren/2023/wedstrijd/32209
DTSTAMP:20260420T184400Z
SUMMARY:BC '85 1 - Gemert 3
DESCRIPTION:Baan 13\, Wedstrijdnummer 182\, Afdeling 4e klasse 
DTSTART:20231026T200000
DTEND:20231026T230000
LOCATION:City Resort Helmond
ATTACH;FMTTYPE=text/plain:https://hbb.rivio.dev/senioren/2023/wedstrijd/322
 09
END:VEVENT
BEGIN:VEVENT
UID:https://hbb.rivio.dev/senioren/2023/wedstrijd/32227
DTSTAMP:20260420T184400Z
SUMMARY:Mixed 5 - Gemert 3
DESCRIPTION:Baan 11\, Wedstrijdnummer 187\, Afdeling 4e klasse 
DTSTART:20231108T200000
DTEND:20231108T230000
LOCATION:City Resort Helmond
ATTACH;FMTTYPE=text/plain:https://hbb.rivio.dev/senioren/2023/wedstrijd/322
 27
END:VEVENT
BEGIN:VEVENT
UID:https://hbb.rivio.dev/senioren/2023/wedstrijd/32308
DTSTAMP:20260420T184400Z
SUMMARY:Mixed 6 - Gemert 3
DESCRIPTION:Baan 12\, Wedstrijdnummer 198\, Afdeling 4e klasse 
DTSTART:20231220T200000
DTEND:20231220T230000
LOCATION:City Resort Helmond
ATTACH;FMTTYPE=text/plain:https://hbb.rivio.dev/senioren/2023/wedstrijd/323
 08
END:VEVENT
BEGIN:VEVENT
UID:https://hbb.rivio.dev/senioren/2023/wedstrijd/32330
DTSTAMP:20260420T184400Z
SUMMARY:Mierlo 9 - Gemert 3
DESCRIPTION:Baan 14\, Wedstrijdnummer 203\, Afdeling 4e klasse 
DTSTART:20240110T200000
DTEND:20240110T230000
LOCATION:City Resort Helmond
ATTACH;FMTTYPE=text/plain:https://hbb.rivio.dev/senioren/2023/wedstrijd/323
 30
END:VEVENT
BEGIN:VEVENT
UID:https://hbb.rivio.dev/senioren/2023/wedstrijd/32384
DTSTAMP:20260420T184400Z
SUMMARY:Heeze 1 - Gemert 3
DESCRIPTION:Baan 3\, Wedstrijdnummer 208\, Afdeling 4e klasse 
DTSTART:20240207T200000
DTEND:20240207T230000
LOCATION:City Resort Helmond
ATTACH;FMTTYPE=text/plain:https://hbb.rivio.dev/senioren/2023/wedstrijd/323
 84
END:VEVENT
BEGIN:VEVENT
UID:https://hbb.rivio.dev/senioren/2023/wedstrijd/32405
DTSTAMP:20260420T184400Z
SUMMARY:Gemert 3 - Con Brio 3
DESCRIPTION:Baan 4\, Wedstrijdnummer 215\, Afdeling 4e klasse 
DTSTART:20240221T200000
DTEND:20240221T230000
LOCATION:City Resort Helmond
ATTACH;FMTTYPE=text/plain:https://hbb.rivio.dev/senioren/2023/wedstrijd/324
 05
END:VEVENT
BEGIN:VEVENT
UID:https://hbb.rivio.dev/senioren/2023/wedstrijd/32422
DTSTAMP:20260420T184400Z
SUMMARY:Gemert 3 - Bakel 5
DESCRIPTION:Baan 1\, Wedstrijdnummer 222\, Afdeling 4e klasse 
DTSTART:20240229T200000
DTEND:20240229T230000
LOCATION:City Resort Helmond
ATTACH;FMTTYPE=text/plain:https://hbb.rivio.dev/senioren/2023/wedstrijd/324
 22
END:VEVENT
BEGIN:VEVENT
UID:https://hbb.rivio.dev/senioren/2023/wedstrijd/32451
DTSTAMP:20260420T184400Z
SUMMARY:Gemert 3 - Someren 5
DESCRIPTION:Baan 13\, Wedstrijdnummer 229\, Afdeling 4e klasse 
DTSTART:20240307T200000
DTEND:20240307T230000
LOCATION:City Resort Helmond
ATTACH;FMTTYPE=text/plain:https://hbb.rivio.dev/senioren/2023/wedstrijd/324
 51
END:VEVENT
BEGIN:VEVENT
UID:https://hbb.rivio.dev/senioren/2023/wedstrijd/32495
DTSTAMP:20260420T184400Z
SUMMARY:Gemert 3 - Someren 6
DESCRIPTION:Baan 4\, Wedstrijdnummer 235\, Afdeling 4e klasse 
DTSTART:20240404T200000
DTEND:20240404T230000
LOCATION:City Resort Helmond
ATTACH;FMTTYPE=text/plain:https://hbb.rivio.dev/senioren/2023/wedstrijd/324
 95
END:VEVENT
BEGIN:VEVENT
UID:https://hbb.rivio.dev/senioren/2023/wedstrijd/32526
DTSTAMP:20260420T184400Z
SUMMARY:Gemert 3 - Never Down 2
DESCRIPTION:Baan 5\, Wedstrijdnummer 242\, Afdeling 4e klasse 
DTSTART:20240411T200000
DTEND:20240411T230000
LOCATION:City Resort Helmond
ATTACH;FMTTYPE=text/plain:https://hbb.rivio.dev/senioren/2023/wedstrijd/325
 26
END:VEVENT
BEGIN:VEVENT
UID:https://hbb.rivio.dev/senioren/2023/wedstrijd/32557
DTSTAMP:20260420T184400Z
SUMMARY:Gemert 3 - Hanevoet 3
DESCRIPTION:Baan 11\, Wedstrijdnummer 249\, Afdeling 4e klasse 
DTSTART:20240523T200000
DTEND:20240523T230000
LOCATION:City Resort Helmond
ATTACH;FMTTYPE=text/plain:https://hbb.rivio.dev/senioren/2023/wedstrijd/325
 57
END:VEVENT
BEGIN:VTIMEZONE
TZID:Europe/Amsterdam
BEGIN:STANDARD
DTSTART:20230101T000000
TZNAME:CET
TZOFFSETTO:+0100
TZOFFSETFROM:+0100
END:STANDARD
BEGIN:DAYLIGHT
DTSTART:20230326T030000
TZNAME:CEST
TZOFFSETTO:+0200
TZOFFSETFROM:+0100
END:DAYLIGHT
BEGIN:STANDARD
DTSTART:20231029T020000
TZNAME:CET
TZOFFSETTO:+0100
TZOFFSETFROM:+0200
END:STANDARD
BEGIN:DAYLIGHT
DTSTART:20240331T030000
TZNAME:CEST
TZOFFSETTO:+0200
TZOFFSETFROM:+0100
END:DAYLIGHT
BEGIN:STANDARD
DTSTART:20241027T020000
TZNAME:CET
TZOFFSETTO:+0100
TZOFFSETFROM:+0200
END:STANDARD
END:VTIMEZONE
END:VCALENDAR
