BEGIN:VCALENDAR
PRODID:-//eluceo/ical//2.0/EN
VERSION:2.0
CALSCALE:GREGORIAN
BEGIN:VEVENT
UID:https://hbb.rivio.dev/senioren/2023/wedstrijd/32133
DTSTAMP:20260420T220606Z
SUMMARY:Bakel 1 - Brabantia 1
DESCRIPTION:Baan 2\, Wedstrijdnummer 2\, Afdeling Topklasse 
DTSTART:20230921T200000
DTEND:20230921T230000
LOCATION:City Resort Helmond
ATTACH;FMTTYPE=text/plain:https://hbb.rivio.dev/senioren/2023/wedstrijd/321
 33
END:VEVENT
BEGIN:VEVENT
UID:https://hbb.rivio.dev/senioren/2023/wedstrijd/32177
DTSTAMP:20260420T220606Z
SUMMARY:Brabantia 1 - Mierlo 1
DESCRIPTION:Baan 11\, Wedstrijdnummer 10\, Afdeling Topklasse 
DTSTART:20231011T200000
DTEND:20231011T230000
LOCATION:City Resort Helmond
ATTACH;FMTTYPE=text/plain:https://hbb.rivio.dev/senioren/2023/wedstrijd/321
 77
END:VEVENT
BEGIN:VEVENT
UID:https://hbb.rivio.dev/senioren/2023/wedstrijd/32222
DTSTAMP:20260420T220606Z
SUMMARY:Brabantia 1 - Phoenix 1
DESCRIPTION:Baan 1\, Wedstrijdnummer 15\, Afdeling Topklasse 
DTSTART:20231108T200000
DTEND:20231108T230000
LOCATION:City Resort Helmond
ATTACH;FMTTYPE=text/plain:https://hbb.rivio.dev/senioren/2023/wedstrijd/322
 22
END:VEVENT
BEGIN:VEVENT
UID:https://hbb.rivio.dev/senioren/2023/wedstrijd/32255
DTSTAMP:20260420T220606Z
SUMMARY:Brabantia 1 - De Valken 2
DESCRIPTION:Baan 2\, Wedstrijdnummer 20\, Afdeling Topklasse 
DTSTART:20231123T200000
DTEND:20231123T230000
LOCATION:City Resort Helmond
ATTACH;FMTTYPE=text/plain:https://hbb.rivio.dev/senioren/2023/wedstrijd/322
 55
END:VEVENT
BEGIN:VEVENT
UID:https://hbb.rivio.dev/senioren/2023/wedstrijd/32285
DTSTAMP:20260420T220606Z
SUMMARY:Mixed 1 - Brabantia 1
DESCRIPTION:Baan 4\, Wedstrijdnummer 24\, Afdeling Topklasse 
DTSTART:20231207T200000
DTEND:20231207T230000
LOCATION:City Resort Helmond
ATTACH;FMTTYPE=text/plain:https://hbb.rivio.dev/senioren/2023/wedstrijd/322
 85
END:VEVENT
BEGIN:VEVENT
UID:https://hbb.rivio.dev/senioren/2023/wedstrijd/32326
DTSTAMP:20260420T220606Z
SUMMARY:Con Brio 1 - Brabantia 1
DESCRIPTION:Baan 5\, Wedstrijdnummer 27\, Afdeling Topklasse 
DTSTART:20240110T200000
DTEND:20240110T230000
LOCATION:City Resort Helmond
ATTACH;FMTTYPE=text/plain:https://hbb.rivio.dev/senioren/2023/wedstrijd/323
 26
END:VEVENT
BEGIN:VEVENT
UID:https://hbb.rivio.dev/senioren/2023/wedstrijd/32347
DTSTAMP:20260420T220606Z
SUMMARY:Brabantia 1 - Bakel 1
DESCRIPTION:Baan 11\, Wedstrijdnummer 1002\, Afdeling Topklasse 
DTSTART:20240118T200000
DTEND:20240118T230000
LOCATION:City Resort Helmond
ATTACH;FMTTYPE=text/plain:https://hbb.rivio.dev/senioren/2023/wedstrijd/323
 47
END:VEVENT
BEGIN:VEVENT
UID:https://hbb.rivio.dev/senioren/2023/wedstrijd/32411
DTSTAMP:20260420T220606Z
SUMMARY:Mierlo 1 - Brabantia 1
DESCRIPTION:Baan 15\, Wedstrijdnummer 1010\, Afdeling Topklasse 
DTSTART:20240221T200000
DTEND:20240221T230000
LOCATION:City Resort Helmond
ATTACH;FMTTYPE=text/plain:https://hbb.rivio.dev/senioren/2023/wedstrijd/324
 11
END:VEVENT
BEGIN:VEVENT
UID:https://hbb.rivio.dev/senioren/2023/wedstrijd/32455
DTSTAMP:20260420T220606Z
SUMMARY:Phoenix 1 - Brabantia 1
DESCRIPTION:Baan 4\, Wedstrijdnummer 1015\, Afdeling Topklasse 
DTSTART:20240320T200000
DTEND:20240320T230000
LOCATION:City Resort Helmond
ATTACH;FMTTYPE=text/plain:https://hbb.rivio.dev/senioren/2023/wedstrijd/324
 55
END:VEVENT
BEGIN:VEVENT
UID:https://hbb.rivio.dev/senioren/2023/wedstrijd/32481
DTSTAMP:20260420T220606Z
SUMMARY:De Valken 2 - Brabantia 1
DESCRIPTION:Baan 15\, Wedstrijdnummer 1020\, Afdeling Topklasse 
DTSTART:20240328T200000
DTEND:20240328T230000
LOCATION:City Resort Helmond
ATTACH;FMTTYPE=text/plain:https://hbb.rivio.dev/senioren/2023/wedstrijd/324
 81
END:VEVENT
BEGIN:VEVENT
UID:https://hbb.rivio.dev/senioren/2023/wedstrijd/32523
DTSTAMP:20260420T220606Z
SUMMARY:Brabantia 1 - Mixed 1
DESCRIPTION:Baan 2\, Wedstrijdnummer 1024\, Afdeling Topklasse 
DTSTART:20240411T200000
DTEND:20240411T230000
LOCATION:City Resort Helmond
ATTACH;FMTTYPE=text/plain:https://hbb.rivio.dev/senioren/2023/wedstrijd/325
 23
END:VEVENT
BEGIN:VEVENT
UID:https://hbb.rivio.dev/senioren/2023/wedstrijd/32562
DTSTAMP:20260420T220606Z
SUMMARY:Brabantia 1 - Con Brio 1
DESCRIPTION:Baan 2\, Wedstrijdnummer 1027\, Afdeling Topklasse 
DTSTART:20240529T200000
DTEND:20240529T230000
LOCATION:City Resort Helmond
ATTACH;FMTTYPE=text/plain:https://hbb.rivio.dev/senioren/2023/wedstrijd/325
 62
END:VEVENT
BEGIN:VTIMEZONE
TZID:Europe/Amsterdam
BEGIN:STANDARD
DTSTART:20230101T000000
TZNAME:CET
TZOFFSETTO:+0100
TZOFFSETFROM:+0100
END:STANDARD
BEGIN:DAYLIGHT
DTSTART:20230326T030000
TZNAME:CEST
TZOFFSETTO:+0200
TZOFFSETFROM:+0100
END:DAYLIGHT
BEGIN:STANDARD
DTSTART:20231029T020000
TZNAME:CET
TZOFFSETTO:+0100
TZOFFSETFROM:+0200
END:STANDARD
BEGIN:DAYLIGHT
DTSTART:20240331T030000
TZNAME:CEST
TZOFFSETTO:+0200
TZOFFSETFROM:+0100
END:DAYLIGHT
BEGIN:STANDARD
DTSTART:20241027T020000
TZNAME:CET
TZOFFSETTO:+0100
TZOFFSETFROM:+0200
END:STANDARD
END:VTIMEZONE
END:VCALENDAR
