BEGIN:VCALENDAR
PRODID:-//eluceo/ical//2.0/EN
VERSION:2.0
CALSCALE:GREGORIAN
BEGIN:VEVENT
UID:https://hbb.rivio.dev/senioren/2023/wedstrijd/32139
DTSTAMP:20260420T150945Z
SUMMARY:Geldrop 2 - Smashing Bruang 2
DESCRIPTION:Baan 13\, Wedstrijdnummer 145\, Afdeling 3e klasse II
DTSTART:20230921T200000
DTEND:20230921T230000
LOCATION:City Resort Helmond
ATTACH;FMTTYPE=text/plain:https://hbb.rivio.dev/senioren/2023/wedstrijd/321
 39
END:VEVENT
BEGIN:VEVENT
UID:https://hbb.rivio.dev/senioren/2023/wedstrijd/32183
DTSTAMP:20260420T150945Z
SUMMARY:Smashing Bruang 2 - Gemert 1
DESCRIPTION:Baan 2\, Wedstrijdnummer 148\, Afdeling 3e klasse II
DTSTART:20231012T200000
DTEND:20231012T230000
LOCATION:City Resort Helmond
ATTACH;FMTTYPE=text/plain:https://hbb.rivio.dev/senioren/2023/wedstrijd/321
 83
END:VEVENT
BEGIN:VEVENT
UID:https://hbb.rivio.dev/senioren/2023/wedstrijd/32215
DTSTAMP:20260420T150945Z
SUMMARY:Smashing Bruang 2 - Never Down 1
DESCRIPTION:Baan 4\, Wedstrijdnummer 153\, Afdeling 3e klasse II
DTSTART:20231102T200000
DTEND:20231102T230000
LOCATION:City Resort Helmond
ATTACH;FMTTYPE=text/plain:https://hbb.rivio.dev/senioren/2023/wedstrijd/322
 15
END:VEVENT
BEGIN:VEVENT
UID:https://hbb.rivio.dev/senioren/2023/wedstrijd/32245
DTSTAMP:20260420T150945Z
SUMMARY:Smashing Bruang 2 - Heiakker 1
DESCRIPTION:Baan 4\, Wedstrijdnummer 158\, Afdeling 3e klasse II
DTSTART:20231116T200000
DTEND:20231116T230000
LOCATION:City Resort Helmond
ATTACH;FMTTYPE=text/plain:https://hbb.rivio.dev/senioren/2023/wedstrijd/322
 45
END:VEVENT
BEGIN:VEVENT
UID:https://hbb.rivio.dev/senioren/2023/wedstrijd/32268
DTSTAMP:20260420T150945Z
SUMMARY:Smashing Bruang 2 - Someren 4
DESCRIPTION:Baan 12\, Wedstrijdnummer 163\, Afdeling 3e klasse II
DTSTART:20231130T200000
DTEND:20231130T230000
LOCATION:City Resort Helmond
ATTACH;FMTTYPE=text/plain:https://hbb.rivio.dev/senioren/2023/wedstrijd/322
 68
END:VEVENT
BEGIN:VEVENT
UID:https://hbb.rivio.dev/senioren/2023/wedstrijd/32299
DTSTAMP:20260420T150945Z
SUMMARY:Rudra 1 - Smashing Bruang 2
DESCRIPTION:Baan 13\, Wedstrijdnummer 167\, Afdeling 3e klasse II
DTSTART:20231214T200000
DTEND:20231214T230000
LOCATION:City Resort Helmond
ATTACH;FMTTYPE=text/plain:https://hbb.rivio.dev/senioren/2023/wedstrijd/322
 99
END:VEVENT
BEGIN:VEVENT
UID:https://hbb.rivio.dev/senioren/2023/wedstrijd/32338
DTSTAMP:20260420T150945Z
SUMMARY:Mierlo 7 - Smashing Bruang 2
DESCRIPTION:Baan 12\, Wedstrijdnummer 170\, Afdeling 3e klasse II
DTSTART:20240111T200000
DTEND:20240111T230000
LOCATION:City Resort Helmond
ATTACH;FMTTYPE=text/plain:https://hbb.rivio.dev/senioren/2023/wedstrijd/323
 38
END:VEVENT
BEGIN:VEVENT
UID:https://hbb.rivio.dev/senioren/2023/wedstrijd/32374
DTSTAMP:20260420T150945Z
SUMMARY:Smashing Bruang 2 - Geldrop 2
DESCRIPTION:Baan 3\, Wedstrijdnummer 1145\, Afdeling 3e klasse II
DTSTART:20240201T200000
DTEND:20240201T230000
LOCATION:City Resort Helmond
ATTACH;FMTTYPE=text/plain:https://hbb.rivio.dev/senioren/2023/wedstrijd/323
 74
END:VEVENT
BEGIN:VEVENT
UID:https://hbb.rivio.dev/senioren/2023/wedstrijd/32399
DTSTAMP:20260420T150945Z
SUMMARY:Gemert 1 - Smashing Bruang 2
DESCRIPTION:Baan 13\, Wedstrijdnummer 1148\, Afdeling 3e klasse II
DTSTART:20240208T200000
DTEND:20240208T230000
LOCATION:City Resort Helmond
ATTACH;FMTTYPE=text/plain:https://hbb.rivio.dev/senioren/2023/wedstrijd/323
 99
END:VEVENT
BEGIN:VEVENT
UID:https://hbb.rivio.dev/senioren/2023/wedstrijd/32428
DTSTAMP:20260420T150945Z
SUMMARY:Never Down 1 - Smashing Bruang 2
DESCRIPTION:Baan 12\, Wedstrijdnummer 1153\, Afdeling 3e klasse II
DTSTART:20240229T200000
DTEND:20240229T230000
LOCATION:City Resort Helmond
ATTACH;FMTTYPE=text/plain:https://hbb.rivio.dev/senioren/2023/wedstrijd/324
 28
END:VEVENT
BEGIN:VEVENT
UID:https://hbb.rivio.dev/senioren/2023/wedstrijd/32470
DTSTAMP:20260420T150945Z
SUMMARY:Heiakker 1 - Smashing Bruang 2
DESCRIPTION:Baan 14\, Wedstrijdnummer 1158\, Afdeling 3e klasse II
DTSTART:20240321T200000
DTEND:20240321T230000
LOCATION:City Resort Helmond
ATTACH;FMTTYPE=text/plain:https://hbb.rivio.dev/senioren/2023/wedstrijd/324
 70
END:VEVENT
BEGIN:VEVENT
UID:https://hbb.rivio.dev/senioren/2023/wedstrijd/32513
DTSTAMP:20260420T150945Z
SUMMARY:Someren 4 - Smashing Bruang 2
DESCRIPTION:Baan 2\, Wedstrijdnummer 1163\, Afdeling 3e klasse II
DTSTART:20240418T200000
DTEND:20240418T230000
LOCATION:City Resort Helmond
ATTACH;FMTTYPE=text/plain:https://hbb.rivio.dev/senioren/2023/wedstrijd/325
 13
END:VEVENT
BEGIN:VEVENT
UID:https://hbb.rivio.dev/senioren/2023/wedstrijd/32544
DTSTAMP:20260420T150945Z
SUMMARY:Smashing Bruang 2 - Rudra 1
DESCRIPTION:Baan 3\, Wedstrijdnummer 1167\, Afdeling 3e klasse II
DTSTART:20240516T200000
DTEND:20240516T230000
LOCATION:City Resort Helmond
ATTACH;FMTTYPE=text/plain:https://hbb.rivio.dev/senioren/2023/wedstrijd/325
 44
END:VEVENT
BEGIN:VEVENT
UID:https://hbb.rivio.dev/senioren/2023/wedstrijd/32572
DTSTAMP:20260420T150945Z
SUMMARY:Smashing Bruang 2 - Mierlo 7
DESCRIPTION:Baan 4\, Wedstrijdnummer 1170\, Afdeling 3e klasse II
DTSTART:20240530T200000
DTEND:20240530T230000
LOCATION:City Resort Helmond
ATTACH;FMTTYPE=text/plain:https://hbb.rivio.dev/senioren/2023/wedstrijd/325
 72
END:VEVENT
BEGIN:VTIMEZONE
TZID:Europe/Amsterdam
BEGIN:STANDARD
DTSTART:20230101T000000
TZNAME:CET
TZOFFSETTO:+0100
TZOFFSETFROM:+0100
END:STANDARD
BEGIN:DAYLIGHT
DTSTART:20230326T030000
TZNAME:CEST
TZOFFSETTO:+0200
TZOFFSETFROM:+0100
END:DAYLIGHT
BEGIN:STANDARD
DTSTART:20231029T020000
TZNAME:CET
TZOFFSETTO:+0100
TZOFFSETFROM:+0200
END:STANDARD
BEGIN:DAYLIGHT
DTSTART:20240331T030000
TZNAME:CEST
TZOFFSETTO:+0200
TZOFFSETFROM:+0100
END:DAYLIGHT
BEGIN:STANDARD
DTSTART:20241027T020000
TZNAME:CET
TZOFFSETTO:+0100
TZOFFSETFROM:+0200
END:STANDARD
END:VTIMEZONE
END:VCALENDAR
