BEGIN:VCALENDAR
PRODID:-//eluceo/ical//2.0/EN
VERSION:2.0
CALSCALE:GREGORIAN
BEGIN:VEVENT
UID:https://hbb.rivio.dev/senioren/2023/wedstrijd/32149
DTSTAMP:20260420T184309Z
SUMMARY:Mixed 5 - Mixed 6
DESCRIPTION:Baan 13\, Wedstrijdnummer 173\, Afdeling 4e klasse 
DTSTART:20230927T200000
DTEND:20230927T230000
LOCATION:City Resort Helmond
ATTACH;FMTTYPE=text/plain:https://hbb.rivio.dev/senioren/2023/wedstrijd/321
 49
END:VEVENT
BEGIN:VEVENT
UID:https://hbb.rivio.dev/senioren/2023/wedstrijd/32179
DTSTAMP:20260420T184309Z
SUMMARY:Mixed 5 - Mierlo 9
DESCRIPTION:Baan 13\, Wedstrijdnummer 180\, Afdeling 4e klasse 
DTSTART:20231011T200000
DTEND:20231011T230000
LOCATION:City Resort Helmond
ATTACH;FMTTYPE=text/plain:https://hbb.rivio.dev/senioren/2023/wedstrijd/321
 79
END:VEVENT
BEGIN:VEVENT
UID:https://hbb.rivio.dev/senioren/2023/wedstrijd/32227
DTSTAMP:20260420T184309Z
SUMMARY:Mixed 5 - Gemert 3
DESCRIPTION:Baan 11\, Wedstrijdnummer 187\, Afdeling 4e klasse 
DTSTART:20231108T200000
DTEND:20231108T230000
LOCATION:City Resort Helmond
ATTACH;FMTTYPE=text/plain:https://hbb.rivio.dev/senioren/2023/wedstrijd/322
 27
END:VEVENT
BEGIN:VEVENT
UID:https://hbb.rivio.dev/senioren/2023/wedstrijd/32262
DTSTAMP:20260420T184309Z
SUMMARY:Mixed 5 - Con Brio 3
DESCRIPTION:Baan 1\, Wedstrijdnummer 194\, Afdeling 4e klasse 
DTSTART:20231130T200000
DTEND:20231130T230000
LOCATION:City Resort Helmond
ATTACH;FMTTYPE=text/plain:https://hbb.rivio.dev/senioren/2023/wedstrijd/322
 62
END:VEVENT
BEGIN:VEVENT
UID:https://hbb.rivio.dev/senioren/2023/wedstrijd/32291
DTSTAMP:20260420T184309Z
SUMMARY:Mixed 5 - Bakel 5
DESCRIPTION:Baan 15\, Wedstrijdnummer 201\, Afdeling 4e klasse 
DTSTART:20231207T200000
DTEND:20231207T230000
LOCATION:City Resort Helmond
ATTACH;FMTTYPE=text/plain:https://hbb.rivio.dev/senioren/2023/wedstrijd/322
 91
END:VEVENT
BEGIN:VEVENT
UID:https://hbb.rivio.dev/senioren/2023/wedstrijd/32318
DTSTAMP:20260420T184309Z
SUMMARY:Someren 5 - Mixed 5
DESCRIPTION:Baan 12\, Wedstrijdnummer 207\, Afdeling 4e klasse 
DTSTART:20231221T200000
DTEND:20231221T230000
LOCATION:City Resort Helmond
ATTACH;FMTTYPE=text/plain:https://hbb.rivio.dev/senioren/2023/wedstrijd/323
 18
END:VEVENT
BEGIN:VEVENT
UID:https://hbb.rivio.dev/senioren/2023/wedstrijd/32362
DTSTAMP:20260420T184309Z
SUMMARY:Someren 6 - Mixed 5
DESCRIPTION:Baan 1\, Wedstrijdnummer 213\, Afdeling 4e klasse 
DTSTART:20240125T200000
DTEND:20240125T230000
LOCATION:City Resort Helmond
ATTACH;FMTTYPE=text/plain:https://hbb.rivio.dev/senioren/2023/wedstrijd/323
 62
END:VEVENT
BEGIN:VEVENT
UID:https://hbb.rivio.dev/senioren/2023/wedstrijd/32394
DTSTAMP:20260420T184309Z
SUMMARY:Never Down 2 - Mixed 5
DESCRIPTION:Baan 3\, Wedstrijdnummer 218\, Afdeling 4e klasse 
DTSTART:20240208T200000
DTEND:20240208T230000
LOCATION:City Resort Helmond
ATTACH;FMTTYPE=text/plain:https://hbb.rivio.dev/senioren/2023/wedstrijd/323
 94
END:VEVENT
BEGIN:VEVENT
UID:https://hbb.rivio.dev/senioren/2023/wedstrijd/32423
DTSTAMP:20260420T184309Z
SUMMARY:Hanevoet 3 - Mixed 5
DESCRIPTION:Baan 2\, Wedstrijdnummer 223\, Afdeling 4e klasse 
DTSTART:20240229T200000
DTEND:20240229T230000
LOCATION:City Resort Helmond
ATTACH;FMTTYPE=text/plain:https://hbb.rivio.dev/senioren/2023/wedstrijd/324
 23
END:VEVENT
BEGIN:VEVENT
UID:https://hbb.rivio.dev/senioren/2023/wedstrijd/32459
DTSTAMP:20260420T184309Z
SUMMARY:Ganzeveer 4 - Mixed 5
DESCRIPTION:Baan 13\, Wedstrijdnummer 228\, Afdeling 4e klasse 
DTSTART:20240320T200000
DTEND:20240320T230000
LOCATION:City Resort Helmond
ATTACH;FMTTYPE=text/plain:https://hbb.rivio.dev/senioren/2023/wedstrijd/324
 59
END:VEVENT
BEGIN:VEVENT
UID:https://hbb.rivio.dev/senioren/2023/wedstrijd/32493
DTSTAMP:20260420T184309Z
SUMMARY:BC '85 1 - Mixed 5
DESCRIPTION:Baan 2\, Wedstrijdnummer 233\, Afdeling 4e klasse 
DTSTART:20240404T200000
DTEND:20240404T230000
LOCATION:City Resort Helmond
ATTACH;FMTTYPE=text/plain:https://hbb.rivio.dev/senioren/2023/wedstrijd/324
 93
END:VEVENT
BEGIN:VEVENT
UID:https://hbb.rivio.dev/senioren/2023/wedstrijd/32533
DTSTAMP:20260420T184309Z
SUMMARY:Mixed 5 - Heeze 1
DESCRIPTION:Baan 2\, Wedstrijdnummer 238\, Afdeling 4e klasse 
DTSTART:20240515T200000
DTEND:20240515T230000
LOCATION:City Resort Helmond
ATTACH;FMTTYPE=text/plain:https://hbb.rivio.dev/senioren/2023/wedstrijd/325
 33
END:VEVENT
BEGIN:VTIMEZONE
TZID:Europe/Amsterdam
BEGIN:STANDARD
DTSTART:20230101T000000
TZNAME:CET
TZOFFSETTO:+0100
TZOFFSETFROM:+0100
END:STANDARD
BEGIN:DAYLIGHT
DTSTART:20230326T030000
TZNAME:CEST
TZOFFSETTO:+0200
TZOFFSETFROM:+0100
END:DAYLIGHT
BEGIN:STANDARD
DTSTART:20231029T020000
TZNAME:CET
TZOFFSETTO:+0100
TZOFFSETFROM:+0200
END:STANDARD
BEGIN:DAYLIGHT
DTSTART:20240331T030000
TZNAME:CEST
TZOFFSETTO:+0200
TZOFFSETFROM:+0100
END:DAYLIGHT
BEGIN:STANDARD
DTSTART:20241027T020000
TZNAME:CET
TZOFFSETTO:+0100
TZOFFSETFROM:+0200
END:STANDARD
END:VTIMEZONE
END:VCALENDAR
