BEGIN:VCALENDAR
PRODID:-//eluceo/ical//2.0/EN
VERSION:2.0
CALSCALE:GREGORIAN
BEGIN:VEVENT
UID:https://hbb.rivio.dev/senioren/2023/wedstrijd/32124
DTSTAMP:20260420T151749Z
SUMMARY:Mierlo 6 - Mixed 4
DESCRIPTION:Baan 3\, Wedstrijdnummer 103\, Afdeling 2e klasse II
DTSTART:20230914T200000
DTEND:20230914T230000
LOCATION:City Resort Helmond
ATTACH;FMTTYPE=text/plain:https://hbb.rivio.dev/senioren/2023/wedstrijd/321
 24
END:VEVENT
BEGIN:VEVENT
UID:https://hbb.rivio.dev/senioren/2023/wedstrijd/32135
DTSTAMP:20260420T151749Z
SUMMARY:Someren 3 - Mixed 4
DESCRIPTION:Baan 4\, Wedstrijdnummer 105\, Afdeling 2e klasse II
DTSTART:20230921T200000
DTEND:20230921T230000
LOCATION:City Resort Helmond
ATTACH;FMTTYPE=text/plain:https://hbb.rivio.dev/senioren/2023/wedstrijd/321
 35
END:VEVENT
BEGIN:VEVENT
UID:https://hbb.rivio.dev/senioren/2023/wedstrijd/32168
DTSTAMP:20260420T151749Z
SUMMARY:Bakel 4 - Mixed 4
DESCRIPTION:Baan 12\, Wedstrijdnummer 107\, Afdeling 2e klasse II
DTSTART:20231005T200000
DTEND:20231005T230000
LOCATION:City Resort Helmond
ATTACH;FMTTYPE=text/plain:https://hbb.rivio.dev/senioren/2023/wedstrijd/321
 68
END:VEVENT
BEGIN:VEVENT
UID:https://hbb.rivio.dev/senioren/2023/wedstrijd/32211
DTSTAMP:20260420T151749Z
SUMMARY:Mixed 4 - De Valken 4
DESCRIPTION:Baan 15\, Wedstrijdnummer 111\, Afdeling 2e klasse II
DTSTART:20231026T200000
DTEND:20231026T230000
LOCATION:City Resort Helmond
ATTACH;FMTTYPE=text/plain:https://hbb.rivio.dev/senioren/2023/wedstrijd/322
 11
END:VEVENT
BEGIN:VEVENT
UID:https://hbb.rivio.dev/senioren/2023/wedstrijd/32243
DTSTAMP:20260420T151749Z
SUMMARY:Mixed 4 - RBC 2
DESCRIPTION:Baan 2\, Wedstrijdnummer 115\, Afdeling 2e klasse II
DTSTART:20231116T200000
DTEND:20231116T230000
LOCATION:City Resort Helmond
ATTACH;FMTTYPE=text/plain:https://hbb.rivio.dev/senioren/2023/wedstrijd/322
 43
END:VEVENT
BEGIN:VEVENT
UID:https://hbb.rivio.dev/senioren/2023/wedstrijd/32266
DTSTAMP:20260420T151749Z
SUMMARY:Mixed 4 - Mierlo 6
DESCRIPTION:Baan 5\, Wedstrijdnummer 1103\, Afdeling 2e klasse II
DTSTART:20231130T200000
DTEND:20231130T230000
LOCATION:City Resort Helmond
ATTACH;FMTTYPE=text/plain:https://hbb.rivio.dev/senioren/2023/wedstrijd/322
 66
END:VEVENT
BEGIN:VEVENT
UID:https://hbb.rivio.dev/senioren/2023/wedstrijd/32294
DTSTAMP:20260420T151749Z
SUMMARY:Mixed 4 - Someren 3
DESCRIPTION:Baan 3\, Wedstrijdnummer 1105\, Afdeling 2e klasse II
DTSTART:20231214T200000
DTEND:20231214T230000
LOCATION:City Resort Helmond
ATTACH;FMTTYPE=text/plain:https://hbb.rivio.dev/senioren/2023/wedstrijd/322
 94
END:VEVENT
BEGIN:VEVENT
UID:https://hbb.rivio.dev/senioren/2023/wedstrijd/32319
DTSTAMP:20260420T151749Z
SUMMARY:Mixed 4 - Bakel 4
DESCRIPTION:Baan 13\, Wedstrijdnummer 1107\, Afdeling 2e klasse II
DTSTART:20231221T200000
DTEND:20231221T230000
LOCATION:City Resort Helmond
ATTACH;FMTTYPE=text/plain:https://hbb.rivio.dev/senioren/2023/wedstrijd/323
 19
END:VEVENT
BEGIN:VEVENT
UID:https://hbb.rivio.dev/senioren/2023/wedstrijd/32364
DTSTAMP:20260420T151749Z
SUMMARY:De Valken 4 - Mixed 4
DESCRIPTION:Baan 3\, Wedstrijdnummer 1111\, Afdeling 2e klasse II
DTSTART:20240125T200000
DTEND:20240125T230000
LOCATION:City Resort Helmond
ATTACH;FMTTYPE=text/plain:https://hbb.rivio.dev/senioren/2023/wedstrijd/323
 64
END:VEVENT
BEGIN:VEVENT
UID:https://hbb.rivio.dev/senioren/2023/wedstrijd/32398
DTSTAMP:20260420T151749Z
SUMMARY:RBC 2 - Mixed 4
DESCRIPTION:Baan 12\, Wedstrijdnummer 1115\, Afdeling 2e klasse II
DTSTART:20240208T200000
DTEND:20240208T230000
LOCATION:City Resort Helmond
ATTACH;FMTTYPE=text/plain:https://hbb.rivio.dev/senioren/2023/wedstrijd/323
 98
END:VEVENT
BEGIN:VEVENT
UID:https://hbb.rivio.dev/senioren/2023/wedstrijd/32438
DTSTAMP:20260420T151749Z
SUMMARY:Mierlo 6 - Mixed 4
DESCRIPTION:Baan 12\, Wedstrijdnummer 2103\, Afdeling 2e klasse II
DTSTART:20240306T200000
DTEND:20240306T230000
LOCATION:City Resort Helmond
ATTACH;FMTTYPE=text/plain:https://hbb.rivio.dev/senioren/2023/wedstrijd/324
 38
END:VEVENT
BEGIN:VEVENT
UID:https://hbb.rivio.dev/senioren/2023/wedstrijd/32468
DTSTAMP:20260420T151749Z
SUMMARY:Someren 3 - Mixed 4
DESCRIPTION:Baan 12\, Wedstrijdnummer 2105\, Afdeling 2e klasse II
DTSTART:20240321T200000
DTEND:20240321T230000
LOCATION:City Resort Helmond
ATTACH;FMTTYPE=text/plain:https://hbb.rivio.dev/senioren/2023/wedstrijd/324
 68
END:VEVENT
BEGIN:VEVENT
UID:https://hbb.rivio.dev/senioren/2023/wedstrijd/32498
DTSTAMP:20260420T151749Z
SUMMARY:Bakel 4 - Mixed 4
DESCRIPTION:Baan 12\, Wedstrijdnummer 2107\, Afdeling 2e klasse II
DTSTART:20240404T200000
DTEND:20240404T230000
LOCATION:City Resort Helmond
ATTACH;FMTTYPE=text/plain:https://hbb.rivio.dev/senioren/2023/wedstrijd/324
 98
END:VEVENT
BEGIN:VEVENT
UID:https://hbb.rivio.dev/senioren/2023/wedstrijd/32529
DTSTAMP:20260420T151749Z
SUMMARY:Mixed 4 - De Valken 4
DESCRIPTION:Baan 13\, Wedstrijdnummer 2111\, Afdeling 2e klasse II
DTSTART:20240411T200000
DTEND:20240411T230000
LOCATION:City Resort Helmond
ATTACH;FMTTYPE=text/plain:https://hbb.rivio.dev/senioren/2023/wedstrijd/325
 29
END:VEVENT
BEGIN:VEVENT
UID:https://hbb.rivio.dev/senioren/2023/wedstrijd/32560
DTSTAMP:20260420T151749Z
SUMMARY:Mixed 4 - RBC 2
DESCRIPTION:Baan 14\, Wedstrijdnummer 2115\, Afdeling 2e klasse II
DTSTART:20240523T200000
DTEND:20240523T230000
LOCATION:City Resort Helmond
ATTACH;FMTTYPE=text/plain:https://hbb.rivio.dev/senioren/2023/wedstrijd/325
 60
END:VEVENT
BEGIN:VTIMEZONE
TZID:Europe/Amsterdam
BEGIN:STANDARD
DTSTART:20230101T000000
TZNAME:CET
TZOFFSETTO:+0100
TZOFFSETFROM:+0100
END:STANDARD
BEGIN:DAYLIGHT
DTSTART:20230326T030000
TZNAME:CEST
TZOFFSETTO:+0200
TZOFFSETFROM:+0100
END:DAYLIGHT
BEGIN:STANDARD
DTSTART:20231029T020000
TZNAME:CET
TZOFFSETTO:+0100
TZOFFSETFROM:+0200
END:STANDARD
BEGIN:DAYLIGHT
DTSTART:20240331T030000
TZNAME:CEST
TZOFFSETTO:+0200
TZOFFSETFROM:+0100
END:DAYLIGHT
BEGIN:STANDARD
DTSTART:20241027T020000
TZNAME:CET
TZOFFSETTO:+0100
TZOFFSETFROM:+0200
END:STANDARD
END:VTIMEZONE
END:VCALENDAR
