BEGIN:VCALENDAR
PRODID:-//eluceo/ical//2.0/EN
VERSION:2.0
CALSCALE:GREGORIAN
BEGIN:VEVENT
UID:https://hbb.rivio.dev/senioren/2023/wedstrijd/32118
DTSTAMP:20260420T165703Z
SUMMARY:Phoenix 1 - Mixed 1
DESCRIPTION:Baan 12\, Wedstrijdnummer 3\, Afdeling Topklasse 
DTSTART:20230913T200000
DTEND:20230913T230000
LOCATION:City Resort Helmond
ATTACH;FMTTYPE=text/plain:https://hbb.rivio.dev/senioren/2023/wedstrijd/321
 18
END:VEVENT
BEGIN:VEVENT
UID:https://hbb.rivio.dev/senioren/2023/wedstrijd/32160
DTSTAMP:20260420T165703Z
SUMMARY:De Valken 2 - Mixed 1
DESCRIPTION:Baan 14\, Wedstrijdnummer 6\, Afdeling Topklasse 
DTSTART:20230928T200000
DTEND:20230928T230000
LOCATION:City Resort Helmond
ATTACH;FMTTYPE=text/plain:https://hbb.rivio.dev/senioren/2023/wedstrijd/321
 60
END:VEVENT
BEGIN:VEVENT
UID:https://hbb.rivio.dev/senioren/2023/wedstrijd/32235
DTSTAMP:20260420T165703Z
SUMMARY:Mixed 1 - Con Brio 1
DESCRIPTION:Baan 4\, Wedstrijdnummer 14\, Afdeling Topklasse 
DTSTART:20231109T200000
DTEND:20231109T230000
LOCATION:City Resort Helmond
ATTACH;FMTTYPE=text/plain:https://hbb.rivio.dev/senioren/2023/wedstrijd/322
 35
END:VEVENT
BEGIN:VEVENT
UID:https://hbb.rivio.dev/senioren/2023/wedstrijd/32254
DTSTAMP:20260420T165703Z
SUMMARY:Mixed 1 - Bakel 1
DESCRIPTION:Baan 3\, Wedstrijdnummer 19\, Afdeling Topklasse 
DTSTART:20231123T200000
DTEND:20231123T230000
LOCATION:City Resort Helmond
ATTACH;FMTTYPE=text/plain:https://hbb.rivio.dev/senioren/2023/wedstrijd/322
 54
END:VEVENT
BEGIN:VEVENT
UID:https://hbb.rivio.dev/senioren/2023/wedstrijd/32285
DTSTAMP:20260420T165703Z
SUMMARY:Mixed 1 - Brabantia 1
DESCRIPTION:Baan 4\, Wedstrijdnummer 24\, Afdeling Topklasse 
DTSTART:20231207T200000
DTEND:20231207T230000
LOCATION:City Resort Helmond
ATTACH;FMTTYPE=text/plain:https://hbb.rivio.dev/senioren/2023/wedstrijd/322
 85
END:VEVENT
BEGIN:VEVENT
UID:https://hbb.rivio.dev/senioren/2023/wedstrijd/32314
DTSTAMP:20260420T165703Z
SUMMARY:Mierlo 1 - Mixed 1
DESCRIPTION:Baan 3\, Wedstrijdnummer 28\, Afdeling Topklasse 
DTSTART:20231221T200000
DTEND:20231221T230000
LOCATION:City Resort Helmond
ATTACH;FMTTYPE=text/plain:https://hbb.rivio.dev/senioren/2023/wedstrijd/323
 14
END:VEVENT
BEGIN:VEVENT
UID:https://hbb.rivio.dev/senioren/2023/wedstrijd/32359
DTSTAMP:20260420T165703Z
SUMMARY:Mixed 1 - Phoenix 1
DESCRIPTION:Baan 13\, Wedstrijdnummer 1003\, Afdeling Topklasse 
DTSTART:20240124T200000
DTEND:20240124T230000
LOCATION:City Resort Helmond
ATTACH;FMTTYPE=text/plain:https://hbb.rivio.dev/senioren/2023/wedstrijd/323
 59
END:VEVENT
BEGIN:VEVENT
UID:https://hbb.rivio.dev/senioren/2023/wedstrijd/32379
DTSTAMP:20260420T165703Z
SUMMARY:Mixed 1 - De Valken 2
DESCRIPTION:Baan 13\, Wedstrijdnummer 1006\, Afdeling Topklasse 
DTSTART:20240201T200000
DTEND:20240201T230000
LOCATION:City Resort Helmond
ATTACH;FMTTYPE=text/plain:https://hbb.rivio.dev/senioren/2023/wedstrijd/323
 79
END:VEVENT
BEGIN:VEVENT
UID:https://hbb.rivio.dev/senioren/2023/wedstrijd/32450
DTSTAMP:20260420T165703Z
SUMMARY:Con Brio 1 - Mixed 1
DESCRIPTION:Baan 14\, Wedstrijdnummer 1014\, Afdeling Topklasse 
DTSTART:20240307T200000
DTEND:20240307T230000
LOCATION:City Resort Helmond
ATTACH;FMTTYPE=text/plain:https://hbb.rivio.dev/senioren/2023/wedstrijd/324
 50
END:VEVENT
BEGIN:VEVENT
UID:https://hbb.rivio.dev/senioren/2023/wedstrijd/32480
DTSTAMP:20260420T165703Z
SUMMARY:Bakel 1 - Mixed 1
DESCRIPTION:Baan 14\, Wedstrijdnummer 1019\, Afdeling Topklasse 
DTSTART:20240328T200000
DTEND:20240328T230000
LOCATION:City Resort Helmond
ATTACH;FMTTYPE=text/plain:https://hbb.rivio.dev/senioren/2023/wedstrijd/324
 80
END:VEVENT
BEGIN:VEVENT
UID:https://hbb.rivio.dev/senioren/2023/wedstrijd/32523
DTSTAMP:20260420T165703Z
SUMMARY:Brabantia 1 - Mixed 1
DESCRIPTION:Baan 2\, Wedstrijdnummer 1024\, Afdeling Topklasse 
DTSTART:20240411T200000
DTEND:20240411T230000
LOCATION:City Resort Helmond
ATTACH;FMTTYPE=text/plain:https://hbb.rivio.dev/senioren/2023/wedstrijd/325
 23
END:VEVENT
BEGIN:VEVENT
UID:https://hbb.rivio.dev/senioren/2023/wedstrijd/32552
DTSTAMP:20260420T165703Z
SUMMARY:Mixed 1 - Mierlo 1
DESCRIPTION:Baan 1\, Wedstrijdnummer 1028\, Afdeling Topklasse 
DTSTART:20240523T200000
DTEND:20240523T230000
LOCATION:City Resort Helmond
ATTACH;FMTTYPE=text/plain:https://hbb.rivio.dev/senioren/2023/wedstrijd/325
 52
END:VEVENT
BEGIN:VTIMEZONE
TZID:Europe/Amsterdam
BEGIN:STANDARD
DTSTART:20230101T000000
TZNAME:CET
TZOFFSETTO:+0100
TZOFFSETFROM:+0100
END:STANDARD
BEGIN:DAYLIGHT
DTSTART:20230326T030000
TZNAME:CEST
TZOFFSETTO:+0200
TZOFFSETFROM:+0100
END:DAYLIGHT
BEGIN:STANDARD
DTSTART:20231029T020000
TZNAME:CET
TZOFFSETTO:+0100
TZOFFSETFROM:+0200
END:STANDARD
BEGIN:DAYLIGHT
DTSTART:20240331T030000
TZNAME:CEST
TZOFFSETTO:+0200
TZOFFSETFROM:+0100
END:DAYLIGHT
BEGIN:STANDARD
DTSTART:20241027T020000
TZNAME:CET
TZOFFSETTO:+0100
TZOFFSETFROM:+0200
END:STANDARD
END:VTIMEZONE
END:VCALENDAR
