BEGIN:VCALENDAR
PRODID:-//eluceo/ical//2.0/EN
VERSION:2.0
CALSCALE:GREGORIAN
BEGIN:VEVENT
UID:https://hbb.rivio.dev/senioren/2023/wedstrijd/32141
DTSTAMP:20260420T090238Z
SUMMARY:Mierlo 7 - Never Down 1
DESCRIPTION:Baan 15\, Wedstrijdnummer 147\, Afdeling 3e klasse II
DTSTART:20230921T200000
DTEND:20230921T230000
LOCATION:City Resort Helmond
ATTACH;FMTTYPE=text/plain:https://hbb.rivio.dev/senioren/2023/wedstrijd/321
 41
END:VEVENT
BEGIN:VEVENT
UID:https://hbb.rivio.dev/senioren/2023/wedstrijd/32185
DTSTAMP:20260420T090238Z
SUMMARY:Geldrop 2 - Never Down 1
DESCRIPTION:Baan 4\, Wedstrijdnummer 150\, Afdeling 3e klasse II
DTSTART:20231012T200000
DTEND:20231012T230000
LOCATION:City Resort Helmond
ATTACH;FMTTYPE=text/plain:https://hbb.rivio.dev/senioren/2023/wedstrijd/321
 85
END:VEVENT
BEGIN:VEVENT
UID:https://hbb.rivio.dev/senioren/2023/wedstrijd/32215
DTSTAMP:20260420T090238Z
SUMMARY:Smashing Bruang 2 - Never Down 1
DESCRIPTION:Baan 4\, Wedstrijdnummer 153\, Afdeling 3e klasse II
DTSTART:20231102T200000
DTEND:20231102T230000
LOCATION:City Resort Helmond
ATTACH;FMTTYPE=text/plain:https://hbb.rivio.dev/senioren/2023/wedstrijd/322
 15
END:VEVENT
BEGIN:VEVENT
UID:https://hbb.rivio.dev/senioren/2023/wedstrijd/32244
DTSTAMP:20260420T090238Z
SUMMARY:Never Down 1 - Gemert 1
DESCRIPTION:Baan 3\, Wedstrijdnummer 156\, Afdeling 3e klasse II
DTSTART:20231116T200000
DTEND:20231116T230000
LOCATION:City Resort Helmond
ATTACH;FMTTYPE=text/plain:https://hbb.rivio.dev/senioren/2023/wedstrijd/322
 44
END:VEVENT
BEGIN:VEVENT
UID:https://hbb.rivio.dev/senioren/2023/wedstrijd/32267
DTSTAMP:20260420T090238Z
SUMMARY:Never Down 1 - Heiakker 1
DESCRIPTION:Baan 11\, Wedstrijdnummer 161\, Afdeling 3e klasse II
DTSTART:20231130T200000
DTEND:20231130T230000
LOCATION:City Resort Helmond
ATTACH;FMTTYPE=text/plain:https://hbb.rivio.dev/senioren/2023/wedstrijd/322
 67
END:VEVENT
BEGIN:VEVENT
UID:https://hbb.rivio.dev/senioren/2023/wedstrijd/32298
DTSTAMP:20260420T090238Z
SUMMARY:Never Down 1 - Someren 4
DESCRIPTION:Baan 12\, Wedstrijdnummer 166\, Afdeling 3e klasse II
DTSTART:20231214T200000
DTEND:20231214T230000
LOCATION:City Resort Helmond
ATTACH;FMTTYPE=text/plain:https://hbb.rivio.dev/senioren/2023/wedstrijd/322
 98
END:VEVENT
BEGIN:VEVENT
UID:https://hbb.rivio.dev/senioren/2023/wedstrijd/32339
DTSTAMP:20260420T090238Z
SUMMARY:Never Down 1 - Rudra 1
DESCRIPTION:Baan 13\, Wedstrijdnummer 171\, Afdeling 3e klasse II
DTSTART:20240111T200000
DTEND:20240111T230000
LOCATION:City Resort Helmond
ATTACH;FMTTYPE=text/plain:https://hbb.rivio.dev/senioren/2023/wedstrijd/323
 39
END:VEVENT
BEGIN:VEVENT
UID:https://hbb.rivio.dev/senioren/2023/wedstrijd/32367
DTSTAMP:20260420T090238Z
SUMMARY:Never Down 1 - Mierlo 7
DESCRIPTION:Baan 11\, Wedstrijdnummer 1147\, Afdeling 3e klasse II
DTSTART:20240125T200000
DTEND:20240125T230000
LOCATION:City Resort Helmond
ATTACH;FMTTYPE=text/plain:https://hbb.rivio.dev/senioren/2023/wedstrijd/323
 67
END:VEVENT
BEGIN:VEVENT
UID:https://hbb.rivio.dev/senioren/2023/wedstrijd/32401
DTSTAMP:20260420T090238Z
SUMMARY:Never Down 1 - Geldrop 2
DESCRIPTION:Baan 15\, Wedstrijdnummer 1150\, Afdeling 3e klasse II
DTSTART:20240208T200000
DTEND:20240208T230000
LOCATION:City Resort Helmond
ATTACH;FMTTYPE=text/plain:https://hbb.rivio.dev/senioren/2023/wedstrijd/324
 01
END:VEVENT
BEGIN:VEVENT
UID:https://hbb.rivio.dev/senioren/2023/wedstrijd/32428
DTSTAMP:20260420T090238Z
SUMMARY:Never Down 1 - Smashing Bruang 2
DESCRIPTION:Baan 12\, Wedstrijdnummer 1153\, Afdeling 3e klasse II
DTSTART:20240229T200000
DTEND:20240229T230000
LOCATION:City Resort Helmond
ATTACH;FMTTYPE=text/plain:https://hbb.rivio.dev/senioren/2023/wedstrijd/324
 28
END:VEVENT
BEGIN:VEVENT
UID:https://hbb.rivio.dev/senioren/2023/wedstrijd/32472
DTSTAMP:20260420T090238Z
SUMMARY:Gemert 1 - Never Down 1
DESCRIPTION:Baan 1\, Wedstrijdnummer 1156\, Afdeling 3e klasse II
DTSTART:20240328T200000
DTEND:20240328T230000
LOCATION:City Resort Helmond
ATTACH;FMTTYPE=text/plain:https://hbb.rivio.dev/senioren/2023/wedstrijd/324
 72
END:VEVENT
BEGIN:VEVENT
UID:https://hbb.rivio.dev/senioren/2023/wedstrijd/32512
DTSTAMP:20260420T090238Z
SUMMARY:Heiakker 1 - Never Down 1
DESCRIPTION:Baan 1\, Wedstrijdnummer 1161\, Afdeling 3e klasse II
DTSTART:20240418T200000
DTEND:20240418T230000
LOCATION:City Resort Helmond
ATTACH;FMTTYPE=text/plain:https://hbb.rivio.dev/senioren/2023/wedstrijd/325
 12
END:VEVENT
BEGIN:VEVENT
UID:https://hbb.rivio.dev/senioren/2023/wedstrijd/32543
DTSTAMP:20260420T090238Z
SUMMARY:Someren 4 - Never Down 1
DESCRIPTION:Baan 2\, Wedstrijdnummer 1166\, Afdeling 3e klasse II
DTSTART:20240516T200000
DTEND:20240516T230000
LOCATION:City Resort Helmond
ATTACH;FMTTYPE=text/plain:https://hbb.rivio.dev/senioren/2023/wedstrijd/325
 43
END:VEVENT
BEGIN:VEVENT
UID:https://hbb.rivio.dev/senioren/2023/wedstrijd/32573
DTSTAMP:20260420T090238Z
SUMMARY:Rudra 1 - Never Down 1
DESCRIPTION:Baan 5\, Wedstrijdnummer 1171\, Afdeling 3e klasse II
DTSTART:20240530T200000
DTEND:20240530T230000
LOCATION:City Resort Helmond
ATTACH;FMTTYPE=text/plain:https://hbb.rivio.dev/senioren/2023/wedstrijd/325
 73
END:VEVENT
BEGIN:VTIMEZONE
TZID:Europe/Amsterdam
BEGIN:STANDARD
DTSTART:20230101T000000
TZNAME:CET
TZOFFSETTO:+0100
TZOFFSETFROM:+0100
END:STANDARD
BEGIN:DAYLIGHT
DTSTART:20230326T030000
TZNAME:CEST
TZOFFSETTO:+0200
TZOFFSETFROM:+0100
END:DAYLIGHT
BEGIN:STANDARD
DTSTART:20231029T020000
TZNAME:CET
TZOFFSETTO:+0100
TZOFFSETFROM:+0200
END:STANDARD
BEGIN:DAYLIGHT
DTSTART:20240331T030000
TZNAME:CEST
TZOFFSETTO:+0200
TZOFFSETFROM:+0100
END:DAYLIGHT
BEGIN:STANDARD
DTSTART:20241027T020000
TZNAME:CET
TZOFFSETTO:+0100
TZOFFSETFROM:+0200
END:STANDARD
END:VTIMEZONE
END:VCALENDAR
