BEGIN:VCALENDAR
PRODID:-//eluceo/ical//2.0/EN
VERSION:2.0
CALSCALE:GREGORIAN
BEGIN:VEVENT
UID:https://hbb.rivio.dev/senioren/2023/wedstrijd/32114
DTSTAMP:20260420T234254Z
SUMMARY:ASML 2 - Ganzeveer 2
DESCRIPTION:Baan 3\, Wedstrijdnummer 88\, Afdeling 2e klasse I
DTSTART:20230913T200000
DTEND:20230913T230000
LOCATION:City Resort Helmond
ATTACH;FMTTYPE=text/plain:https://hbb.rivio.dev/senioren/2023/wedstrijd/321
 14
END:VEVENT
BEGIN:VEVENT
UID:https://hbb.rivio.dev/senioren/2023/wedstrijd/32144
DTSTAMP:20260420T234254Z
SUMMARY:Con Brio 2 - ASML 2
DESCRIPTION:Baan 3\, Wedstrijdnummer 91\, Afdeling 2e klasse I
DTSTART:20230927T200000
DTEND:20230927T230000
LOCATION:City Resort Helmond
ATTACH;FMTTYPE=text/plain:https://hbb.rivio.dev/senioren/2023/wedstrijd/321
 44
END:VEVENT
BEGIN:VEVENT
UID:https://hbb.rivio.dev/senioren/2023/wedstrijd/32162
DTSTAMP:20260420T234254Z
SUMMARY:Mixed 3 - ASML 2
DESCRIPTION:Baan 1\, Wedstrijdnummer 93\, Afdeling 2e klasse I
DTSTART:20231005T200000
DTEND:20231005T230000
LOCATION:City Resort Helmond
ATTACH;FMTTYPE=text/plain:https://hbb.rivio.dev/senioren/2023/wedstrijd/321
 62
END:VEVENT
BEGIN:VEVENT
UID:https://hbb.rivio.dev/senioren/2023/wedstrijd/32192
DTSTAMP:20260420T234254Z
SUMMARY:ASML 2 - Mierlo 4
DESCRIPTION:Baan 1\, Wedstrijdnummer 95\, Afdeling 2e klasse I
DTSTART:20231025T200000
DTEND:20231025T230000
LOCATION:City Resort Helmond
ATTACH;FMTTYPE=text/plain:https://hbb.rivio.dev/senioren/2023/wedstrijd/321
 92
END:VEVENT
BEGIN:VEVENT
UID:https://hbb.rivio.dev/senioren/2023/wedstrijd/32224
DTSTAMP:20260420T234254Z
SUMMARY:ASML 2 - Mierlo 5
DESCRIPTION:Baan 3\, Wedstrijdnummer 99\, Afdeling 2e klasse I
DTSTART:20231108T200000
DTEND:20231108T230000
LOCATION:City Resort Helmond
ATTACH;FMTTYPE=text/plain:https://hbb.rivio.dev/senioren/2023/wedstrijd/322
 24
END:VEVENT
BEGIN:VEVENT
UID:https://hbb.rivio.dev/senioren/2023/wedstrijd/32274
DTSTAMP:20260420T234254Z
SUMMARY:Ganzeveer 2 - ASML 2
DESCRIPTION:Baan 3\, Wedstrijdnummer 1088\, Afdeling 2e klasse I
DTSTART:20231206T200000
DTEND:20231206T230000
LOCATION:City Resort Helmond
ATTACH;FMTTYPE=text/plain:https://hbb.rivio.dev/senioren/2023/wedstrijd/322
 74
END:VEVENT
BEGIN:VEVENT
UID:https://hbb.rivio.dev/senioren/2023/wedstrijd/32307
DTSTAMP:20260420T234254Z
SUMMARY:ASML 2 - Con Brio 2
DESCRIPTION:Baan 11\, Wedstrijdnummer 1091\, Afdeling 2e klasse I
DTSTART:20231220T200000
DTEND:20231220T230000
LOCATION:City Resort Helmond
ATTACH;FMTTYPE=text/plain:https://hbb.rivio.dev/senioren/2023/wedstrijd/323
 07
END:VEVENT
BEGIN:VEVENT
UID:https://hbb.rivio.dev/senioren/2023/wedstrijd/32328
DTSTAMP:20260420T234254Z
SUMMARY:ASML 2 - Mixed 3
DESCRIPTION:Baan 12\, Wedstrijdnummer 1093\, Afdeling 2e klasse I
DTSTART:20240110T200000
DTEND:20240110T230000
LOCATION:City Resort Helmond
ATTACH;FMTTYPE=text/plain:https://hbb.rivio.dev/senioren/2023/wedstrijd/323
 28
END:VEVENT
BEGIN:VEVENT
UID:https://hbb.rivio.dev/senioren/2023/wedstrijd/32361
DTSTAMP:20260420T234254Z
SUMMARY:Mierlo 4 - ASML 2
DESCRIPTION:Baan 15\, Wedstrijdnummer 1095\, Afdeling 2e klasse I
DTSTART:20240124T200000
DTEND:20240124T230000
LOCATION:City Resort Helmond
ATTACH;FMTTYPE=text/plain:https://hbb.rivio.dev/senioren/2023/wedstrijd/323
 61
END:VEVENT
BEGIN:VEVENT
UID:https://hbb.rivio.dev/senioren/2023/wedstrijd/32402
DTSTAMP:20260420T234254Z
SUMMARY:Mierlo 5 - ASML 2
DESCRIPTION:Baan 1\, Wedstrijdnummer 1099\, Afdeling 2e klasse I
DTSTART:20240221T200000
DTEND:20240221T230000
LOCATION:City Resort Helmond
ATTACH;FMTTYPE=text/plain:https://hbb.rivio.dev/senioren/2023/wedstrijd/324
 02
END:VEVENT
BEGIN:VEVENT
UID:https://hbb.rivio.dev/senioren/2023/wedstrijd/32435
DTSTAMP:20260420T234254Z
SUMMARY:ASML 2 - Ganzeveer 2
DESCRIPTION:Baan 4\, Wedstrijdnummer 2088\, Afdeling 2e klasse I
DTSTART:20240306T200000
DTEND:20240306T230000
LOCATION:City Resort Helmond
ATTACH;FMTTYPE=text/plain:https://hbb.rivio.dev/senioren/2023/wedstrijd/324
 35
END:VEVENT
BEGIN:VEVENT
UID:https://hbb.rivio.dev/senioren/2023/wedstrijd/32458
DTSTAMP:20260420T234254Z
SUMMARY:Con Brio 2 - ASML 2
DESCRIPTION:Baan 12\, Wedstrijdnummer 2091\, Afdeling 2e klasse I
DTSTART:20240320T200000
DTEND:20240320T230000
LOCATION:City Resort Helmond
ATTACH;FMTTYPE=text/plain:https://hbb.rivio.dev/senioren/2023/wedstrijd/324
 58
END:VEVENT
BEGIN:VEVENT
UID:https://hbb.rivio.dev/senioren/2023/wedstrijd/32490
DTSTAMP:20260420T234254Z
SUMMARY:Mixed 3 - ASML 2
DESCRIPTION:Baan 14\, Wedstrijdnummer 2093\, Afdeling 2e klasse I
DTSTART:20240403T200000
DTEND:20240403T230000
LOCATION:City Resort Helmond
ATTACH;FMTTYPE=text/plain:https://hbb.rivio.dev/senioren/2023/wedstrijd/324
 90
END:VEVENT
BEGIN:VEVENT
UID:https://hbb.rivio.dev/senioren/2023/wedstrijd/32510
DTSTAMP:20260420T234254Z
SUMMARY:ASML 2 - Mierlo 4
DESCRIPTION:Baan 14\, Wedstrijdnummer 2095\, Afdeling 2e klasse I
DTSTART:20240417T200000
DTEND:20240417T230000
LOCATION:City Resort Helmond
ATTACH;FMTTYPE=text/plain:https://hbb.rivio.dev/senioren/2023/wedstrijd/325
 10
END:VEVENT
BEGIN:VEVENT
UID:https://hbb.rivio.dev/senioren/2023/wedstrijd/32564
DTSTAMP:20260420T234254Z
SUMMARY:ASML 2 - Mierlo 5
DESCRIPTION:Baan 4\, Wedstrijdnummer 2099\, Afdeling 2e klasse I
DTSTART:20240529T200000
DTEND:20240529T230000
LOCATION:City Resort Helmond
ATTACH;FMTTYPE=text/plain:https://hbb.rivio.dev/senioren/2023/wedstrijd/325
 64
END:VEVENT
BEGIN:VTIMEZONE
TZID:Europe/Amsterdam
BEGIN:STANDARD
DTSTART:20230101T000000
TZNAME:CET
TZOFFSETTO:+0100
TZOFFSETFROM:+0100
END:STANDARD
BEGIN:DAYLIGHT
DTSTART:20230326T030000
TZNAME:CEST
TZOFFSETTO:+0200
TZOFFSETFROM:+0100
END:DAYLIGHT
BEGIN:STANDARD
DTSTART:20231029T020000
TZNAME:CET
TZOFFSETTO:+0100
TZOFFSETFROM:+0200
END:STANDARD
BEGIN:DAYLIGHT
DTSTART:20240331T030000
TZNAME:CEST
TZOFFSETTO:+0200
TZOFFSETFROM:+0100
END:DAYLIGHT
BEGIN:STANDARD
DTSTART:20241027T020000
TZNAME:CET
TZOFFSETTO:+0100
TZOFFSETFROM:+0200
END:STANDARD
END:VTIMEZONE
END:VCALENDAR
