BEGIN:VCALENDAR
PRODID:-//eluceo/ical//2.0/EN
VERSION:2.0
CALSCALE:GREGORIAN
BEGIN:VEVENT
UID:https://hbb.rivio.dev/senioren/2023/wedstrijd/32156
DTSTAMP:20260420T120702Z
SUMMARY:Someren 2 - ASML 1
DESCRIPTION:Baan 5\, Wedstrijdnummer 68\, Afdeling 1e klasse 
DTSTART:20230928T200000
DTEND:20230928T230000
LOCATION:City Resort Helmond
ATTACH;FMTTYPE=text/plain:https://hbb.rivio.dev/senioren/2023/wedstrijd/321
 56
END:VEVENT
BEGIN:VEVENT
UID:https://hbb.rivio.dev/senioren/2023/wedstrijd/32176
DTSTAMP:20260420T120702Z
SUMMARY:ASML 1 - Phoenix 3
DESCRIPTION:Baan 5\, Wedstrijdnummer 71\, Afdeling 1e klasse 
DTSTART:20231011T200000
DTEND:20231011T230000
LOCATION:City Resort Helmond
ATTACH;FMTTYPE=text/plain:https://hbb.rivio.dev/senioren/2023/wedstrijd/321
 76
END:VEVENT
BEGIN:VEVENT
UID:https://hbb.rivio.dev/senioren/2023/wedstrijd/32232
DTSTAMP:20260420T120702Z
SUMMARY:Hanevoet 2 - ASML 1
DESCRIPTION:Baan 1\, Wedstrijdnummer 74\, Afdeling 1e klasse 
DTSTART:20231109T200000
DTEND:20231109T230000
LOCATION:City Resort Helmond
ATTACH;FMTTYPE=text/plain:https://hbb.rivio.dev/senioren/2023/wedstrijd/322
 32
END:VEVENT
BEGIN:VEVENT
UID:https://hbb.rivio.dev/senioren/2023/wedstrijd/32283
DTSTAMP:20260420T120702Z
SUMMARY:Eindhoven 1 - ASML 1
DESCRIPTION:Baan 2\, Wedstrijdnummer 80\, Afdeling 1e klasse 
DTSTART:20231207T200000
DTEND:20231207T230000
LOCATION:City Resort Helmond
ATTACH;FMTTYPE=text/plain:https://hbb.rivio.dev/senioren/2023/wedstrijd/322
 83
END:VEVENT
BEGIN:VEVENT
UID:https://hbb.rivio.dev/senioren/2023/wedstrijd/32293
DTSTAMP:20260420T120702Z
SUMMARY:ASML 1 - Geldrop 1
DESCRIPTION:Baan 2\, Wedstrijdnummer 77\, Afdeling 1e klasse 
DTSTART:20231214T200000
DTEND:20231214T230000
LOCATION:City Resort Helmond
ATTACH;FMTTYPE=text/plain:https://hbb.rivio.dev/senioren/2023/wedstrijd/322
 93
END:VEVENT
BEGIN:VEVENT
UID:https://hbb.rivio.dev/senioren/2023/wedstrijd/32333
DTSTAMP:20260420T120702Z
SUMMARY:ASML 1 - De Valken 3
DESCRIPTION:Baan 2\, Wedstrijdnummer 83\, Afdeling 1e klasse 
DTSTART:20240111T200000
DTEND:20240111T230000
LOCATION:City Resort Helmond
ATTACH;FMTTYPE=text/plain:https://hbb.rivio.dev/senioren/2023/wedstrijd/323
 33
END:VEVENT
BEGIN:VEVENT
UID:https://hbb.rivio.dev/senioren/2023/wedstrijd/32370
DTSTAMP:20260420T120702Z
SUMMARY:ASML 1 - Someren 2
DESCRIPTION:Baan 14\, Wedstrijdnummer 1068\, Afdeling 1e klasse 
DTSTART:20240125T200000
DTEND:20240125T230000
LOCATION:City Resort Helmond
ATTACH;FMTTYPE=text/plain:https://hbb.rivio.dev/senioren/2023/wedstrijd/323
 70
END:VEVENT
BEGIN:VEVENT
UID:https://hbb.rivio.dev/senioren/2023/wedstrijd/32410
DTSTAMP:20260420T120702Z
SUMMARY:Phoenix 3 - ASML 1
DESCRIPTION:Baan 14\, Wedstrijdnummer 1071\, Afdeling 1e klasse 
DTSTART:20240221T200000
DTEND:20240221T230000
LOCATION:City Resort Helmond
ATTACH;FMTTYPE=text/plain:https://hbb.rivio.dev/senioren/2023/wedstrijd/324
 10
END:VEVENT
BEGIN:VEVENT
UID:https://hbb.rivio.dev/senioren/2023/wedstrijd/32447
DTSTAMP:20260420T120702Z
SUMMARY:ASML 1 - Hanevoet 2
DESCRIPTION:Baan 11\, Wedstrijdnummer 1074\, Afdeling 1e klasse 
DTSTART:20240307T200000
DTEND:20240307T230000
LOCATION:City Resort Helmond
ATTACH;FMTTYPE=text/plain:https://hbb.rivio.dev/senioren/2023/wedstrijd/324
 47
END:VEVENT
BEGIN:VEVENT
UID:https://hbb.rivio.dev/senioren/2023/wedstrijd/32486
DTSTAMP:20260420T120702Z
SUMMARY:Geldrop 1 - ASML 1
DESCRIPTION:Baan 5\, Wedstrijdnummer 1077\, Afdeling 1e klasse 
DTSTART:20240403T200000
DTEND:20240403T230000
LOCATION:City Resort Helmond
ATTACH;FMTTYPE=text/plain:https://hbb.rivio.dev/senioren/2023/wedstrijd/324
 86
END:VEVENT
BEGIN:VEVENT
UID:https://hbb.rivio.dev/senioren/2023/wedstrijd/32519
DTSTAMP:20260420T120702Z
SUMMARY:ASML 1 - Eindhoven 1
DESCRIPTION:Baan 13\, Wedstrijdnummer 1080\, Afdeling 1e klasse 
DTSTART:20240418T200000
DTEND:20240418T230000
LOCATION:City Resort Helmond
ATTACH;FMTTYPE=text/plain:https://hbb.rivio.dev/senioren/2023/wedstrijd/325
 19
END:VEVENT
BEGIN:VEVENT
UID:https://hbb.rivio.dev/senioren/2023/wedstrijd/32548
DTSTAMP:20260420T120702Z
SUMMARY:De Valken 3 - ASML 1
DESCRIPTION:Baan 12\, Wedstrijdnummer 1083\, Afdeling 1e klasse 
DTSTART:20240516T200000
DTEND:20240516T230000
LOCATION:City Resort Helmond
ATTACH;FMTTYPE=text/plain:https://hbb.rivio.dev/senioren/2023/wedstrijd/325
 48
END:VEVENT
BEGIN:VTIMEZONE
TZID:Europe/Amsterdam
BEGIN:STANDARD
DTSTART:20230101T000000
TZNAME:CET
TZOFFSETTO:+0100
TZOFFSETFROM:+0100
END:STANDARD
BEGIN:DAYLIGHT
DTSTART:20230326T030000
TZNAME:CEST
TZOFFSETTO:+0200
TZOFFSETFROM:+0100
END:DAYLIGHT
BEGIN:STANDARD
DTSTART:20231029T020000
TZNAME:CET
TZOFFSETTO:+0100
TZOFFSETFROM:+0200
END:STANDARD
BEGIN:DAYLIGHT
DTSTART:20240331T030000
TZNAME:CEST
TZOFFSETTO:+0200
TZOFFSETFROM:+0100
END:DAYLIGHT
BEGIN:STANDARD
DTSTART:20241027T020000
TZNAME:CET
TZOFFSETTO:+0100
TZOFFSETFROM:+0200
END:STANDARD
END:VTIMEZONE
END:VCALENDAR
