BEGIN:VCALENDAR
PRODID:-//eluceo/ical//2.0/EN
VERSION:2.0
CALSCALE:GREGORIAN
BEGIN:VEVENT
UID:https://hbb.rivio.dev/senioren/2023/wedstrijd/32126
DTSTAMP:20260420T151331Z
SUMMARY:Hanevoet 1 - Scarabee 1
DESCRIPTION:Baan 5\, Wedstrijdnummer 30\, Afdeling Hoofdklasse 
DTSTART:20230914T200000
DTEND:20230914T230000
LOCATION:City Resort Helmond
ATTACH;FMTTYPE=text/plain:https://hbb.rivio.dev/senioren/2023/wedstrijd/321
 26
END:VEVENT
BEGIN:VEVENT
UID:https://hbb.rivio.dev/senioren/2023/wedstrijd/32153
DTSTAMP:20260420T151332Z
SUMMARY:Hanevoet 1 - Mierlo 2
DESCRIPTION:Baan 2\, Wedstrijdnummer 34\, Afdeling Hoofdklasse 
DTSTART:20230928T200000
DTEND:20230928T230000
LOCATION:City Resort Helmond
ATTACH;FMTTYPE=text/plain:https://hbb.rivio.dev/senioren/2023/wedstrijd/321
 53
END:VEVENT
BEGIN:VEVENT
UID:https://hbb.rivio.dev/senioren/2023/wedstrijd/32188
DTSTAMP:20260420T151332Z
SUMMARY:Someren 1 - Hanevoet 1
DESCRIPTION:Baan 12\, Wedstrijdnummer 37\, Afdeling Hoofdklasse 
DTSTART:20231012T200000
DTEND:20231012T230000
LOCATION:City Resort Helmond
ATTACH;FMTTYPE=text/plain:https://hbb.rivio.dev/senioren/2023/wedstrijd/321
 88
END:VEVENT
BEGIN:VEVENT
UID:https://hbb.rivio.dev/senioren/2023/wedstrijd/32219
DTSTAMP:20260420T151332Z
SUMMARY:RBC 1 - Hanevoet 1
DESCRIPTION:Baan 13\, Wedstrijdnummer 39\, Afdeling Hoofdklasse 
DTSTART:20231102T200000
DTEND:20231102T230000
LOCATION:City Resort Helmond
ATTACH;FMTTYPE=text/plain:https://hbb.rivio.dev/senioren/2023/wedstrijd/322
 19
END:VEVENT
BEGIN:VEVENT
UID:https://hbb.rivio.dev/senioren/2023/wedstrijd/32247
DTSTAMP:20260420T151332Z
SUMMARY:Bakel 2 - Hanevoet 1
DESCRIPTION:Baan 11\, Wedstrijdnummer 41\, Afdeling Hoofdklasse 
DTSTART:20231116T200000
DTEND:20231116T230000
LOCATION:City Resort Helmond
ATTACH;FMTTYPE=text/plain:https://hbb.rivio.dev/senioren/2023/wedstrijd/322
 47
END:VEVENT
BEGIN:VEVENT
UID:https://hbb.rivio.dev/senioren/2023/wedstrijd/32280
DTSTAMP:20260420T151332Z
SUMMARY:Scarabee 1 - Hanevoet 1
DESCRIPTION:Baan 14\, Wedstrijdnummer 1030\, Afdeling Hoofdklasse 
DTSTART:20231206T200000
DTEND:20231206T230000
LOCATION:City Resort Helmond
ATTACH;FMTTYPE=text/plain:https://hbb.rivio.dev/senioren/2023/wedstrijd/322
 80
END:VEVENT
BEGIN:VEVENT
UID:https://hbb.rivio.dev/senioren/2023/wedstrijd/32312
DTSTAMP:20260420T151332Z
SUMMARY:Mierlo 2 - Hanevoet 1
DESCRIPTION:Baan 1\, Wedstrijdnummer 1034\, Afdeling Hoofdklasse 
DTSTART:20231221T200000
DTEND:20231221T230000
LOCATION:City Resort Helmond
ATTACH;FMTTYPE=text/plain:https://hbb.rivio.dev/senioren/2023/wedstrijd/323
 12
END:VEVENT
BEGIN:VEVENT
UID:https://hbb.rivio.dev/senioren/2023/wedstrijd/32341
DTSTAMP:20260420T151332Z
SUMMARY:Hanevoet 1 - Someren 1
DESCRIPTION:Baan 15\, Wedstrijdnummer 1037\, Afdeling Hoofdklasse 
DTSTART:20240111T200000
DTEND:20240111T230000
LOCATION:City Resort Helmond
ATTACH;FMTTYPE=text/plain:https://hbb.rivio.dev/senioren/2023/wedstrijd/323
 41
END:VEVENT
BEGIN:VEVENT
UID:https://hbb.rivio.dev/senioren/2023/wedstrijd/32368
DTSTAMP:20260420T151332Z
SUMMARY:Hanevoet 1 - RBC 1
DESCRIPTION:Baan 12\, Wedstrijdnummer 1039\, Afdeling Hoofdklasse 
DTSTART:20240125T200000
DTEND:20240125T230000
LOCATION:City Resort Helmond
ATTACH;FMTTYPE=text/plain:https://hbb.rivio.dev/senioren/2023/wedstrijd/323
 68
END:VEVENT
BEGIN:VEVENT
UID:https://hbb.rivio.dev/senioren/2023/wedstrijd/32414
DTSTAMP:20260420T151332Z
SUMMARY:Hanevoet 1 - Bakel 2
DESCRIPTION:Baan 3\, Wedstrijdnummer 1041\, Afdeling Hoofdklasse 
DTSTART:20240222T200000
DTEND:20240222T230000
LOCATION:City Resort Helmond
ATTACH;FMTTYPE=text/plain:https://hbb.rivio.dev/senioren/2023/wedstrijd/324
 14
END:VEVENT
BEGIN:VEVENT
UID:https://hbb.rivio.dev/senioren/2023/wedstrijd/32442
DTSTAMP:20260420T151332Z
SUMMARY:Hanevoet 1 - Scarabee 1
DESCRIPTION:Baan 1\, Wedstrijdnummer 2030\, Afdeling Hoofdklasse 
DTSTART:20240307T200000
DTEND:20240307T230000
LOCATION:City Resort Helmond
ATTACH;FMTTYPE=text/plain:https://hbb.rivio.dev/senioren/2023/wedstrijd/324
 42
END:VEVENT
BEGIN:VEVENT
UID:https://hbb.rivio.dev/senioren/2023/wedstrijd/32474
DTSTAMP:20260420T151332Z
SUMMARY:Hanevoet 1 - Mierlo 2
DESCRIPTION:Baan 3\, Wedstrijdnummer 2034\, Afdeling Hoofdklasse 
DTSTART:20240328T200000
DTEND:20240328T230000
LOCATION:City Resort Helmond
ATTACH;FMTTYPE=text/plain:https://hbb.rivio.dev/senioren/2023/wedstrijd/324
 74
END:VEVENT
BEGIN:VEVENT
UID:https://hbb.rivio.dev/senioren/2023/wedstrijd/32515
DTSTAMP:20260420T151332Z
SUMMARY:Someren 1 - Hanevoet 1
DESCRIPTION:Baan 4\, Wedstrijdnummer 2037\, Afdeling Hoofdklasse 
DTSTART:20240418T200000
DTEND:20240418T230000
LOCATION:City Resort Helmond
ATTACH;FMTTYPE=text/plain:https://hbb.rivio.dev/senioren/2023/wedstrijd/325
 15
END:VEVENT
BEGIN:VEVENT
UID:https://hbb.rivio.dev/senioren/2023/wedstrijd/32546
DTSTAMP:20260420T151332Z
SUMMARY:RBC 1 - Hanevoet 1
DESCRIPTION:Baan 5\, Wedstrijdnummer 2039\, Afdeling Hoofdklasse 
DTSTART:20240516T200000
DTEND:20240516T230000
LOCATION:City Resort Helmond
ATTACH;FMTTYPE=text/plain:https://hbb.rivio.dev/senioren/2023/wedstrijd/325
 46
END:VEVENT
BEGIN:VEVENT
UID:https://hbb.rivio.dev/senioren/2023/wedstrijd/32574
DTSTAMP:20260420T151332Z
SUMMARY:Bakel 2 - Hanevoet 1
DESCRIPTION:Baan 11\, Wedstrijdnummer 2041\, Afdeling Hoofdklasse 
DTSTART:20240530T200000
DTEND:20240530T230000
LOCATION:City Resort Helmond
ATTACH;FMTTYPE=text/plain:https://hbb.rivio.dev/senioren/2023/wedstrijd/325
 74
END:VEVENT
BEGIN:VTIMEZONE
TZID:Europe/Amsterdam
BEGIN:STANDARD
DTSTART:20230101T000000
TZNAME:CET
TZOFFSETTO:+0100
TZOFFSETFROM:+0100
END:STANDARD
BEGIN:DAYLIGHT
DTSTART:20230326T030000
TZNAME:CEST
TZOFFSETTO:+0200
TZOFFSETFROM:+0100
END:DAYLIGHT
BEGIN:STANDARD
DTSTART:20231029T020000
TZNAME:CET
TZOFFSETTO:+0100
TZOFFSETFROM:+0200
END:STANDARD
BEGIN:DAYLIGHT
DTSTART:20240331T030000
TZNAME:CEST
TZOFFSETTO:+0200
TZOFFSETFROM:+0100
END:DAYLIGHT
BEGIN:STANDARD
DTSTART:20241027T020000
TZNAME:CET
TZOFFSETTO:+0100
TZOFFSETFROM:+0200
END:STANDARD
END:VTIMEZONE
END:VCALENDAR
