BEGIN:VCALENDAR
PRODID:-//eluceo/ical//2.0/EN
VERSION:2.0
CALSCALE:GREGORIAN
BEGIN:VEVENT
UID:https://hbb.rivio.dev/senioren/2023/wedstrijd/32166
DTSTAMP:20260420T234135Z
SUMMARY:BC '85 1 - Mierlo 9
DESCRIPTION:Baan 5\, Wedstrijdnummer 175\, Afdeling 4e klasse 
DTSTART:20231005T200000
DTEND:20231005T230000
LOCATION:City Resort Helmond
ATTACH;FMTTYPE=text/plain:https://hbb.rivio.dev/senioren/2023/wedstrijd/321
 66
END:VEVENT
BEGIN:VEVENT
UID:https://hbb.rivio.dev/senioren/2023/wedstrijd/32179
DTSTAMP:20260420T234135Z
SUMMARY:Mixed 5 - Mierlo 9
DESCRIPTION:Baan 13\, Wedstrijdnummer 180\, Afdeling 4e klasse 
DTSTART:20231011T200000
DTEND:20231011T230000
LOCATION:City Resort Helmond
ATTACH;FMTTYPE=text/plain:https://hbb.rivio.dev/senioren/2023/wedstrijd/321
 79
END:VEVENT
BEGIN:VEVENT
UID:https://hbb.rivio.dev/senioren/2023/wedstrijd/32259
DTSTAMP:20260420T234135Z
SUMMARY:Mixed 6 - Mierlo 9
DESCRIPTION:Baan 13\, Wedstrijdnummer 191\, Afdeling 4e klasse 
DTSTART:20231123T200000
DTEND:20231123T230000
LOCATION:City Resort Helmond
ATTACH;FMTTYPE=text/plain:https://hbb.rivio.dev/senioren/2023/wedstrijd/322
 59
END:VEVENT
BEGIN:VEVENT
UID:https://hbb.rivio.dev/senioren/2023/wedstrijd/32287
DTSTAMP:20260420T234135Z
SUMMARY:Heeze 1 - Mierlo 9
DESCRIPTION:Baan 11\, Wedstrijdnummer 196\, Afdeling 4e klasse 
DTSTART:20231207T200000
DTEND:20231207T230000
LOCATION:City Resort Helmond
ATTACH;FMTTYPE=text/plain:https://hbb.rivio.dev/senioren/2023/wedstrijd/322
 87
END:VEVENT
BEGIN:VEVENT
UID:https://hbb.rivio.dev/senioren/2023/wedstrijd/32330
DTSTAMP:20260420T234135Z
SUMMARY:Mierlo 9 - Gemert 3
DESCRIPTION:Baan 14\, Wedstrijdnummer 203\, Afdeling 4e klasse 
DTSTART:20240110T200000
DTEND:20240110T230000
LOCATION:City Resort Helmond
ATTACH;FMTTYPE=text/plain:https://hbb.rivio.dev/senioren/2023/wedstrijd/323
 30
END:VEVENT
BEGIN:VEVENT
UID:https://hbb.rivio.dev/senioren/2023/wedstrijd/32349
DTSTAMP:20260420T234135Z
SUMMARY:Mierlo 9 - Con Brio 3
DESCRIPTION:Baan 13\, Wedstrijdnummer 210\, Afdeling 4e klasse 
DTSTART:20240118T200000
DTEND:20240118T230000
LOCATION:City Resort Helmond
ATTACH;FMTTYPE=text/plain:https://hbb.rivio.dev/senioren/2023/wedstrijd/323
 49
END:VEVENT
BEGIN:VEVENT
UID:https://hbb.rivio.dev/senioren/2023/wedstrijd/32393
DTSTAMP:20260420T234135Z
SUMMARY:Mierlo 9 - Bakel 5
DESCRIPTION:Baan 2\, Wedstrijdnummer 217\, Afdeling 4e klasse 
DTSTART:20240208T200000
DTEND:20240208T230000
LOCATION:City Resort Helmond
ATTACH;FMTTYPE=text/plain:https://hbb.rivio.dev/senioren/2023/wedstrijd/323
 93
END:VEVENT
BEGIN:VEVENT
UID:https://hbb.rivio.dev/senioren/2023/wedstrijd/32424
DTSTAMP:20260420T234135Z
SUMMARY:Mierlo 9 - Someren 5
DESCRIPTION:Baan 3\, Wedstrijdnummer 224\, Afdeling 4e klasse 
DTSTART:20240229T200000
DTEND:20240229T230000
LOCATION:City Resort Helmond
ATTACH;FMTTYPE=text/plain:https://hbb.rivio.dev/senioren/2023/wedstrijd/324
 24
END:VEVENT
BEGIN:VEVENT
UID:https://hbb.rivio.dev/senioren/2023/wedstrijd/32465
DTSTAMP:20260420T234135Z
SUMMARY:Mierlo 9 - Someren 6
DESCRIPTION:Baan 4\, Wedstrijdnummer 230\, Afdeling 4e klasse 
DTSTART:20240321T200000
DTEND:20240321T230000
LOCATION:City Resort Helmond
ATTACH;FMTTYPE=text/plain:https://hbb.rivio.dev/senioren/2023/wedstrijd/324
 65
END:VEVENT
BEGIN:VEVENT
UID:https://hbb.rivio.dev/senioren/2023/wedstrijd/32497
DTSTAMP:20260420T234135Z
SUMMARY:Mierlo 9 - Never Down 2
DESCRIPTION:Baan 11\, Wedstrijdnummer 237\, Afdeling 4e klasse 
DTSTART:20240404T200000
DTEND:20240404T230000
LOCATION:City Resort Helmond
ATTACH;FMTTYPE=text/plain:https://hbb.rivio.dev/senioren/2023/wedstrijd/324
 97
END:VEVENT
BEGIN:VEVENT
UID:https://hbb.rivio.dev/senioren/2023/wedstrijd/32527
DTSTAMP:20260420T234135Z
SUMMARY:Hanevoet 3 - Mierlo 9
DESCRIPTION:Baan 11\, Wedstrijdnummer 243\, Afdeling 4e klasse 
DTSTART:20240411T200000
DTEND:20240411T230000
LOCATION:City Resort Helmond
ATTACH;FMTTYPE=text/plain:https://hbb.rivio.dev/senioren/2023/wedstrijd/325
 27
END:VEVENT
BEGIN:VEVENT
UID:https://hbb.rivio.dev/senioren/2023/wedstrijd/32566
DTSTAMP:20260420T234135Z
SUMMARY:Ganzeveer 4 - Mierlo 9
DESCRIPTION:Baan 11\, Wedstrijdnummer 248\, Afdeling 4e klasse 
DTSTART:20240529T200000
DTEND:20240529T230000
LOCATION:City Resort Helmond
ATTACH;FMTTYPE=text/plain:https://hbb.rivio.dev/senioren/2023/wedstrijd/325
 66
END:VEVENT
BEGIN:VTIMEZONE
TZID:Europe/Amsterdam
BEGIN:STANDARD
DTSTART:20230101T000000
TZNAME:CET
TZOFFSETTO:+0100
TZOFFSETFROM:+0100
END:STANDARD
BEGIN:DAYLIGHT
DTSTART:20230326T030000
TZNAME:CEST
TZOFFSETTO:+0200
TZOFFSETFROM:+0100
END:DAYLIGHT
BEGIN:STANDARD
DTSTART:20231029T020000
TZNAME:CET
TZOFFSETTO:+0100
TZOFFSETFROM:+0200
END:STANDARD
BEGIN:DAYLIGHT
DTSTART:20240331T030000
TZNAME:CEST
TZOFFSETTO:+0200
TZOFFSETFROM:+0100
END:DAYLIGHT
BEGIN:STANDARD
DTSTART:20241027T020000
TZNAME:CET
TZOFFSETTO:+0100
TZOFFSETFROM:+0200
END:STANDARD
END:VTIMEZONE
END:VCALENDAR
