BEGIN:VCALENDAR
PRODID:-//eluceo/ical//2.0/EN
VERSION:2.0
CALSCALE:GREGORIAN
BEGIN:VEVENT
UID:https://hbb.rivio.dev/senioren/2023/wedstrijd/32141
DTSTAMP:20260420T151407Z
SUMMARY:Mierlo 7 - Never Down 1
DESCRIPTION:Baan 15\, Wedstrijdnummer 147\, Afdeling 3e klasse II
DTSTART:20230921T200000
DTEND:20230921T230000
LOCATION:City Resort Helmond
ATTACH;FMTTYPE=text/plain:https://hbb.rivio.dev/senioren/2023/wedstrijd/321
 41
END:VEVENT
BEGIN:VEVENT
UID:https://hbb.rivio.dev/senioren/2023/wedstrijd/32186
DTSTAMP:20260420T151407Z
SUMMARY:Heiakker 1 - Mierlo 7
DESCRIPTION:Baan 5\, Wedstrijdnummer 151\, Afdeling 3e klasse II
DTSTART:20231012T200000
DTEND:20231012T230000
LOCATION:City Resort Helmond
ATTACH;FMTTYPE=text/plain:https://hbb.rivio.dev/senioren/2023/wedstrijd/321
 86
END:VEVENT
BEGIN:VEVENT
UID:https://hbb.rivio.dev/senioren/2023/wedstrijd/32216
DTSTAMP:20260420T151407Z
SUMMARY:Someren 4 - Mierlo 7
DESCRIPTION:Baan 5\, Wedstrijdnummer 154\, Afdeling 3e klasse II
DTSTART:20231102T200000
DTEND:20231102T230000
LOCATION:City Resort Helmond
ATTACH;FMTTYPE=text/plain:https://hbb.rivio.dev/senioren/2023/wedstrijd/322
 16
END:VEVENT
BEGIN:VEVENT
UID:https://hbb.rivio.dev/senioren/2023/wedstrijd/32228
DTSTAMP:20260420T151407Z
SUMMARY:Rudra 1 - Mierlo 7
DESCRIPTION:Baan 12\, Wedstrijdnummer 157\, Afdeling 3e klasse II
DTSTART:20231108T200000
DTEND:20231108T230000
LOCATION:City Resort Helmond
ATTACH;FMTTYPE=text/plain:https://hbb.rivio.dev/senioren/2023/wedstrijd/322
 28
END:VEVENT
BEGIN:VEVENT
UID:https://hbb.rivio.dev/senioren/2023/wedstrijd/32278
DTSTAMP:20260420T151407Z
SUMMARY:Gemert 1 - Mierlo 7
DESCRIPTION:Baan 12\, Wedstrijdnummer 160\, Afdeling 3e klasse II
DTSTART:20231206T200000
DTEND:20231206T230000
LOCATION:City Resort Helmond
ATTACH;FMTTYPE=text/plain:https://hbb.rivio.dev/senioren/2023/wedstrijd/322
 78
END:VEVENT
BEGIN:VEVENT
UID:https://hbb.rivio.dev/senioren/2023/wedstrijd/32311
DTSTAMP:20260420T151407Z
SUMMARY:Mierlo 7 - Geldrop 2
DESCRIPTION:Baan 15\, Wedstrijdnummer 165\, Afdeling 3e klasse II
DTSTART:20231220T200000
DTEND:20231220T230000
LOCATION:City Resort Helmond
ATTACH;FMTTYPE=text/plain:https://hbb.rivio.dev/senioren/2023/wedstrijd/323
 11
END:VEVENT
BEGIN:VEVENT
UID:https://hbb.rivio.dev/senioren/2023/wedstrijd/32338
DTSTAMP:20260420T151407Z
SUMMARY:Mierlo 7 - Smashing Bruang 2
DESCRIPTION:Baan 12\, Wedstrijdnummer 170\, Afdeling 3e klasse II
DTSTART:20240111T200000
DTEND:20240111T230000
LOCATION:City Resort Helmond
ATTACH;FMTTYPE=text/plain:https://hbb.rivio.dev/senioren/2023/wedstrijd/323
 38
END:VEVENT
BEGIN:VEVENT
UID:https://hbb.rivio.dev/senioren/2023/wedstrijd/32367
DTSTAMP:20260420T151407Z
SUMMARY:Never Down 1 - Mierlo 7
DESCRIPTION:Baan 11\, Wedstrijdnummer 1147\, Afdeling 3e klasse II
DTSTART:20240125T200000
DTEND:20240125T230000
LOCATION:City Resort Helmond
ATTACH;FMTTYPE=text/plain:https://hbb.rivio.dev/senioren/2023/wedstrijd/323
 67
END:VEVENT
BEGIN:VEVENT
UID:https://hbb.rivio.dev/senioren/2023/wedstrijd/32413
DTSTAMP:20260420T151407Z
SUMMARY:Mierlo 7 - Heiakker 1
DESCRIPTION:Baan 2\, Wedstrijdnummer 1151\, Afdeling 3e klasse II
DTSTART:20240222T200000
DTEND:20240222T230000
LOCATION:City Resort Helmond
ATTACH;FMTTYPE=text/plain:https://hbb.rivio.dev/senioren/2023/wedstrijd/324
 13
END:VEVENT
BEGIN:VEVENT
UID:https://hbb.rivio.dev/senioren/2023/wedstrijd/32429
DTSTAMP:20260420T151407Z
SUMMARY:Mierlo 7 - Someren 4
DESCRIPTION:Baan 13\, Wedstrijdnummer 1154\, Afdeling 3e klasse II
DTSTART:20240229T200000
DTEND:20240229T230000
LOCATION:City Resort Helmond
ATTACH;FMTTYPE=text/plain:https://hbb.rivio.dev/senioren/2023/wedstrijd/324
 29
END:VEVENT
BEGIN:VEVENT
UID:https://hbb.rivio.dev/senioren/2023/wedstrijd/32483
DTSTAMP:20260420T151407Z
SUMMARY:Mierlo 7 - Rudra 1
DESCRIPTION:Baan 2\, Wedstrijdnummer 1157\, Afdeling 3e klasse II
DTSTART:20240403T200000
DTEND:20240403T230000
LOCATION:City Resort Helmond
ATTACH;FMTTYPE=text/plain:https://hbb.rivio.dev/senioren/2023/wedstrijd/324
 83
END:VEVENT
BEGIN:VEVENT
UID:https://hbb.rivio.dev/senioren/2023/wedstrijd/32504
DTSTAMP:20260420T151407Z
SUMMARY:Mierlo 7 - Gemert 1
DESCRIPTION:Baan 3\, Wedstrijdnummer 1160\, Afdeling 3e klasse II
DTSTART:20240417T200000
DTEND:20240417T230000
LOCATION:City Resort Helmond
ATTACH;FMTTYPE=text/plain:https://hbb.rivio.dev/senioren/2023/wedstrijd/325
 04
END:VEVENT
BEGIN:VEVENT
UID:https://hbb.rivio.dev/senioren/2023/wedstrijd/32537
DTSTAMP:20260420T151407Z
SUMMARY:Geldrop 2 - Mierlo 7
DESCRIPTION:Baan 11\, Wedstrijdnummer 1165\, Afdeling 3e klasse II
DTSTART:20240515T200000
DTEND:20240515T230000
LOCATION:City Resort Helmond
ATTACH;FMTTYPE=text/plain:https://hbb.rivio.dev/senioren/2023/wedstrijd/325
 37
END:VEVENT
BEGIN:VEVENT
UID:https://hbb.rivio.dev/senioren/2023/wedstrijd/32572
DTSTAMP:20260420T151407Z
SUMMARY:Smashing Bruang 2 - Mierlo 7
DESCRIPTION:Baan 4\, Wedstrijdnummer 1170\, Afdeling 3e klasse II
DTSTART:20240530T200000
DTEND:20240530T230000
LOCATION:City Resort Helmond
ATTACH;FMTTYPE=text/plain:https://hbb.rivio.dev/senioren/2023/wedstrijd/325
 72
END:VEVENT
BEGIN:VTIMEZONE
TZID:Europe/Amsterdam
BEGIN:STANDARD
DTSTART:20230101T000000
TZNAME:CET
TZOFFSETTO:+0100
TZOFFSETFROM:+0100
END:STANDARD
BEGIN:DAYLIGHT
DTSTART:20230326T030000
TZNAME:CEST
TZOFFSETTO:+0200
TZOFFSETFROM:+0100
END:DAYLIGHT
BEGIN:STANDARD
DTSTART:20231029T020000
TZNAME:CET
TZOFFSETTO:+0100
TZOFFSETFROM:+0200
END:STANDARD
BEGIN:DAYLIGHT
DTSTART:20240331T030000
TZNAME:CEST
TZOFFSETTO:+0200
TZOFFSETFROM:+0100
END:DAYLIGHT
BEGIN:STANDARD
DTSTART:20241027T020000
TZNAME:CET
TZOFFSETTO:+0100
TZOFFSETFROM:+0200
END:STANDARD
END:VTIMEZONE
END:VCALENDAR
