BEGIN:VCALENDAR
PRODID:-//eluceo/ical//2.0/EN
VERSION:2.0
CALSCALE:GREGORIAN
BEGIN:VEVENT
UID:https://hbb.rivio.dev/senioren/2023/wedstrijd/32121
DTSTAMP:20260420T234630Z
SUMMARY:Mierlo 3 - Mixed 2
DESCRIPTION:Baan 15\, Wedstrijdnummer 46\, Afdeling Overgangsklasse 
DTSTART:20230913T200000
DTEND:20230913T230000
LOCATION:City Resort Helmond
ATTACH;FMTTYPE=text/plain:https://hbb.rivio.dev/senioren/2023/wedstrijd/321
 21
END:VEVENT
BEGIN:VEVENT
UID:https://hbb.rivio.dev/senioren/2023/wedstrijd/32151
DTSTAMP:20260420T234630Z
SUMMARY:Ganzeveer 1 - Mierlo 3
DESCRIPTION:Baan 15\, Wedstrijdnummer 49\, Afdeling Overgangsklasse 
DTSTART:20230927T200000
DTEND:20230927T230000
LOCATION:City Resort Helmond
ATTACH;FMTTYPE=text/plain:https://hbb.rivio.dev/senioren/2023/wedstrijd/321
 51
END:VEVENT
BEGIN:VEVENT
UID:https://hbb.rivio.dev/senioren/2023/wedstrijd/32200
DTSTAMP:20260420T234630Z
SUMMARY:Phoenix 2 - Mierlo 3
DESCRIPTION:Baan 14\, Wedstrijdnummer 54\, Afdeling Overgangsklasse 
DTSTART:20231025T200000
DTEND:20231025T230000
LOCATION:City Resort Helmond
ATTACH;FMTTYPE=text/plain:https://hbb.rivio.dev/senioren/2023/wedstrijd/322
 00
END:VEVENT
BEGIN:VEVENT
UID:https://hbb.rivio.dev/senioren/2023/wedstrijd/32275
DTSTAMP:20260420T234630Z
SUMMARY:Smashing Bruang 1 - Mierlo 3
DESCRIPTION:Baan 5\, Wedstrijdnummer 56\, Afdeling Overgangsklasse 
DTSTART:20231207T200000
DTEND:20231207T230000
LOCATION:City Resort Helmond
ATTACH;FMTTYPE=text/plain:https://hbb.rivio.dev/senioren/2023/wedstrijd/322
 75
END:VEVENT
BEGIN:VEVENT
UID:https://hbb.rivio.dev/senioren/2023/wedstrijd/32296
DTSTAMP:20260420T234630Z
SUMMARY:Mierlo 3 - Bakel 3
DESCRIPTION:Baan 5\, Wedstrijdnummer 60\, Afdeling Overgangsklasse 
DTSTART:20231214T200000
DTEND:20231214T230000
LOCATION:City Resort Helmond
ATTACH;FMTTYPE=text/plain:https://hbb.rivio.dev/senioren/2023/wedstrijd/322
 96
END:VEVENT
BEGIN:VEVENT
UID:https://hbb.rivio.dev/senioren/2023/wedstrijd/32352
DTSTAMP:20260420T234630Z
SUMMARY:Mierlo 3 - VBSC 1
DESCRIPTION:Baan 1\, Wedstrijdnummer 63\, Afdeling Overgangsklasse 
DTSTART:20240124T200000
DTEND:20240124T230000
LOCATION:City Resort Helmond
ATTACH;FMTTYPE=text/plain:https://hbb.rivio.dev/senioren/2023/wedstrijd/323
 52
END:VEVENT
BEGIN:VEVENT
UID:https://hbb.rivio.dev/senioren/2023/wedstrijd/32386
DTSTAMP:20260420T234630Z
SUMMARY:Mixed 2 - Mierlo 3
DESCRIPTION:Baan 5\, Wedstrijdnummer 1046\, Afdeling Overgangsklasse 
DTSTART:20240207T200000
DTEND:20240207T230000
LOCATION:City Resort Helmond
ATTACH;FMTTYPE=text/plain:https://hbb.rivio.dev/senioren/2023/wedstrijd/323
 86
END:VEVENT
BEGIN:VEVENT
UID:https://hbb.rivio.dev/senioren/2023/wedstrijd/32406
DTSTAMP:20260420T234630Z
SUMMARY:Mierlo 3 - Ganzeveer 1
DESCRIPTION:Baan 5\, Wedstrijdnummer 1049\, Afdeling Overgangsklasse 
DTSTART:20240221T200000
DTEND:20240221T230000
LOCATION:City Resort Helmond
ATTACH;FMTTYPE=text/plain:https://hbb.rivio.dev/senioren/2023/wedstrijd/324
 06
END:VEVENT
BEGIN:VEVENT
UID:https://hbb.rivio.dev/senioren/2023/wedstrijd/32461
DTSTAMP:20260420T234630Z
SUMMARY:Mierlo 3 - Phoenix 2
DESCRIPTION:Baan 14\, Wedstrijdnummer 1054\, Afdeling Overgangsklasse 
DTSTART:20240320T200000
DTEND:20240320T230000
LOCATION:City Resort Helmond
ATTACH;FMTTYPE=text/plain:https://hbb.rivio.dev/senioren/2023/wedstrijd/324
 61
END:VEVENT
BEGIN:VEVENT
UID:https://hbb.rivio.dev/senioren/2023/wedstrijd/32531
DTSTAMP:20260420T234630Z
SUMMARY:Bakel 3 - Mierlo 3
DESCRIPTION:Baan 15\, Wedstrijdnummer 1060\, Afdeling Overgangsklasse 
DTSTART:20240411T200000
DTEND:20240411T230000
LOCATION:City Resort Helmond
ATTACH;FMTTYPE=text/plain:https://hbb.rivio.dev/senioren/2023/wedstrijd/325
 31
END:VEVENT
BEGIN:VEVENT
UID:https://hbb.rivio.dev/senioren/2023/wedstrijd/32502
DTSTAMP:20260420T234630Z
SUMMARY:Mierlo 3 - Smashing Bruang 1
DESCRIPTION:Baan 1\, Wedstrijdnummer 1056\, Afdeling Overgangsklasse 
DTSTART:20240417T200000
DTEND:20240417T230000
LOCATION:City Resort Helmond
ATTACH;FMTTYPE=text/plain:https://hbb.rivio.dev/senioren/2023/wedstrijd/325
 02
END:VEVENT
BEGIN:VEVENT
UID:https://hbb.rivio.dev/senioren/2023/wedstrijd/32570
DTSTAMP:20260420T234630Z
SUMMARY:VBSC 1 - Mierlo 3
DESCRIPTION:Baan 2\, Wedstrijdnummer 1063\, Afdeling Overgangsklasse 
DTSTART:20240530T200000
DTEND:20240530T230000
LOCATION:City Resort Helmond
ATTACH;FMTTYPE=text/plain:https://hbb.rivio.dev/senioren/2023/wedstrijd/325
 70
END:VEVENT
BEGIN:VTIMEZONE
TZID:Europe/Amsterdam
BEGIN:STANDARD
DTSTART:20230101T000000
TZNAME:CET
TZOFFSETTO:+0100
TZOFFSETFROM:+0100
END:STANDARD
BEGIN:DAYLIGHT
DTSTART:20230326T030000
TZNAME:CEST
TZOFFSETTO:+0200
TZOFFSETFROM:+0100
END:DAYLIGHT
BEGIN:STANDARD
DTSTART:20231029T020000
TZNAME:CET
TZOFFSETTO:+0100
TZOFFSETFROM:+0200
END:STANDARD
BEGIN:DAYLIGHT
DTSTART:20240331T030000
TZNAME:CEST
TZOFFSETTO:+0200
TZOFFSETFROM:+0100
END:DAYLIGHT
BEGIN:STANDARD
DTSTART:20241027T020000
TZNAME:CET
TZOFFSETTO:+0100
TZOFFSETFROM:+0200
END:STANDARD
END:VTIMEZONE
END:VCALENDAR
