BEGIN:VCALENDAR
PRODID:-//eluceo/ical//2.0/EN
VERSION:2.0
CALSCALE:GREGORIAN
BEGIN:VEVENT
UID:https://hbb.rivio.dev/senioren/2022/wedstrijd/30287
DTSTAMP:20260420T203312Z
SUMMARY:De Valken 1 - Smashing Bruang 1
DESCRIPTION:Baan 1\, Wedstrijdnummer 1001\, Afdeling Topklasse Kampioen
DTSTART:20220928T200000
DTEND:20220928T230000
LOCATION:City Resort Helmond
ATTACH;FMTTYPE=text/plain:https://hbb.rivio.dev/senioren/2022/wedstrijd/302
 87
END:VEVENT
BEGIN:VEVENT
UID:https://hbb.rivio.dev/senioren/2022/wedstrijd/30311
DTSTAMP:20260420T203312Z
SUMMARY:Ganzeveer 1 - De Valken 1
DESCRIPTION:Baan 5\, Wedstrijdnummer 1009\, Afdeling Topklasse Kampioen
DTSTART:20221005T200000
DTEND:20221005T230000
LOCATION:City Resort Helmond
ATTACH;FMTTYPE=text/plain:https://hbb.rivio.dev/senioren/2022/wedstrijd/303
 11
END:VEVENT
BEGIN:VEVENT
UID:https://hbb.rivio.dev/senioren/2022/wedstrijd/30330
DTSTAMP:20260420T203312Z
SUMMARY:Mierlo 2 - De Valken 1
DESCRIPTION:Baan 4\, Wedstrijdnummer 1018\, Afdeling Topklasse Degradatie
DTSTART:20221012T200000
DTEND:20221012T230000
LOCATION:City Resort Helmond
ATTACH;FMTTYPE=text/plain:https://hbb.rivio.dev/senioren/2022/wedstrijd/303
 30
END:VEVENT
BEGIN:VEVENT
UID:https://hbb.rivio.dev/senioren/2022/wedstrijd/30356
DTSTAMP:20260420T203312Z
SUMMARY:De Valken 1 - Mixed 1
DESCRIPTION:Baan 15\, Wedstrijdnummer 1021\, Afdeling Topklasse Kampioen
DTSTART:20221019T200000
DTEND:20221019T230000
LOCATION:City Resort Helmond
ATTACH;FMTTYPE=text/plain:https://hbb.rivio.dev/senioren/2022/wedstrijd/303
 56
END:VEVENT
BEGIN:VEVENT
UID:https://hbb.rivio.dev/senioren/2022/wedstrijd/30399
DTSTAMP:20260420T203312Z
SUMMARY:RBC 1 - De Valken 1
DESCRIPTION:Baan 3\, Wedstrijdnummer 1029\, Afdeling Topklasse Degradatie
DTSTART:20221110T200000
DTEND:20221110T230000
LOCATION:City Resort Helmond
ATTACH;FMTTYPE=text/plain:https://hbb.rivio.dev/senioren/2022/wedstrijd/303
 99
END:VEVENT
BEGIN:VEVENT
UID:https://hbb.rivio.dev/senioren/2022/wedstrijd/30414
DTSTAMP:20260420T203312Z
SUMMARY:De Valken 1 - Bakel 1
DESCRIPTION:Baan 13\, Wedstrijdnummer 1033\, Afdeling Topklasse Kampioen
DTSTART:20221116T200000
DTEND:20221116T230000
LOCATION:City Resort Helmond
ATTACH;FMTTYPE=text/plain:https://hbb.rivio.dev/senioren/2022/wedstrijd/304
 14
END:VEVENT
BEGIN:VEVENT
UID:https://hbb.rivio.dev/senioren/2022/wedstrijd/30471
DTSTAMP:20260420T203312Z
SUMMARY:De Valken 1 - Phoenix 1
DESCRIPTION:Baan 14\, Wedstrijdnummer 1044\, Afdeling Topklasse Kampioen
DTSTART:20221207T200000
DTEND:20221207T230000
LOCATION:City Resort Helmond
ATTACH;FMTTYPE=text/plain:https://hbb.rivio.dev/senioren/2022/wedstrijd/304
 71
END:VEVENT
BEGIN:VEVENT
UID:https://hbb.rivio.dev/senioren/2022/wedstrijd/30510
DTSTAMP:20260420T203312Z
SUMMARY:Hanevoet 1 - De Valken 1
DESCRIPTION:Baan 15\, Wedstrijdnummer 1054\, Afdeling Topklasse Degradatie
DTSTART:20221222T200000
DTEND:20221222T230000
LOCATION:City Resort Helmond
ATTACH;FMTTYPE=text/plain:https://hbb.rivio.dev/senioren/2022/wedstrijd/305
 10
END:VEVENT
BEGIN:VEVENT
UID:https://hbb.rivio.dev/senioren/2022/wedstrijd/30518
DTSTAMP:20260420T203312Z
SUMMARY:De Valken 1 - Someren 1
DESCRIPTION:Baan 15\, Wedstrijdnummer 1056\, Afdeling Topklasse Kampioen
DTSTART:20230111T200000
DTEND:20230111T230000
LOCATION:City Resort Helmond
ATTACH;FMTTYPE=text/plain:https://hbb.rivio.dev/senioren/2022/wedstrijd/305
 18
END:VEVENT
BEGIN:VEVENT
UID:https://hbb.rivio.dev/senioren/2022/wedstrijd/30544
DTSTAMP:20260420T203312Z
SUMMARY:Brabantia 1 - De Valken 1
DESCRIPTION:Baan 3\, Wedstrijdnummer 1062\, Afdeling Topklasse Degradatie
DTSTART:20230125T200000
DTEND:20230125T230000
LOCATION:City Resort Helmond
ATTACH;FMTTYPE=text/plain:https://hbb.rivio.dev/senioren/2022/wedstrijd/305
 44
END:VEVENT
BEGIN:VEVENT
UID:https://hbb.rivio.dev/senioren/2022/wedstrijd/30570
DTSTAMP:20260420T203312Z
SUMMARY:De Valken 1 - Mixed 2
DESCRIPTION:Baan 2\, Wedstrijdnummer 1067\, Afdeling Topklasse Kampioen
DTSTART:20230208T200000
DTEND:20230208T230000
LOCATION:City Resort Helmond
ATTACH;FMTTYPE=text/plain:https://hbb.rivio.dev/senioren/2022/wedstrijd/305
 70
END:VEVENT
BEGIN:VEVENT
UID:https://hbb.rivio.dev/senioren/2022/wedstrijd/30587
DTSTAMP:20260420T203312Z
SUMMARY:Mierlo 1 - De Valken 1
DESCRIPTION:Baan 5\, Wedstrijdnummer 1073\, Afdeling Topklasse Kampioen
DTSTART:20230215T200000
DTEND:20230215T230000
LOCATION:City Resort Helmond
ATTACH;FMTTYPE=text/plain:https://hbb.rivio.dev/senioren/2022/wedstrijd/305
 87
END:VEVENT
BEGIN:VEVENT
UID:https://hbb.rivio.dev/senioren/2022/wedstrijd/30917
DTSTAMP:20260420T203312Z
SUMMARY:Phoenix 1 - De Valken 1
DESCRIPTION:Baan 4\, Wedstrijdnummer 2002\, Afdeling Topklasse Kampioen
DTSTART:20230308T200000
DTEND:20230308T230000
LOCATION:City Resort Helmond
ATTACH;FMTTYPE=text/plain:https://hbb.rivio.dev/senioren/2022/wedstrijd/309
 17
END:VEVENT
BEGIN:VEVENT
UID:https://hbb.rivio.dev/senioren/2022/wedstrijd/30926
DTSTAMP:20260420T203312Z
SUMMARY:De Valken 1 - Ganzeveer 1
DESCRIPTION:Baan 5\, Wedstrijdnummer 2003\, Afdeling Topklasse Kampioen
DTSTART:20230329T200000
DTEND:20230329T230000
LOCATION:City Resort Helmond
ATTACH;FMTTYPE=text/plain:https://hbb.rivio.dev/senioren/2022/wedstrijd/309
 26
END:VEVENT
BEGIN:VEVENT
UID:https://hbb.rivio.dev/senioren/2022/wedstrijd/30935
DTSTAMP:20260420T203312Z
SUMMARY:De Valken 1 - Mierlo 1
DESCRIPTION:Baan 4\, Wedstrijdnummer 2006\, Afdeling Topklasse Kampioen
DTSTART:20230405T200000
DTEND:20230405T230000
LOCATION:City Resort Helmond
ATTACH;FMTTYPE=text/plain:https://hbb.rivio.dev/senioren/2022/wedstrijd/309
 35
END:VEVENT
BEGIN:VTIMEZONE
TZID:Europe/Amsterdam
BEGIN:STANDARD
DTSTART:20220101T000000
TZNAME:CET
TZOFFSETTO:+0100
TZOFFSETFROM:+0100
END:STANDARD
BEGIN:DAYLIGHT
DTSTART:20220327T030000
TZNAME:CEST
TZOFFSETTO:+0200
TZOFFSETFROM:+0100
END:DAYLIGHT
BEGIN:STANDARD
DTSTART:20221030T020000
TZNAME:CET
TZOFFSETTO:+0100
TZOFFSETFROM:+0200
END:STANDARD
BEGIN:DAYLIGHT
DTSTART:20230326T030000
TZNAME:CEST
TZOFFSETTO:+0200
TZOFFSETFROM:+0100
END:DAYLIGHT
BEGIN:STANDARD
DTSTART:20231029T020000
TZNAME:CET
TZOFFSETTO:+0100
TZOFFSETFROM:+0200
END:STANDARD
END:VTIMEZONE
END:VCALENDAR
