BEGIN:VCALENDAR
PRODID:-//eluceo/ical//2.0/EN
VERSION:2.0
CALSCALE:GREGORIAN
BEGIN:VEVENT
UID:https://hbb.rivio.dev/senioren/2022/wedstrijd/30301
DTSTAMP:20260420T133831Z
SUMMARY:RBC 2 - Con Brio 2
DESCRIPTION:Baan 5\, Wedstrijdnummer 1146\, Afdeling 3e klasse I
DTSTART:20220929T200000
DTEND:20220929T230000
LOCATION:City Resort Helmond
ATTACH;FMTTYPE=text/plain:https://hbb.rivio.dev/senioren/2022/wedstrijd/303
 01
END:VEVENT
BEGIN:VEVENT
UID:https://hbb.rivio.dev/senioren/2022/wedstrijd/30316
DTSTAMP:20260420T133831Z
SUMMARY:Con Brio 2 - Mierlo 5
DESCRIPTION:Baan 15\, Wedstrijdnummer 1149\, Afdeling 3e klasse I
DTSTART:20221005T200000
DTEND:20221005T230000
LOCATION:City Resort Helmond
ATTACH;FMTTYPE=text/plain:https://hbb.rivio.dev/senioren/2022/wedstrijd/303
 16
END:VEVENT
BEGIN:VEVENT
UID:https://hbb.rivio.dev/senioren/2022/wedstrijd/30377
DTSTAMP:20260420T133831Z
SUMMARY:Con Brio 2 - Heiakker 1
DESCRIPTION:Baan 1\, Wedstrijdnummer 1154\, Afdeling 3e klasse I
DTSTART:20221103T200000
DTEND:20221103T230000
LOCATION:City Resort Helmond
ATTACH;FMTTYPE=text/plain:https://hbb.rivio.dev/senioren/2022/wedstrijd/303
 77
END:VEVENT
BEGIN:VEVENT
UID:https://hbb.rivio.dev/senioren/2022/wedstrijd/30417
DTSTAMP:20260420T133831Z
SUMMARY:Con Brio 2 - Someren 3
DESCRIPTION:Baan 1\, Wedstrijdnummer 1159\, Afdeling 3e klasse I
DTSTART:20221117T200000
DTEND:20221117T230000
LOCATION:City Resort Helmond
ATTACH;FMTTYPE=text/plain:https://hbb.rivio.dev/senioren/2022/wedstrijd/304
 17
END:VEVENT
BEGIN:VEVENT
UID:https://hbb.rivio.dev/senioren/2022/wedstrijd/30434
DTSTAMP:20260420T133831Z
SUMMARY:Con Brio 2 - Mierlo 7
DESCRIPTION:Baan 13\, Wedstrijdnummer 1164\, Afdeling 3e klasse I
DTSTART:20221123T200000
DTEND:20221123T230000
LOCATION:City Resort Helmond
ATTACH;FMTTYPE=text/plain:https://hbb.rivio.dev/senioren/2022/wedstrijd/304
 34
END:VEVENT
BEGIN:VEVENT
UID:https://hbb.rivio.dev/senioren/2022/wedstrijd/30448
DTSTAMP:20260420T133831Z
SUMMARY:Gemert 1 - Con Brio 2
DESCRIPTION:Baan 2\, Wedstrijdnummer 1168\, Afdeling 3e klasse I
DTSTART:20221130T200000
DTEND:20221130T230000
LOCATION:City Resort Helmond
ATTACH;FMTTYPE=text/plain:https://hbb.rivio.dev/senioren/2022/wedstrijd/304
 48
END:VEVENT
BEGIN:VEVENT
UID:https://hbb.rivio.dev/senioren/2022/wedstrijd/30492
DTSTAMP:20260420T133831Z
SUMMARY:BCAB 2 - Con Brio 2
DESCRIPTION:Baan 13\, Wedstrijdnummer 1171\, Afdeling 3e klasse I
DTSTART:20221215T200000
DTEND:20221215T230000
LOCATION:City Resort Helmond
ATTACH;FMTTYPE=text/plain:https://hbb.rivio.dev/senioren/2022/wedstrijd/304
 92
END:VEVENT
BEGIN:VEVENT
UID:https://hbb.rivio.dev/senioren/2022/wedstrijd/30523
DTSTAMP:20260420T133831Z
SUMMARY:Con Brio 2 - RBC 2
DESCRIPTION:Baan 12\, Wedstrijdnummer 2117\, Afdeling 3e klasse I
DTSTART:20230112T200000
DTEND:20230112T230000
LOCATION:City Resort Helmond
ATTACH;FMTTYPE=text/plain:https://hbb.rivio.dev/senioren/2022/wedstrijd/305
 23
END:VEVENT
BEGIN:VEVENT
UID:https://hbb.rivio.dev/senioren/2022/wedstrijd/30533
DTSTAMP:20260420T133831Z
SUMMARY:Mierlo 5 - Con Brio 2
DESCRIPTION:Baan 14\, Wedstrijdnummer 2120\, Afdeling 3e klasse I
DTSTART:20230118T200000
DTEND:20230118T230000
LOCATION:City Resort Helmond
ATTACH;FMTTYPE=text/plain:https://hbb.rivio.dev/senioren/2022/wedstrijd/305
 33
END:VEVENT
BEGIN:VEVENT
UID:https://hbb.rivio.dev/senioren/2022/wedstrijd/30567
DTSTAMP:20260420T133831Z
SUMMARY:Heiakker 1 - Con Brio 2
DESCRIPTION:Baan 14\, Wedstrijdnummer 2125\, Afdeling 3e klasse I
DTSTART:20230202T200000
DTEND:20230202T230000
LOCATION:City Resort Helmond
ATTACH;FMTTYPE=text/plain:https://hbb.rivio.dev/senioren/2022/wedstrijd/305
 67
END:VEVENT
BEGIN:VEVENT
UID:https://hbb.rivio.dev/senioren/2022/wedstrijd/30597
DTSTAMP:20260420T133831Z
SUMMARY:Someren 3 - Con Brio 2
DESCRIPTION:Baan 5\, Wedstrijdnummer 2130\, Afdeling 3e klasse I
DTSTART:20230216T200000
DTEND:20230216T230000
LOCATION:City Resort Helmond
ATTACH;FMTTYPE=text/plain:https://hbb.rivio.dev/senioren/2022/wedstrijd/305
 97
END:VEVENT
BEGIN:VEVENT
UID:https://hbb.rivio.dev/senioren/2022/wedstrijd/30602
DTSTAMP:20260420T133831Z
SUMMARY:Mierlo 7 - Con Brio 2
DESCRIPTION:Baan 2\, Wedstrijdnummer 2135\, Afdeling 3e klasse I
DTSTART:20230301T200000
DTEND:20230301T230000
LOCATION:City Resort Helmond
ATTACH;FMTTYPE=text/plain:https://hbb.rivio.dev/senioren/2022/wedstrijd/306
 02
END:VEVENT
BEGIN:VEVENT
UID:https://hbb.rivio.dev/senioren/2022/wedstrijd/30624
DTSTAMP:20260420T133831Z
SUMMARY:Con Brio 2 - Gemert 1
DESCRIPTION:Baan 3\, Wedstrijdnummer 2139\, Afdeling 3e klasse I
DTSTART:20230315T200000
DTEND:20230315T230000
LOCATION:City Resort Helmond
ATTACH;FMTTYPE=text/plain:https://hbb.rivio.dev/senioren/2022/wedstrijd/306
 24
END:VEVENT
BEGIN:VEVENT
UID:https://hbb.rivio.dev/senioren/2022/wedstrijd/30648
DTSTAMP:20260420T133831Z
SUMMARY:Con Brio 2 - BCAB 2
DESCRIPTION:Baan 13\, Wedstrijdnummer 2142\, Afdeling 3e klasse I
DTSTART:20230323T200000
DTEND:20230323T230000
LOCATION:City Resort Helmond
ATTACH;FMTTYPE=text/plain:https://hbb.rivio.dev/senioren/2022/wedstrijd/306
 48
END:VEVENT
BEGIN:VTIMEZONE
TZID:Europe/Amsterdam
BEGIN:STANDARD
DTSTART:20220101T000000
TZNAME:CET
TZOFFSETTO:+0100
TZOFFSETFROM:+0100
END:STANDARD
BEGIN:DAYLIGHT
DTSTART:20220327T030000
TZNAME:CEST
TZOFFSETTO:+0200
TZOFFSETFROM:+0100
END:DAYLIGHT
BEGIN:STANDARD
DTSTART:20221030T020000
TZNAME:CET
TZOFFSETTO:+0100
TZOFFSETFROM:+0200
END:STANDARD
BEGIN:DAYLIGHT
DTSTART:20230326T030000
TZNAME:CEST
TZOFFSETTO:+0200
TZOFFSETFROM:+0100
END:DAYLIGHT
BEGIN:STANDARD
DTSTART:20231029T020000
TZNAME:CET
TZOFFSETTO:+0100
TZOFFSETFROM:+0200
END:STANDARD
END:VTIMEZONE
END:VCALENDAR
