BEGIN:VCALENDAR
PRODID:-//eluceo/ical//2.0/EN
VERSION:2.0
CALSCALE:GREGORIAN
BEGIN:VEVENT
UID:https://hbb.rivio.dev/senioren/2022/wedstrijd/30300
DTSTAMP:20260420T151457Z
SUMMARY:Geldrop 1 - Phoenix 2
DESCRIPTION:Baan 4\, Wedstrijdnummer 1080\, Afdeling Overgangsklasse 
DTSTART:20220929T200000
DTEND:20220929T230000
LOCATION:City Resort Helmond
ATTACH;FMTTYPE=text/plain:https://hbb.rivio.dev/senioren/2022/wedstrijd/303
 00
END:VEVENT
BEGIN:VEVENT
UID:https://hbb.rivio.dev/senioren/2022/wedstrijd/30339
DTSTAMP:20260420T151457Z
SUMMARY:Geldrop 1 - Mierlo 3
DESCRIPTION:Baan 3\, Wedstrijdnummer 1084\, Afdeling Overgangsklasse 
DTSTART:20221013T200000
DTEND:20221013T230000
LOCATION:City Resort Helmond
ATTACH;FMTTYPE=text/plain:https://hbb.rivio.dev/senioren/2022/wedstrijd/303
 39
END:VEVENT
BEGIN:VEVENT
UID:https://hbb.rivio.dev/senioren/2022/wedstrijd/30366
DTSTAMP:20260420T151457Z
SUMMARY:Bakel 2 - Geldrop 1
DESCRIPTION:Baan 15\, Wedstrijdnummer 1087\, Afdeling Overgangsklasse 
DTSTART:20221020T200000
DTEND:20221020T230000
LOCATION:City Resort Helmond
ATTACH;FMTTYPE=text/plain:https://hbb.rivio.dev/senioren/2022/wedstrijd/303
 66
END:VEVENT
BEGIN:VEVENT
UID:https://hbb.rivio.dev/senioren/2022/wedstrijd/30405
DTSTAMP:20260420T151457Z
SUMMARY:Smashing Bruang 2 - Geldrop 1
DESCRIPTION:Baan 14\, Wedstrijdnummer 1090\, Afdeling Overgangsklasse 
DTSTART:20221110T200000
DTEND:20221110T230000
LOCATION:City Resort Helmond
ATTACH;FMTTYPE=text/plain:https://hbb.rivio.dev/senioren/2022/wedstrijd/304
 05
END:VEVENT
BEGIN:VEVENT
UID:https://hbb.rivio.dev/senioren/2022/wedstrijd/30440
DTSTAMP:20260420T151457Z
SUMMARY:Mixed 3 - Geldrop 1
DESCRIPTION:Baan 4\, Wedstrijdnummer 1092\, Afdeling Overgangsklasse 
DTSTART:20221124T200000
DTEND:20221124T230000
LOCATION:City Resort Helmond
ATTACH;FMTTYPE=text/plain:https://hbb.rivio.dev/senioren/2022/wedstrijd/304
 40
END:VEVENT
BEGIN:VEVENT
UID:https://hbb.rivio.dev/senioren/2022/wedstrijd/30473
DTSTAMP:20260420T151457Z
SUMMARY:Geldrop 1 - Eindhoven 1
DESCRIPTION:Baan 1\, Wedstrijdnummer 1094\, Afdeling Overgangsklasse 
DTSTART:20221208T200000
DTEND:20221208T230000
LOCATION:City Resort Helmond
ATTACH;FMTTYPE=text/plain:https://hbb.rivio.dev/senioren/2022/wedstrijd/304
 73
END:VEVENT
BEGIN:VEVENT
UID:https://hbb.rivio.dev/senioren/2022/wedstrijd/30504
DTSTAMP:20260420T151457Z
SUMMARY:Phoenix 2 - Geldrop 1
DESCRIPTION:Baan 15\, Wedstrijdnummer 2024\, Afdeling Overgangsklasse 
DTSTART:20221221T200000
DTEND:20221221T230000
LOCATION:City Resort Helmond
ATTACH;FMTTYPE=text/plain:https://hbb.rivio.dev/senioren/2022/wedstrijd/305
 04
END:VEVENT
BEGIN:VEVENT
UID:https://hbb.rivio.dev/senioren/2022/wedstrijd/30540
DTSTAMP:20260420T151457Z
SUMMARY:Mierlo 3 - Geldrop 1
DESCRIPTION:Baan 13\, Wedstrijdnummer 2028\, Afdeling Overgangsklasse 
DTSTART:20230119T200000
DTEND:20230119T230000
LOCATION:City Resort Helmond
ATTACH;FMTTYPE=text/plain:https://hbb.rivio.dev/senioren/2022/wedstrijd/305
 40
END:VEVENT
BEGIN:VEVENT
UID:https://hbb.rivio.dev/senioren/2022/wedstrijd/30566
DTSTAMP:20260420T151457Z
SUMMARY:Geldrop 1 - Bakel 2
DESCRIPTION:Baan 13\, Wedstrijdnummer 2031\, Afdeling Overgangsklasse 
DTSTART:20230202T200000
DTEND:20230202T230000
LOCATION:City Resort Helmond
ATTACH;FMTTYPE=text/plain:https://hbb.rivio.dev/senioren/2022/wedstrijd/305
 66
END:VEVENT
BEGIN:VEVENT
UID:https://hbb.rivio.dev/senioren/2022/wedstrijd/30594
DTSTAMP:20260420T151457Z
SUMMARY:Geldrop 1 - Smashing Bruang 2
DESCRIPTION:Baan 2\, Wedstrijdnummer 2034\, Afdeling Overgangsklasse 
DTSTART:20230216T200000
DTEND:20230216T230000
LOCATION:City Resort Helmond
ATTACH;FMTTYPE=text/plain:https://hbb.rivio.dev/senioren/2022/wedstrijd/305
 94
END:VEVENT
BEGIN:VEVENT
UID:https://hbb.rivio.dev/senioren/2022/wedstrijd/30606
DTSTAMP:20260420T151457Z
SUMMARY:Geldrop 1 - Mixed 3
DESCRIPTION:Baan 2\, Wedstrijdnummer 2036\, Afdeling Overgangsklasse 
DTSTART:20230302T200000
DTEND:20230302T230000
LOCATION:City Resort Helmond
ATTACH;FMTTYPE=text/plain:https://hbb.rivio.dev/senioren/2022/wedstrijd/306
 06
END:VEVENT
BEGIN:VEVENT
UID:https://hbb.rivio.dev/senioren/2022/wedstrijd/30630
DTSTAMP:20260420T151457Z
SUMMARY:Eindhoven 1 - Geldrop 1
DESCRIPTION:Baan 4\, Wedstrijdnummer 2038\, Afdeling Overgangsklasse 
DTSTART:20230316T200000
DTEND:20230316T230000
LOCATION:City Resort Helmond
ATTACH;FMTTYPE=text/plain:https://hbb.rivio.dev/senioren/2022/wedstrijd/306
 30
END:VEVENT
BEGIN:VTIMEZONE
TZID:Europe/Amsterdam
BEGIN:STANDARD
DTSTART:20220101T000000
TZNAME:CET
TZOFFSETTO:+0100
TZOFFSETFROM:+0100
END:STANDARD
BEGIN:DAYLIGHT
DTSTART:20220327T030000
TZNAME:CEST
TZOFFSETTO:+0200
TZOFFSETFROM:+0100
END:DAYLIGHT
BEGIN:STANDARD
DTSTART:20221030T020000
TZNAME:CET
TZOFFSETTO:+0100
TZOFFSETFROM:+0200
END:STANDARD
BEGIN:DAYLIGHT
DTSTART:20230326T030000
TZNAME:CEST
TZOFFSETTO:+0200
TZOFFSETFROM:+0100
END:DAYLIGHT
BEGIN:STANDARD
DTSTART:20231029T020000
TZNAME:CET
TZOFFSETTO:+0100
TZOFFSETFROM:+0200
END:STANDARD
END:VTIMEZONE
END:VCALENDAR
