BEGIN:VCALENDAR
PRODID:-//eluceo/ical//2.0/EN
VERSION:2.0
CALSCALE:GREGORIAN
BEGIN:VEVENT
UID:https://hbb.rivio.dev/senioren/2022/wedstrijd/30315
DTSTAMP:20260419T150421Z
SUMMARY:Phoenix 4 - Ganzeveer 4
DESCRIPTION:Baan 14\, Wedstrijdnummer 1222\, Afdeling 4e klasse II
DTSTART:20221005T200000
DTEND:20221005T230000
LOCATION:City Resort Helmond
ATTACH;FMTTYPE=text/plain:https://hbb.rivio.dev/senioren/2022/wedstrijd/303
 15
END:VEVENT
BEGIN:VEVENT
UID:https://hbb.rivio.dev/senioren/2022/wedstrijd/30361
DTSTAMP:20260419T150421Z
SUMMARY:Someren 6 - Phoenix 4
DESCRIPTION:Baan 5\, Wedstrijdnummer 1226\, Afdeling 4e klasse II
DTSTART:20221020T200000
DTEND:20221020T230000
LOCATION:City Resort Helmond
ATTACH;FMTTYPE=text/plain:https://hbb.rivio.dev/senioren/2022/wedstrijd/303
 61
END:VEVENT
BEGIN:VEVENT
UID:https://hbb.rivio.dev/senioren/2022/wedstrijd/30389
DTSTAMP:20260419T150421Z
SUMMARY:De Valken 4 - Phoenix 4
DESCRIPTION:Baan 3\, Wedstrijdnummer 1229\, Afdeling 4e klasse II
DTSTART:20221109T200000
DTEND:20221109T230000
LOCATION:City Resort Helmond
ATTACH;FMTTYPE=text/plain:https://hbb.rivio.dev/senioren/2022/wedstrijd/303
 89
END:VEVENT
BEGIN:VEVENT
UID:https://hbb.rivio.dev/senioren/2022/wedstrijd/30438
DTSTAMP:20260419T150421Z
SUMMARY:Hanevoet 3 - Phoenix 4
DESCRIPTION:Baan 2\, Wedstrijdnummer 1232\, Afdeling 4e klasse II
DTSTART:20221124T200000
DTEND:20221124T230000
LOCATION:City Resort Helmond
ATTACH;FMTTYPE=text/plain:https://hbb.rivio.dev/senioren/2022/wedstrijd/304
 38
END:VEVENT
BEGIN:VEVENT
UID:https://hbb.rivio.dev/senioren/2022/wedstrijd/30454
DTSTAMP:20260419T150421Z
SUMMARY:Mierlo 9 - Phoenix 4
DESCRIPTION:Baan 13\, Wedstrijdnummer 1235\, Afdeling 4e klasse II
DTSTART:20221130T200000
DTEND:20221130T230000
LOCATION:City Resort Helmond
ATTACH;FMTTYPE=text/plain:https://hbb.rivio.dev/senioren/2022/wedstrijd/304
 54
END:VEVENT
BEGIN:VEVENT
UID:https://hbb.rivio.dev/senioren/2022/wedstrijd/30480
DTSTAMP:20260419T150421Z
SUMMARY:Phoenix 4 - Bakel 5
DESCRIPTION:Baan 11\, Wedstrijdnummer 1240\, Afdeling 4e klasse II
DTSTART:20221214T200000
DTEND:20221214T230000
LOCATION:City Resort Helmond
ATTACH;FMTTYPE=text/plain:https://hbb.rivio.dev/senioren/2022/wedstrijd/304
 80
END:VEVENT
BEGIN:VEVENT
UID:https://hbb.rivio.dev/senioren/2022/wedstrijd/30501
DTSTAMP:20260419T150421Z
SUMMARY:Phoenix 4 - Gemert 3
DESCRIPTION:Baan 12\, Wedstrijdnummer 1245\, Afdeling 4e klasse II
DTSTART:20221221T200000
DTEND:20221221T230000
LOCATION:City Resort Helmond
ATTACH;FMTTYPE=text/plain:https://hbb.rivio.dev/senioren/2022/wedstrijd/305
 01
END:VEVENT
BEGIN:VEVENT
UID:https://hbb.rivio.dev/senioren/2022/wedstrijd/30532
DTSTAMP:20260419T150421Z
SUMMARY:Ganzeveer 4 - Phoenix 4
DESCRIPTION:Baan 13\, Wedstrijdnummer 2199\, Afdeling 4e klasse II
DTSTART:20230118T200000
DTEND:20230118T230000
LOCATION:City Resort Helmond
ATTACH;FMTTYPE=text/plain:https://hbb.rivio.dev/senioren/2022/wedstrijd/305
 32
END:VEVENT
BEGIN:VEVENT
UID:https://hbb.rivio.dev/senioren/2022/wedstrijd/30549
DTSTAMP:20260419T150421Z
SUMMARY:Phoenix 4 - Someren 6
DESCRIPTION:Baan 13\, Wedstrijdnummer 2203\, Afdeling 4e klasse II
DTSTART:20230125T200000
DTEND:20230125T230000
LOCATION:City Resort Helmond
ATTACH;FMTTYPE=text/plain:https://hbb.rivio.dev/senioren/2022/wedstrijd/305
 49
END:VEVENT
BEGIN:VEVENT
UID:https://hbb.rivio.dev/senioren/2022/wedstrijd/30577
DTSTAMP:20260419T150421Z
SUMMARY:Phoenix 4 - De Valken 4
DESCRIPTION:Baan 14\, Wedstrijdnummer 2206\, Afdeling 4e klasse II
DTSTART:20230208T200000
DTEND:20230208T230000
LOCATION:City Resort Helmond
ATTACH;FMTTYPE=text/plain:https://hbb.rivio.dev/senioren/2022/wedstrijd/305
 77
END:VEVENT
BEGIN:VEVENT
UID:https://hbb.rivio.dev/senioren/2022/wedstrijd/30601
DTSTAMP:20260419T150421Z
SUMMARY:Phoenix 4 - Hanevoet 3
DESCRIPTION:Baan 1\, Wedstrijdnummer 2209\, Afdeling 4e klasse II
DTSTART:20230301T200000
DTEND:20230301T230000
LOCATION:City Resort Helmond
ATTACH;FMTTYPE=text/plain:https://hbb.rivio.dev/senioren/2022/wedstrijd/306
 01
END:VEVENT
BEGIN:VEVENT
UID:https://hbb.rivio.dev/senioren/2022/wedstrijd/30615
DTSTAMP:20260419T150421Z
SUMMARY:Phoenix 4 - Mierlo 9
DESCRIPTION:Baan 2\, Wedstrijdnummer 2212\, Afdeling 4e klasse II
DTSTART:20230308T200000
DTEND:20230308T230000
LOCATION:City Resort Helmond
ATTACH;FMTTYPE=text/plain:https://hbb.rivio.dev/senioren/2022/wedstrijd/306
 15
END:VEVENT
BEGIN:VEVENT
UID:https://hbb.rivio.dev/senioren/2022/wedstrijd/30645
DTSTAMP:20260419T150421Z
SUMMARY:Bakel 5 - Phoenix 4
DESCRIPTION:Baan 5\, Wedstrijdnummer 2217\, Afdeling 4e klasse II
DTSTART:20230323T200000
DTEND:20230323T230000
LOCATION:City Resort Helmond
ATTACH;FMTTYPE=text/plain:https://hbb.rivio.dev/senioren/2022/wedstrijd/306
 45
END:VEVENT
BEGIN:VEVENT
UID:https://hbb.rivio.dev/senioren/2022/wedstrijd/30660
DTSTAMP:20260419T150421Z
SUMMARY:Gemert 3 - Phoenix 4
DESCRIPTION:Baan 13\, Wedstrijdnummer 2222\, Afdeling 4e klasse II
DTSTART:20230405T200000
DTEND:20230405T230000
LOCATION:City Resort Helmond
ATTACH;FMTTYPE=text/plain:https://hbb.rivio.dev/senioren/2022/wedstrijd/306
 60
END:VEVENT
BEGIN:VTIMEZONE
TZID:Europe/Amsterdam
BEGIN:STANDARD
DTSTART:20220101T000000
TZNAME:CET
TZOFFSETTO:+0100
TZOFFSETFROM:+0100
END:STANDARD
BEGIN:DAYLIGHT
DTSTART:20220327T030000
TZNAME:CEST
TZOFFSETTO:+0200
TZOFFSETFROM:+0100
END:DAYLIGHT
BEGIN:STANDARD
DTSTART:20221030T020000
TZNAME:CET
TZOFFSETTO:+0100
TZOFFSETFROM:+0200
END:STANDARD
BEGIN:DAYLIGHT
DTSTART:20230326T030000
TZNAME:CEST
TZOFFSETTO:+0200
TZOFFSETFROM:+0100
END:DAYLIGHT
BEGIN:STANDARD
DTSTART:20231029T020000
TZNAME:CET
TZOFFSETTO:+0100
TZOFFSETFROM:+0200
END:STANDARD
END:VTIMEZONE
END:VCALENDAR
