BEGIN:VCALENDAR
PRODID:-//eluceo/ical//2.0/EN
VERSION:2.0
CALSCALE:GREGORIAN
BEGIN:VEVENT
UID:https://hbb.rivio.dev/senioren/2022/wedstrijd/30299
DTSTAMP:20260419T150338Z
SUMMARY:Bakel 2 - Smashing Bruang 2
DESCRIPTION:Baan 3\, Wedstrijdnummer 1079\, Afdeling Overgangsklasse 
DTSTART:20220929T200000
DTEND:20220929T230000
LOCATION:City Resort Helmond
ATTACH;FMTTYPE=text/plain:https://hbb.rivio.dev/senioren/2022/wedstrijd/302
 99
END:VEVENT
BEGIN:VEVENT
UID:https://hbb.rivio.dev/senioren/2022/wedstrijd/30337
DTSTAMP:20260419T150338Z
SUMMARY:Smashing Bruang 2 - Eindhoven 1
DESCRIPTION:Baan 1\, Wedstrijdnummer 1082\, Afdeling Overgangsklasse 
DTSTART:20221013T200000
DTEND:20221013T230000
LOCATION:City Resort Helmond
ATTACH;FMTTYPE=text/plain:https://hbb.rivio.dev/senioren/2022/wedstrijd/303
 37
END:VEVENT
BEGIN:VEVENT
UID:https://hbb.rivio.dev/senioren/2022/wedstrijd/30365
DTSTAMP:20260419T150338Z
SUMMARY:Smashing Bruang 2 - Mixed 3
DESCRIPTION:Baan 14\, Wedstrijdnummer 1086\, Afdeling Overgangsklasse 
DTSTART:20221020T200000
DTEND:20221020T230000
LOCATION:City Resort Helmond
ATTACH;FMTTYPE=text/plain:https://hbb.rivio.dev/senioren/2022/wedstrijd/303
 65
END:VEVENT
BEGIN:VEVENT
UID:https://hbb.rivio.dev/senioren/2022/wedstrijd/30405
DTSTAMP:20260419T150338Z
SUMMARY:Smashing Bruang 2 - Geldrop 1
DESCRIPTION:Baan 14\, Wedstrijdnummer 1090\, Afdeling Overgangsklasse 
DTSTART:20221110T200000
DTEND:20221110T230000
LOCATION:City Resort Helmond
ATTACH;FMTTYPE=text/plain:https://hbb.rivio.dev/senioren/2022/wedstrijd/304
 05
END:VEVENT
BEGIN:VEVENT
UID:https://hbb.rivio.dev/senioren/2022/wedstrijd/30447
DTSTAMP:20260419T150338Z
SUMMARY:Phoenix 2 - Smashing Bruang 2
DESCRIPTION:Baan 1\, Wedstrijdnummer 1096\, Afdeling Overgangsklasse 
DTSTART:20221130T200000
DTEND:20221130T230000
LOCATION:City Resort Helmond
ATTACH;FMTTYPE=text/plain:https://hbb.rivio.dev/senioren/2022/wedstrijd/304
 47
END:VEVENT
BEGIN:VEVENT
UID:https://hbb.rivio.dev/senioren/2022/wedstrijd/30491
DTSTAMP:20260419T150338Z
SUMMARY:Mierlo 3 - Smashing Bruang 2
DESCRIPTION:Baan 12\, Wedstrijdnummer 1098\, Afdeling Overgangsklasse 
DTSTART:20221215T200000
DTEND:20221215T230000
LOCATION:City Resort Helmond
ATTACH;FMTTYPE=text/plain:https://hbb.rivio.dev/senioren/2022/wedstrijd/304
 91
END:VEVENT
BEGIN:VEVENT
UID:https://hbb.rivio.dev/senioren/2022/wedstrijd/30522
DTSTAMP:20260419T150338Z
SUMMARY:Smashing Bruang 2 - Bakel 2
DESCRIPTION:Baan 11\, Wedstrijdnummer 2023\, Afdeling Overgangsklasse 
DTSTART:20230112T200000
DTEND:20230112T230000
LOCATION:City Resort Helmond
ATTACH;FMTTYPE=text/plain:https://hbb.rivio.dev/senioren/2022/wedstrijd/305
 22
END:VEVENT
BEGIN:VEVENT
UID:https://hbb.rivio.dev/senioren/2022/wedstrijd/30541
DTSTAMP:20260419T150338Z
SUMMARY:Eindhoven 1 - Smashing Bruang 2
DESCRIPTION:Baan 14\, Wedstrijdnummer 2026\, Afdeling Overgangsklasse 
DTSTART:20230119T200000
DTEND:20230119T230000
LOCATION:City Resort Helmond
ATTACH;FMTTYPE=text/plain:https://hbb.rivio.dev/senioren/2022/wedstrijd/305
 41
END:VEVENT
BEGIN:VEVENT
UID:https://hbb.rivio.dev/senioren/2022/wedstrijd/30565
DTSTAMP:20260419T150338Z
SUMMARY:Mixed 3 - Smashing Bruang 2
DESCRIPTION:Baan 12\, Wedstrijdnummer 2030\, Afdeling Overgangsklasse 
DTSTART:20230202T200000
DTEND:20230202T230000
LOCATION:City Resort Helmond
ATTACH;FMTTYPE=text/plain:https://hbb.rivio.dev/senioren/2022/wedstrijd/305
 65
END:VEVENT
BEGIN:VEVENT
UID:https://hbb.rivio.dev/senioren/2022/wedstrijd/30594
DTSTAMP:20260419T150338Z
SUMMARY:Geldrop 1 - Smashing Bruang 2
DESCRIPTION:Baan 2\, Wedstrijdnummer 2034\, Afdeling Overgangsklasse 
DTSTART:20230216T200000
DTEND:20230216T230000
LOCATION:City Resort Helmond
ATTACH;FMTTYPE=text/plain:https://hbb.rivio.dev/senioren/2022/wedstrijd/305
 94
END:VEVENT
BEGIN:VEVENT
UID:https://hbb.rivio.dev/senioren/2022/wedstrijd/30623
DTSTAMP:20260419T150338Z
SUMMARY:Smashing Bruang 2 - Phoenix 2
DESCRIPTION:Baan 2\, Wedstrijdnummer 2040\, Afdeling Overgangsklasse 
DTSTART:20230315T200000
DTEND:20230315T230000
LOCATION:City Resort Helmond
ATTACH;FMTTYPE=text/plain:https://hbb.rivio.dev/senioren/2022/wedstrijd/306
 23
END:VEVENT
BEGIN:VEVENT
UID:https://hbb.rivio.dev/senioren/2022/wedstrijd/30654
DTSTAMP:20260419T150338Z
SUMMARY:Smashing Bruang 2 - Mierlo 3
DESCRIPTION:Baan 4\, Wedstrijdnummer 2042\, Afdeling Overgangsklasse 
DTSTART:20230330T200000
DTEND:20230330T230000
LOCATION:City Resort Helmond
ATTACH;FMTTYPE=text/plain:https://hbb.rivio.dev/senioren/2022/wedstrijd/306
 54
END:VEVENT
BEGIN:VTIMEZONE
TZID:Europe/Amsterdam
BEGIN:STANDARD
DTSTART:20220101T000000
TZNAME:CET
TZOFFSETTO:+0100
TZOFFSETFROM:+0100
END:STANDARD
BEGIN:DAYLIGHT
DTSTART:20220327T030000
TZNAME:CEST
TZOFFSETTO:+0200
TZOFFSETFROM:+0100
END:DAYLIGHT
BEGIN:STANDARD
DTSTART:20221030T020000
TZNAME:CET
TZOFFSETTO:+0100
TZOFFSETFROM:+0200
END:STANDARD
BEGIN:DAYLIGHT
DTSTART:20230326T030000
TZNAME:CEST
TZOFFSETTO:+0200
TZOFFSETFROM:+0100
END:DAYLIGHT
BEGIN:STANDARD
DTSTART:20231029T020000
TZNAME:CET
TZOFFSETTO:+0100
TZOFFSETFROM:+0200
END:STANDARD
END:VTIMEZONE
END:VCALENDAR
