BEGIN:VCALENDAR
PRODID:-//eluceo/ical//2.0/EN
VERSION:2.0
CALSCALE:GREGORIAN
BEGIN:VEVENT
UID:https://hbb.rivio.dev/jeugd/2022/wedstrijd/30673
DTSTAMP:20260419T150258Z
SUMMARY:Phoenix 4 - Gemert 2
DESCRIPTION:Baan 1\, Wedstrijdnummer 12\, Afdeling H-klasse 
DTSTART:20221009T093000
DTEND:20221009T111500
LOCATION:City Resort Helmond
ATTACH;FMTTYPE=text/plain:https://hbb.rivio.dev/jeugd/2022/wedstrijd/30673
END:VEVENT
BEGIN:VEVENT
UID:https://hbb.rivio.dev/jeugd/2022/wedstrijd/30700
DTSTAMP:20260419T150258Z
SUMMARY:Someren 1 - Phoenix 4
DESCRIPTION:Baan 10\, Wedstrijdnummer 30\, Afdeling H-klasse 
DTSTART:20221106T093000
DTEND:20221106T111500
LOCATION:City Resort Helmond
ATTACH;FMTTYPE=text/plain:https://hbb.rivio.dev/jeugd/2022/wedstrijd/30700
END:VEVENT
BEGIN:VEVENT
UID:https://hbb.rivio.dev/jeugd/2022/wedstrijd/30708
DTSTAMP:20260419T150258Z
SUMMARY:Phoenix 4 - Phoenix 3
DESCRIPTION:Baan 3\, Wedstrijdnummer 47\, Afdeling H-klasse 
DTSTART:20221113T093000
DTEND:20221113T111500
LOCATION:City Resort Helmond
ATTACH;FMTTYPE=text/plain:https://hbb.rivio.dev/jeugd/2022/wedstrijd/30708
END:VEVENT
BEGIN:VEVENT
UID:https://hbb.rivio.dev/jeugd/2022/wedstrijd/30725
DTSTAMP:20260419T150258Z
SUMMARY:Gemert 2 - Phoenix 4
DESCRIPTION:Baan 15\, Wedstrijdnummer 64\, Afdeling H-klasse 
DTSTART:20221120T093000
DTEND:20221120T111500
LOCATION:City Resort Helmond
ATTACH;FMTTYPE=text/plain:https://hbb.rivio.dev/jeugd/2022/wedstrijd/30725
END:VEVENT
BEGIN:VEVENT
UID:https://hbb.rivio.dev/jeugd/2022/wedstrijd/30734
DTSTAMP:20260419T150258Z
SUMMARY:Phoenix 4 - Someren 1
DESCRIPTION:Baan 14\, Wedstrijdnummer 73\, Afdeling H-klasse 
DTSTART:20221127T093000
DTEND:20221127T111500
LOCATION:City Resort Helmond
ATTACH;FMTTYPE=text/plain:https://hbb.rivio.dev/jeugd/2022/wedstrijd/30734
END:VEVENT
BEGIN:VEVENT
UID:https://hbb.rivio.dev/jeugd/2022/wedstrijd/30744
DTSTAMP:20260419T150258Z
SUMMARY:Phoenix 3 - Phoenix 4
DESCRIPTION:Baan 14\, Wedstrijdnummer 83\, Afdeling H-klasse 
DTSTART:20221211T093000
DTEND:20221211T111500
LOCATION:City Resort Helmond
ATTACH;FMTTYPE=text/plain:https://hbb.rivio.dev/jeugd/2022/wedstrijd/30744
END:VEVENT
BEGIN:VTIMEZONE
TZID:Europe/Amsterdam
BEGIN:STANDARD
DTSTART:20220101T000000
TZNAME:CET
TZOFFSETTO:+0100
TZOFFSETFROM:+0100
END:STANDARD
BEGIN:DAYLIGHT
DTSTART:20220327T030000
TZNAME:CEST
TZOFFSETTO:+0200
TZOFFSETFROM:+0100
END:DAYLIGHT
BEGIN:STANDARD
DTSTART:20221030T020000
TZNAME:CET
TZOFFSETTO:+0100
TZOFFSETFROM:+0200
END:STANDARD
END:VTIMEZONE
END:VCALENDAR
