BEGIN:VCALENDAR
PRODID:-//eluceo/ical//2.0/EN
VERSION:2.0
CALSCALE:GREGORIAN
BEGIN:VEVENT
UID:https://hbb.rivio.dev/jeugd/2022/wedstrijd/30668
DTSTAMP:20260419T150333Z
SUMMARY:Mierlo 4 - Mixed 2
DESCRIPTION:Baan 11\, Wedstrijdnummer 7\, Afdeling E-klasse 
DTSTART:20221002T093000
DTEND:20221002T111500
LOCATION:City Resort Helmond
ATTACH;FMTTYPE=text/plain:https://hbb.rivio.dev/jeugd/2022/wedstrijd/30668
END:VEVENT
BEGIN:VEVENT
UID:https://hbb.rivio.dev/jeugd/2022/wedstrijd/30702
DTSTAMP:20260419T150333Z
SUMMARY:Brabantia 1 - Mixed 2
DESCRIPTION:Baan 12\, Wedstrijdnummer 41\, Afdeling E-klasse 
DTSTART:20221106T093000
DTEND:20221106T111500
LOCATION:City Resort Helmond
ATTACH;FMTTYPE=text/plain:https://hbb.rivio.dev/jeugd/2022/wedstrijd/30702
END:VEVENT
BEGIN:VEVENT
UID:https://hbb.rivio.dev/jeugd/2022/wedstrijd/30713
DTSTAMP:20260419T150333Z
SUMMARY:Mixed 2 - Gemert 1
DESCRIPTION:Baan 13\, Wedstrijdnummer 52\, Afdeling E-klasse 
DTSTART:20221113T093000
DTEND:20221113T111500
LOCATION:City Resort Helmond
ATTACH;FMTTYPE=text/plain:https://hbb.rivio.dev/jeugd/2022/wedstrijd/30713
END:VEVENT
BEGIN:VEVENT
UID:https://hbb.rivio.dev/jeugd/2022/wedstrijd/30751
DTSTAMP:20260419T150333Z
SUMMARY:Mixed 2 - Phoenix 1
DESCRIPTION:Baan 11\, Wedstrijdnummer 90\, Afdeling E-klasse 
DTSTART:20221218T093000
DTEND:20221218T111500
LOCATION:City Resort Helmond
ATTACH;FMTTYPE=text/plain:https://hbb.rivio.dev/jeugd/2022/wedstrijd/30751
END:VEVENT
BEGIN:VTIMEZONE
TZID:Europe/Amsterdam
BEGIN:STANDARD
DTSTART:20220101T000000
TZNAME:CET
TZOFFSETTO:+0100
TZOFFSETFROM:+0100
END:STANDARD
BEGIN:DAYLIGHT
DTSTART:20220327T030000
TZNAME:CEST
TZOFFSETTO:+0200
TZOFFSETFROM:+0100
END:DAYLIGHT
BEGIN:STANDARD
DTSTART:20221030T020000
TZNAME:CET
TZOFFSETTO:+0100
TZOFFSETFROM:+0200
END:STANDARD
END:VTIMEZONE
END:VCALENDAR
